Workbook

Sheet START
B2: K1 | F2: ="KEYONE / "&Lang!$B$20
F4: =Lang!$B$21
B7: =HYPERLINK("#'START'!A1",Lang!$B$2) | D7: =HYPERLINK("#'Dashboard'!A1",Lang!$B$3) | F7: =HYPERLINK("#'Orders'!A1",Lang!$B$17) | H7: =HYPERLINK("#'Products'!A1",Lang!$B$18) | J7: =HYPERLINK("#'Marketing'!A1",Lang!$B$19) | L7: =HYPERLINK("#'Settings'!A1",Lang!$B$4)
B9: =Lang!$B$22
B13: 01 | E13: =Lang!$B$23
E14: =Lang!$B$24
B17: 02 | E17: =Lang!$B$25
E18: =Lang!$B$26
B21: 03 | E21: =Lang!$B$27
E22: =Lang!$B$28
B25: 04 | E25: =Lang!$B$29
E26: =Lang!$B$30
B30: =Lang!$B$31
B32: =Lang!$B$5
B35: =Lang!$B$6
B36: Keywan Fakhri | I36: =Lang!$B$7
B38: =Lang!$B$8
B39: =HYPERLINK("https://keywanfakhri.com","keywanfakhri.com") | F39: =HYPERLINK("mailto:keywanfakhri1@gmail.com","keywanfakhri1@gmail.com") | L39: =HYPERLINK("https://www.linkedin.com/in/rahmatallah-keywan-fakhri/","LinkedIn: rahmatallah-keywan-fakhri")

Sheet Dashboard
B2: K1 | E2: ="KEYONE / "&Lang!$B$41
E3: =Lang!$B$42
B4: =HYPERLINK("#'START'!A1",Lang!$B$2) | D4: =HYPERLINK("#'Dashboard'!A1",Lang!$B$3) | F4: =HYPERLINK("#'Orders'!A1",Lang!$B$17) | H4: =HYPERLINK("#'Products'!A1",Lang!$B$18) | J4: =HYPERLINK("#'Marketing'!A1",Lang!$B$19) | L4: =HYPERLINK("#'Settings'!A1",Lang!$B$4)
B6: =Lang!$B$33 | H6: =Lang!$B$13 | K6: =Lang!$B$14 | O6: =Lang!$B$43
B7: =Settings!$D$8 | H7: 2026 | K7: Full year | O7: All
B8: =Lang!$B$44
B10: =Lang!$B$45 | E10: =Lang!$B$46 | H10: =Lang!$B$47 | K10: =Lang!$B$48 | N10: =Lang!$B$49 | Q10: =Lang!$B$50
B11: =Calc!$B$8 | E11: =Calc!$B$9 | H11: =Calc!$B$12 | K11: =Calc!$B$13 | N11: =IF(Calc!$B$10-Calc!$B$11<=0,0,Calc!$B$8/(Calc!$B$10-Calc!$B$11)) | Q11: =IF(Calc!$B$10=0,0,Calc!$B$11/Calc!$B$10)
B13: =Lang!$B$51 | D13: =Calc!$B$10 | E13: =Lang!$B$16 | G13: =IF(B11=0,0,E11/B11) | H13: =Lang!$B$52 | J13: =IF(H11=0,0,B11/H11) | K13: =Lang!$B$16 | M13: =IF(B11=0,0,K11/B11) | N13: =Lang!$B$53 | P13: =IF(Calc!$B$10=0,0,K11/Calc!$B$10) | Q13: =Lang!$B$54 | S13: =Calc!$B$11
B16: =Lang!$B$55 | M16: =Lang!$B$12
M18: =Lang!$B$62
M19: =INDEX(Calc!$A$40:$A$47,MATCH(MAX(Calc!$I$40:$I$47),Calc!$I$40:$I$47,0)) | Q19: =MAX(Calc!$I$40:$I$47)
M22: =Lang!$B$63
M23: =Calc!$A$50 | Q23: =Calc!$B$50
M26: =Lang!$B$64
M27: =IF(MIN(Calc!$G$60:$G$359)>=9,"–",INDEX(Calc!$B$60:$B$359,MATCH(MIN(Calc!$G$60:$G$359),Calc!$G$60:$G$359,0))) | Q27: =IF(MIN(Calc!$G$60:$G$359)>=9,"",MIN(Calc!$G$60:$G$359))
M30: =Lang!$B$65
M31: =INDEX(Calc!$A$40:$A$47,MATCH(MAX(Calc!$J$40:$J$47),Calc!$J$40:$J$47,0)) | Q31: =MAX(Calc!$J$40:$J$47)
B35: =Lang!$B$57 | M35: =Lang!$B$56
B55: =Lang!$B$31
B56: =Lang!$B$5

Sheet Orders
A1: ="KEYONE / "&Lang!$B$79
A3: =Lang!$B$80
A5: =HYPERLINK("#'START'!A1",Lang!$B$2) | B5: =HYPERLINK("#'Dashboard'!A1",Lang!$B$3) | C5: =HYPERLINK("#'Settings'!A1",Lang!$B$4)
A7: =Lang!$B$66 | B7: =Lang!$B$67 | C7: =Lang!$B$35 | D7: =Lang!$B$68 | E7: =Lang!$B$69 | F7: =Lang!$B$70 | G7: =Lang!$B$71 | H7: =Lang!$B$72 | I7: =Lang!$B$73 | J7: =Lang!$B$74 | K7: =Lang!$B$75 | L7: =Lang!$B$76 | M7: =Lang!$B$77 | N7: =Lang!$B$78
A8: 46023 | B8: BL26001 | C8: eBay | D8: BL-403 | E8: 1 | F8: 10.84 | G8: 0 | H8: 3.28 | I8: 5.11 | J8: x | K8: =IF(OR($A8="",$E8=""),"",IF($P8=1,0,N($E8)*N($F8)-N($G8)+N($H8))) | L8: =IF(K8="","",IF($P8=1,0,N($E8)*IFERROR(INDEX(Products!$D$8:$D$307,MATCH($D8,Products!$A$8:$A$307,0)),0))) | M8: =IF(OR(K8="",$O8=0),IF(K8="","",0),IF($P8=1,0,K8*(N(INDEX(Settings!$E$11:$E$18,$O8))+N(INDEX(Settings!$G$11:$G$18,$O8)))+N(INDEX(Settings!$F$11:$F$18,$O8)))) | N8: =IF(K8="","",K8-L8-M8-N($I8)-$P8*N(Settings!$D$20)) | O8: =IF($C8="",0,IFERROR(MATCH($C8,Settings!$D$11:$D$18,0),0)) | P8: =IF(LOWER(TRIM($J8&""))="x",1,0)
A9: 46023 | B9: BL26002 | C9: Amazon | D9: BL-403 | E9: 1 | F9: 11.38 | G9: 0 | H9: 0 | I9: 5.09 | J9: x | K9: =IF(OR($A9="",$E9=""),"",IF($P9=1,0,N($E9)*N($F9)-N($G9)+N($H9))) | L9: =IF(K9="","",IF($P9=1,0,N($E9)*IFERROR(INDEX(Products!$D$8:$D$307,MATCH($D9,Products!$A$8:$A$307,0)),0))) | M9: =IF(OR(K9="",$O9=0),IF(K9="","",0),IF($P9=1,0,K9*(N(INDEX(Settings!$E$11:$E$18,$O9))+N(INDEX(Settings!$G$11:$G$18,$O9)))+N(INDEX(Settings!$F$11:$F$18,$O9)))) | N9: =IF(K9="","",K9-L9-M9-N($I9)-$P9*N(Settings!$D$20)) | O9: =IF($C9="",0,IFERROR(MATCH($C9,Settings!$D$11:$D$18,0),0)) | P9: =IF(LOWER(TRIM($J9&""))="x",1,0)
A10: 46023 | B10: BL26003 | C10: Amazon | D10: BL-104 | E10: 1 | F10: 8.74 | G10: 0 | H10: 0 | I10: 4.73 | J10: x | K10: =IF(OR($A10="",$E10=""),"",IF($P10=1,0,N($E10)*N($F10)-N($G10)+N($H10))) | L10: =IF(K10="","",IF($P10=1,0,N($E10)*IFERROR(INDEX(Products!$D$8:$D$307,MATCH($D10,Products!$A$8:$A$307,0)),0))) | M10: =IF(OR(K10="",$O10=0),IF(K10="","",0),IF($P10=1,0,K10*(N(INDEX(Settings!$E$11:$E$18,$O10))+N(INDEX(Settings!$G$11:$G$18,$O10)))+N(INDEX(Settings!$F$11:$F$18,$O10)))) | N10: =IF(K10="","",K10-L10-M10-N($I10)-$P10*N(Settings!$D$20)) | O10: =IF($C10="",0,IFERROR(MATCH($C10,Settings!$D$11:$D$18,0),0)) | P10: =IF(LOWER(TRIM($J10&""))="x",1,0)
A11: 46023 | B11: BL26004 | C11: Own shop | D11: BL-104 | E11: 1 | F11: 8.32 | G11: 0 | H11: 4.12 | I11: 4.28 | K11: =IF(OR($A11="",$E11=""),"",IF($P11=1,0,N($E11)*N($F11)-N($G11)+N($H11))) | L11: =IF(K11="","",IF($P11=1,0,N($E11)*IFERROR(INDEX(Products!$D$8:$D$307,MATCH($D11,Products!$A$8:$A$307,0)),0))) | M11: =IF(OR(K11="",$O11=0),IF(K11="","",0),IF($P11=1,0,K11*(N(INDEX(Settings!$E$11:$E$18,$O11))+N(INDEX(Settings!$G$11:$G$18,$O11)))+N(INDEX(Settings!$F$11:$F$18,$O11)))) | N11: =IF(K11="","",K11-L11-M11-N($I11)-$P11*N(Settings!$D$20)) | O11: =IF($C11="",0,IFERROR(MATCH($C11,Settings!$D$11:$D$18,0),0)) | P11: =IF(LOWER(TRIM($J11&""))="x",1,0)
A12: 46023 | B12: BL26005 | C12: Own shop | D12: BL-204 | E12: 2 | F12: 19.24 | G12: 3.85 | H12: 4.12 | I12: 5.06 | K12: =IF(OR($A12="",$E12=""),"",IF($P12=1,0,N($E12)*N($F12)-N($G12)+N($H12))) | L12: =IF(K12="","",IF($P12=1,0,N($E12)*IFERROR(INDEX(Products!$D$8:$D$307,MATCH($D12,Products!$A$8:$A$307,0)),0))) | M12: =IF(OR(K12="",$O12=0),IF(K12="","",0),IF($P12=1,0,K12*(N(INDEX(Settings!$E$11:$E$18,$O12))+N(INDEX(Settings!$G$11:$G$18,$O12)))+N(INDEX(Settings!$F$11:$F$18,$O12)))) | N12: =IF(K12="","",K12-L12-M12-N($I12)-$P12*N(Settings!$D$20)) | O12: =IF($C12="",0,IFERROR(MATCH($C12,Settings!$D$11:$D$18,0),0)) | P12: =IF(LOWER(TRIM($J12&""))="x",1,0)
A13: 46024 | B13: BL26006 | C13: Own shop | D13: BL-403 | E13: 1 | F13: 10.84 | G13: 0 | H13: 4.12 | I13: 5.16 | K13: =IF(OR($A13="",$E13=""),"",IF($P13=1,0,N($E13)*N($F13)-N($G13)+N($H13))) | L13: =IF(K13="","",IF($P13=1,0,N($E13)*IFERROR(INDEX(Products!$D$8:$D$307,MATCH($D13,Products!$A$8:$A$307,0)),0))) | M13: =IF(OR(K13="",$O13=0),IF(K13="","",0),IF($P13=1,0,K13*(N(INDEX(Settings!$E$11:$E$18,$O13))+N(INDEX(Settings!$G$11:$G$18,$O13)))+N(INDEX(Settings!$F$11:$F$18,$O13)))) | N13: =IF(K13="","",K13-L13-M13-N($I13)-$P13*N(Settings!$D$20)) | O13: =IF($C13="",0,IFERROR(MATCH($C13,Settings!$D$11:$D$18,0),0)) | P13: =IF(LOWER(TRIM($J13&""))="x",1,0)
A14: 46024 | B14: BL26007 | C14: Amazon | D14: BL-103 | E14: 1 | F14: 30.79 | G14: 0 | H14: 0 | I14: 4.86 | K14: =IF(OR($A14="",$E14=""),"",IF($P14=1,0,N($E14)*N($F14)-N($G14)+N($H14))) | L14: =IF(K14="","",IF($P14=1,0,N($E14)*IFERROR(INDEX(Products!$D$8:$D$307,MATCH($D14,Products!$A$8:$A$307,0)),0))) | M14: =IF(OR(K14="",$O14=0),IF(K14="","",0),IF($P14=1,0,K14*(N(INDEX(Settings!$E$11:$E$18,$O14))+N(INDEX(Settings!$G$11:$G$18,$O14)))+N(INDEX(Settings!$F$11:$F$18,$O14)))) | N14: =IF(K14="","",K14-L14-M14-N($I14)-$P14*N(Settings!$D$20)) | O14: =IF($C14="",0,IFERROR(MATCH($C14,Settings!$D$11:$D$18,0),0)) | P14: =IF(LOWER(TRIM($J14&""))="x",1,0)
A15: 46024 | B15: BL26008 | C15: eBay | D15: BL-104 | E15: 1 | F15: 8.32 | G15: 0 | H15: 3.28 | I15: 4.28 | K15: =IF(OR($A15="",$E15=""),"",IF($P15=1,0,N($E15)*N($F15)-N($G15)+N($H15))) | L15: =IF(K15="","",IF($P15=1,0,N($E15)*IFERROR(INDEX(Products!$D$8:$D$307,MATCH($D15,Products!$A$8:$A$307,0)),0))) | M15: =IF(OR(K15="",$O15=0),IF(K15="","",0),IF($P15=1,0,K15*(N(INDEX(Settings!$E$11:$E$18,$O15))+N(INDEX(Settings!$G$11:$G$18,$O15)))+N(INDEX(Settings!$F$11:$F$18,$O15)))) | N15: =IF(K15="","",K15-L15-M15-N($I15)-$P15*N(Settings!$D$20)) | O15: =IF($C15="",0,IFERROR(MATCH($C15,Settings!$D$11:$D$18,0),0)) | P15: =IF(LOWER(TRIM($J15&""))="x",1,0)
A16: 46024 | B16: BL26009 | C16: Own shop | D16: BL-104 | E16: 1 | F16: 8.32 | G16: 0.83 | H16: 4.12 | I16: 4.85 | K16: =IF(OR($A16="",$E16=""),"",IF($P16=1,0,N($E16)*N($F16)-N($G16)+N($H16))) | L16: =IF(K16="","",IF($P16=1,0,N($E16)*IFERROR(INDEX(Products!$D$8:$D$307,MATCH($D16,Products!$A$8:$A$307,0)),0))) | M16: =IF(OR(K16="",$O16=0),IF(K16="","",0),IF($P16=1,0,K16*(N(INDEX(Settings!$E$11:$E$18,$O16))+N(INDEX(Settings!$G$11:$G$18,$O16)))+N(INDEX(Settings!$F$11:$F$18,$O16)))) | N16: =IF(K16="","",K16-L16-M16-N($I16)-$P16*N(Settings!$D$20)) | O16: =IF($C16="",0,IFERROR(MATCH($C16,Settings!$D$11:$D$18,0),0)) | P16: =IF(LOWER(TRIM($J16&""))="x",1,0)
A17: 46024 | B17: BL26010 | C17: Own shop | D17: BL-401 | E17: 1 | F17: 23.45 | G17: 0 | H17: 4.12 | I17: 4.63 | K17: =IF(OR($A17="",$E17=""),"",IF($P17=1,0,N($E17)*N($F17)-N($G17)+N($H17))) | L17: =IF(K17="","",IF($P17=1,0,N($E17)*IFERROR(INDEX(Products!$D$8:$D$307,MATCH($D17,Products!$A$8:$A$307,0)),0))) | M17: =IF(OR(K17="",$O17=0),IF(K17="","",0),IF($P17=1,0,K17*(N(INDEX(Settings!$E$11:$E$18,$O17))+N(INDEX(Settings!$G$11:$G$18,$O17)))+N(INDEX(Settings!$F$11:$F$18,$O17)))) | N17: =IF(K17="","",K17-L17-M17-N($I17)-$P17*N(Settings!$D$20)) | O17: =IF($C17="",0,IFERROR(MATCH($C17,Settings!$D$11:$D$18,0),0)) | P17: =IF(LOWER(TRIM($J17&""))="x",1,0)
A18: 46025 | B18: BL26011 | C18: Own shop | D18: BL-302 | E18: 1 | F18: 33.53 | G18: 3.35 | H18: 4.12 | I18: 4.97 | K18: =IF(OR($A18="",$E18=""),"",IF($P18=1,0,N($E18)*N($F18)-N($G18)+N($H18))) | L18: =IF(K18="","",IF($P18=1,0,N($E18)*IFERROR(INDEX(Products!$D$8:$D$307,MATCH($D18,Products!$A$8:$A$307,0)),0))) | M18: =IF(OR(K18="",$O18=0),IF(K18="","",0),IF($P18=1,0,K18*(N(INDEX(Settings!$E$11:$E$18,$O18))+N(INDEX(Settings!$G$11:$G$18,$O18)))+N(INDEX(Settings!$F$11:$F$18,$O18)))) | N18: =IF(K18="","",K18-L18-M18-N($I18)-$P18*N(Settings!$D$20)) | O18: =IF($C18="",0,IFERROR(MATCH($C18,Settings!$D$11:$D$18,0),0)) | P18: =IF(LOWER(TRIM($J18&""))="x",1,0)
A19: 46025 | B19: BL26012 | C19: Amazon | D19: BL-101 | E19: 2 | F19: 21.97 | G19: 0 | H19: 0 | I19: 4.3 | K19: =IF(OR($A19="",$E19=""),"",IF($P19=1,0,N($E19)*N($F19)-N($G19)+N($H19))) | L19: =IF(K19="","",IF($P19=1,0,N($E19)*IFERROR(INDEX(Products!$D$8:$D$307,MATCH($D19,Products!$A$8:$A$307,0)),0))) | M19: =IF(OR(K19="",$O19=0),IF(K19="","",0),IF($P19=1,0,K19*(N(INDEX(Settings!$E$11:$E$18,$O19))+N(INDEX(Settings!$G$11:$G$18,$O19)))+N(INDEX(Settings!$F$11:$F$18,$O19)))) | N19: =IF(K19="","",K19-L19-M19-N($I19)-$P19*N(Settings!$D$20)) | O19: =IF($C19="",0,IFERROR(MATCH($C19,Settings!$D$11:$D$18,0),0)) | P19: =IF(LOWER(TRIM($J19&""))="x",1,0)
A20: 46025 | B20: BL26013 | C20: Own shop | D20: BL-303 | E20: 1 | F20: 10 | G20: 0 | H20: 4.12 | I20: 4.48 | K20: =IF(OR($A20="",$E20=""),"",IF($P20=1,0,N($E20)*N($F20)-N($G20)+N($H20))) | L20: =IF(K20="","",IF($P20=1,0,N($E20)*IFERROR(INDEX(Products!$D$8:$D$307,MATCH($D20,Products!$A$8:$A$307,0)),0))) | M20: =IF(OR(K20="",$O20=0),IF(K20="","",0),IF($P20=1,0,K20*(N(INDEX(Settings!$E$11:$E$18,$O20))+N(INDEX(Settings!$G$11:$G$18,$O20)))+N(INDEX(Settings!$F$11:$F$18,$O20)))) | N20: =IF(K20="","",K20-L20-M20-N($I20)-$P20*N(Settings!$D$20)) | O20: =IF($C20="",0,IFERROR(MATCH($C20,Settings!$D$11:$D$18,0),0)) | P20: =IF(LOWER(TRIM($J20&""))="x",1,0)
A21: 46025 | B21: BL26014 | C21: Amazon | D21: BL-303 | E21: 2 | F21: 10.5 | G21: 0 | H21: 0 | I21: 4.92 | K21: =IF(OR($A21="",$E21=""),"",IF($P21=1,0,N($E21)*N($F21)-N($G21)+N($H21))) | L21: =IF(K21="","",IF($P21=1,0,N($E21)*IFERROR(INDEX(Products!$D$8:$D$307,MATCH($D21,Products!$A$8:$A$307,0)),0))) | M21: =IF(OR(K21="",$O21=0),IF(K21="","",0),IF($P21=1,0,K21*(N(INDEX(Settings!$E$11:$E$18,$O21))+N(INDEX(Settings!$G$11:$G$18,$O21)))+N(INDEX(Settings!$F$11:$F$18,$O21)))) | N21: =IF(K21="","",K21-L21-M21-N($I21)-$P21*N(Settings!$D$20)) | O21: =IF($C21="",0,IFERROR(MATCH($C21,Settings!$D$11:$D$18,0),0)) | P21: =IF(LOWER(TRIM($J21&""))="x",1,0)
A22: 46025 | B22: BL26015 | C22: eBay | D22: BL-101 | E22: 1 | F22: 20.92 | G22: 0 | H22: 3.28 | I22: 4.2 | K22: =IF(OR($A22="",$E22=""),"",IF($P22=1,0,N($E22)*N($F22)-N($G22)+N($H22))) | L22: =IF(K22="","",IF($P22=1,0,N($E22)*IFERROR(INDEX(Products!$D$8:$D$307,MATCH($D22,Products!$A$8:$A$307,0)),0))) | M22: =IF(OR(K22="",$O22=0),IF(K22="","",0),IF($P22=1,0,K22*(N(INDEX(Settings!$E$11:$E$18,$O22))+N(INDEX(Settings!$G$11:$G$18,$O22)))+N(INDEX(Settings!$F$11:$F$18,$O22)))) | N22: =IF(K22="","",K22-L22-M22-N($I22)-$P22*N(Settings!$D$20)) | O22: =IF($C22="",0,IFERROR(MATCH($C22,Settings!$D$11:$D$18,0),0)) | P22: =IF(LOWER(TRIM($J22&""))="x",1,0)
... A26: 46025 | B26: BL26019 | C26: Own shop | D26: BL-104 | E26: 1 | F26: 8.32 | G26: 0 | H26: 4.12 | I26: 4.6 | K26: =IF(OR($A26="",$E26=""),"",IF($P26=1,0,N($E26)*N($F26)-N($G26)+N($H26))) | L26: =IF(K26="","",IF($P26=1,0,N($E26)*IFERROR(INDEX(Products!$D$8:$D$307,MATCH($D26,Products!$A$8:$A$307,0)),0))) | M26: =IF(OR(K26="",$O26=0),IF(K26="","",0),IF($P26=1,0,K26*(N(INDEX(Settings!$E$11:$E$18,$O26))+N(INDEX(Settings!$G$11:$G$18,$O26)))+N(INDEX(Settings!$F$11:$F$18,$O26)))) | N26: =IF(K26="","",K26-L26-M26-N($I26)-$P26*N(Settings!$D$20)) | O26: =IF($C26="",0,IFERROR(MATCH($C26,Settings!$D$11:$D$18,0),0)) | P26: =IF(LOWER(TRIM($J26&""))="x",1,0)
A27: 46025 | B27: BL26020 | C27: Own shop | D27: BL-403 | E27: 2 | F27: 10.84 | G27: 0 | H27: 4.12 | I27: 5.02 | J27: x | K27: =IF(OR($A27="",$E27=""),"",IF($P27=1,0,N($E27)*N($F27)-N($G27)+N($H27))) | L27: =IF(K27="","",IF($P27=1,0,N($E27)*IFERROR(INDEX(Products!$D$8:$D$307,MATCH($D27,Products!$A$8:$A$307,0)),0))) | M27: =IF(OR(K27="",$O27=0),IF(K27="","",0),IF($P27=1,0,K27*(N(INDEX(Settings!$E$11:$E$18,$O27))+N(INDEX(Settings!$G$11:$G$18,$O27)))+N(INDEX(Settings!$F$11:$F$18,$O27)))) | N27: =IF(K27="","",K27-L27-M27-N($I27)-$P27*N(Settings!$D$20)) | O27: =IF($C27="",0,IFERROR(MATCH($C27,Settings!$D$11:$D$18,0),0)) | P27: =IF(LOWER(TRIM($J27&""))="x",1,0)
A28: 46025 | B28: BL26021 | C28: Amazon | D28: BL-403 | E28: 1 | F28: 11.38 | G28: 0 | H28: 0 | I28: 4.97 | J28: x | K28: =IF(OR($A28="",$E28=""),"",IF($P28=1,0,N($E28)*N($F28)-N($G28)+N($H28))) | L28: =IF(K28="","",IF($P28=1,0,N($E28)*IFERROR(INDEX(Products!$D$8:$D$307,MATCH($D28,Products!$A$8:$A$307,0)),0))) | M28: =IF(OR(K28="",$O28=0),IF(K28="","",0),IF($P28=1,0,K28*(N(INDEX(Settings!$E$11:$E$18,$O28))+N(INDEX(Settings!$G$11:$G$18,$O28)))+N(INDEX(Settings!$F$11:$F$18,$O28)))) | N28: =IF(K28="","",K28-L28-M28-N($I28)-$P28*N(Settings!$D$20)) | O28: =IF($C28="",0,IFERROR(MATCH($C28,Settings!$D$11:$D$18,0),0)) | P28: =IF(LOWER(TRIM($J28&""))="x",1,0)
A29: 46025 | B29: BL26022 | C29: Own shop | D29: BL-102 | E29: 1 | F29: 14.2 | G29: 0 | H29: 4.12 | I29: 4.6 | K29: =IF(OR($A29="",$E29=""),"",IF($P29=1,0,N($E29)*N($F29)-N($G29)+N($H29))) | L29: =IF(K29="","",IF($P29=1,0,N($E29)*IFERROR(INDEX(Products!$D$8:$D$307,MATCH($D29,Products!$A$8:$A$307,0)),0))) | M29: =IF(OR(K29="",$O29=0),IF(K29="","",0),IF($P29=1,0,K29*(N(INDEX(Settings!$E$11:$E$18,$O29))+N(INDEX(Settings!$G$11:$G$18,$O29)))+N(INDEX(Settings!$F$11:$F$18,$O29)))) | N29: =IF(K29="","",K29-L29-M29-N($I29)-$P29*N(Settings!$D$20)) | O29: =IF($C29="",0,IFERROR(MATCH($C29,Settings!$D$11:$D$18,0),0)) | P29: =IF(LOWER(TRIM($J29&""))="x",1,0)
A30: 46025 | B30: BL26023 | C30: eBay | D30: BL-403 | E30: 1 | F30: 10.84 | G30: 0 | H30: 3.28 | I30: 4.64 | K30: =IF(OR($A30="",$E30=""),"",IF($P30=1,0,N($E30)*N($F30)-N($G30)+N($H30))) | L30: =IF(K30="","",IF($P30=1,0,N($E30)*IFERROR(INDEX(Products!$D$8:$D$307,MATCH($D30,Products!$A$8:$A$307,0)),0))) | M30: =IF(OR(K30="",$O30=0),IF(K30="","",0),IF($P30=1,0,K30*(N(INDEX(Settings!$E$11:$E$18,$O30))+N(INDEX(Settings!$G$11:$G$18,$O30)))+N(INDEX(Settings!$F$11:$F$18,$O30)))) | N30: =IF(K30="","",K30-L30-M30-N($I30)-$P30*N(Settings!$D$20)) | O30: =IF($C30="",0,IFERROR(MATCH($C30,Settings!$D$11:$D$18,0),0)) | P30: =IF(LOWER(TRIM($J30&""))="x",1,0)
A31: 46026 | B31: BL26024 | C31: Amazon | D31: BL-104 | E31: 1 | F31: 8.74 | G31: 0 | H31: 0 | I31: 4.26 | K31: =IF(OR($A31="",$E31=""),"",IF($P31=1,0,N($E31)*N($F31)-N($G31)+N($H31))) | L31: =IF(K31="","",IF($P31=1,0,N($E31)*IFERROR(INDEX(Products!$D$8:$D$307,MATCH($D31,Products!$A$8:$A$307,0)),0))) | M31: =IF(OR(K31="",$O31=0),IF(K31="","",0),IF($P31=1,0,K31*(N(INDEX(Settings!$E$11:$E$18,$O31))+N(INDEX(Settings!$G$11:$G$18,$O31)))+N(INDEX(Settings!$F$11:$F$18,$O31)))) | N31: =IF(K31="","",K31-L31-M31-N($I31)-$P31*N(Settings!$D$20)) | O31: =IF($C31="",0,IFERROR(MATCH($C31,Settings!$D$11:$D$18,0),0)) | P31: =IF(LOWER(TRIM($J31&""))="x",1,0)
A32: 46026 | B32: BL26025 | C32: Etsy | D32: BL-403 | E32: 1 | F32: 10.84 | G32: 0 | H32: 3.28 | I32: 4.65 | K32: =IF(OR($A32="",$E32=""),"",IF($P32=1,0,N($E32)*N($F32)-N($G32)+N($H32))) | L32: =IF(K32="","",IF($P32=1,0,N($E32)*IFERROR(INDEX(Products!$D$8:$D$307,MATCH($D32,Products!$A$8:$A$307,0)),0))) | M32: =IF(OR(K32="",$O32=0),IF(K32="","",0),IF($P32=1,0,K32*(N(INDEX(Settings!$E$11:$E$18,$O32))+N(INDEX(Settings!$G$11:$G$18,$O32)))+N(INDEX(Settings!$F$11:$F$18,$O32)))) | N32: =IF(K32="","",K32-L32-M32-N($I32)-$P32*N(Settings!$D$20)) | O32: =IF($C32="",0,IFERROR(MATCH($C32,Settings!$D$11:$D$18,0),0)) | P32: =IF(LOWER(TRIM($J32&""))="x",1,0)
A33: 46026 | B33: BL26026 | C33: Own shop | D33: BL-104 | E33: 1 | F33: 8.32 | G33: 0 | H33: 4.12 | I33: 4.5 | K33: =IF(OR($A33="",$E33=""),"",IF($P33=1,0,N($E33)*N($F33)-N($G33)+N($H33))) | L33: =IF(K33="","",IF($P33=1,0,N($E33)*IFERROR(INDEX(Products!$D$8:$D$307,MATCH($D33,Products!$A$8:$A$307,0)),0))) | M33: =IF(OR(K33="",$O33=0),IF(K33="","",0),IF($P33=1,0,K33*(N(INDEX(Settings!$E$11:$E$18,$O33))+N(INDEX(Settings!$G$11:$G$18,$O33)))+N(INDEX(Settings!$F$11:$F$18,$O33)))) | N33: =IF(K33="","",K33-L33-M33-N($I33)-$P33*N(Settings!$D$20)) | O33: =IF($C33="",0,IFERROR(MATCH($C33,Settings!$D$11:$D$18,0),0)) | P33: =IF(LOWER(TRIM($J33&""))="x",1,0)
A34: 46026 | B34: BL26027 | C34: Amazon | D34: BL-302 | E34: 1 | F34: 35.21 | G34: 0 | H34: 0 | I34: 4.94 | K34: =IF(OR($A34="",$E34=""),"",IF($P34=1,0,N($E34)*N($F34)-N($G34)+N($H34))) | L34: =IF(K34="","",IF($P34=1,0,N($E34)*IFERROR(INDEX(Products!$D$8:$D$307,MATCH($D34,Products!$A$8:$A$307,0)),0))) | M34: =IF(OR(K34="",$O34=0),IF(K34="","",0),IF($P34=1,0,K34*(N(INDEX(Settings!$E$11:$E$18,$O34))+N(INDEX(Settings!$G$11:$G$18,$O34)))+N(INDEX(Settings!$F$11:$F$18,$O34)))) | N34: =IF(K34="","",K34-L34-M34-N($I34)-$P34*N(Settings!$D$20)) | O34: =IF($C34="",0,IFERROR(MATCH($C34,Settings!$D$11:$D$18,0),0)) | P34: =IF(LOWER(TRIM($J34&""))="x",1,0)
A35: 46026 | B35: BL26028 | C35: Amazon | D35: BL-104 | E35: 1 | F35: 8.74 | G35: 0 | H35: 0 | I35: 4.95 | K35: =IF(OR($A35="",$E35=""),"",IF($P35=1,0,N($E35)*N($F35)-N($G35)+N($H35))) | L35: =IF(K35="","",IF($P35=1,0,N($E35)*IFERROR(INDEX(Products!$D$8:$D$307,MATCH($D35,Products!$A$8:$A$307,0)),0))) | M35: =IF(OR(K35="",$O35=0),IF(K35="","",0),IF($P35=1,0,K35*(N(INDEX(Settings!$E$11:$E$18,$O35))+N(INDEX(Settings!$G$11:$G$18,$O35)))+N(INDEX(Settings!$F$11:$F$18,$O35)))) | N35: =IF(K35="","",K35-L35-M35-N($I35)-$P35*N(Settings!$D$20)) | O35: =IF($C35="",0,IFERROR(MATCH($C35,Settings!$D$11:$D$18,0),0)) | P35: =IF(LOWER(TRIM($J35&""))="x",1,0)
A36: 46026 | B36: BL26029 | C36: Own shop | D36: BL-403 | E36: 1 | F36: 10.84 | G36: 0 | H36: 4.12 | I36: 4.11 | K36: =IF(OR($A36="",$E36=""),"",IF($P36=1,0,N($E36)*N($F36)-N($G36)+N($H36))) | L36: =IF(K36="","",IF($P36=1,0,N($E36)*IFERROR(INDEX(Products!$D$8:$D$307,MATCH($D36,Products!$A$8:$A$307,0)),0))) | M36: =IF(OR(K36="",$O36=0),IF(K36="","",0),IF($P36=1,0,K36*(N(INDEX(Settings!$E$11:$E$18,$O36))+N(INDEX(Settings!$G$11:$G$18,$O36)))+N(INDEX(Settings!$F$11:$F$18,$O36)))) | N36: =IF(K36="","",K36-L36-M36-N($I36)-$P36*N(Settings!$D$20)) | O36: =IF($C36="",0,IFERROR(MATCH($C36,Settings!$D$11:$D$18,0),0)) | P36: =IF(LOWER(TRIM($J36&""))="x",1,0)
A37: 46026 | B37: BL26030 | C37: Own shop | D37: BL-301 | E37: 1 | F37: 18.4 | G37: 0 | H37: 4.12 | I37: 4.81 | K37: =IF(OR($A37="",$E37=""),"",IF($P37=1,0,N($E37)*N($F37)-N($G37)+N($H37))) | L37: =IF(K37="","",IF($P37=1,0,N($E37)*IFERROR(INDEX(Products!$D$8:$D$307,MATCH($D37,Products!$A$8:$A$307,0)),0))) | M37: =IF(OR(K37="",$O37=0),IF(K37="","",0),IF($P37=1,0,K37*(N(INDEX(Settings!$E$11:$E$18,$O37))+N(INDEX(Settings!$G$11:$G$18,$O37)))+N(INDEX(Settings!$F$11:$F$18,$O37)))) | N37: =IF(K37="","",K37-L37-M37-N($I37)-$P37*N(Settings!$D$20)) | O37: =IF($C37="",0,IFERROR(MATCH($C37,Settings!$D$11:$D$18,0),0)) | P37: =IF(LOWER(TRIM($J37&""))="x",1,0)
A38: 46026 | B38: BL26031 | C38: Own shop | D38: BL-301 | E38: 1 | F38: 18.4 | G38: 0 | H38: 4.12 | I38: 4.49 | K38: =IF(OR($A38="",$E38=""),"",IF($P38=1,0,N($E38)*N($F38)-N($G38)+N($H38))) | L38: =IF(K38="","",IF($P38=1,0,N($E38)*IFERROR(INDEX(Products!$D$8:$D$307,MATCH($D38,Products!$A$8:$A$307,0)),0))) | M38: =IF(OR(K38="",$O38=0),IF(K38="","",0),IF($P38=1,0,K38*(N(INDEX(Settings!$E$11:$E$18,$O38))+N(INDEX(Settings!$G$11:$G$18,$O38)))+N(INDEX(Settings!$F$11:$F$18,$O38)))) | N38: =IF(K38="","",K38-L38-M38-N($I38)-$P38*N(Settings!$D$20)) | O38: =IF($C38="",0,IFERROR(MATCH($C38,Settings!$D$11:$D$18,0),0)) | P38: =IF(LOWER(TRIM($J38&""))="x",1,0)
A39: 46026 | B39: BL26032 | C39: eBay | D39: BL-301 | E39: 1 | F39: 18.4 | G39: 0 | H39: 3.28 | I39: 5.15 | K39: =IF(OR($A39="",$E39=""),"",IF($P39=1,0,N($E39)*N($F39)-N($G39)+N($H39))) | L39: =IF(K39="","",IF($P39=1,0,N($E39)*IFERROR(INDEX(Products!$D$8:$D$307,MATCH($D39,Products!$A$8:$A$307,0)),0))) | M39: =IF(OR(K39="",$O39=0),IF(K39="","",0),IF($P39=1,0,K39*(N(INDEX(Settings!$E$11:$E$18,$O39))+N(INDEX(Settings!$G$11:$G$18,$O39)))+N(INDEX(Settings!$F$11:$F$18,$O39)))) | N39: =IF(K39="","",K39-L39-M39-N($I39)-$P39*N(Settings!$D$20)) | O39: =IF($C39="",0,IFERROR(MATCH($C39,Settings!$D$11:$D$18,0),0)) | P39: =IF(LOWER(TRIM($J39&""))="x",1,0)
A40: 46026 | B40: BL26033 | C40: Amazon | D40: BL-102 | E40: 1 | F40: 14.91 | G40: 0 | H40: 0 | I40: 5.13 | K40: =IF(OR($A40="",$E40=""),"",IF($P40=1,0,N($E40)*N($F40)-N($G40)+N($H40))) | L40: =IF(K40="","",IF($P40=1,0,N($E40)*IFERROR(INDEX(Products!$D$8:$D$307,MATCH($D40,Products!$A$8:$A$307,0)),0))) | M40: =IF(OR(K40="",$O40=0),IF(K40="","",0),IF($P40=1,0,K40*(N(INDEX(Settings!$E$11:$E$18,$O40))+N(INDEX(Settings!$G$11:$G$18,$O40)))+N(INDEX(Settings!$F$11:$F$18,$O40)))) | N40: =IF(K40="","",K40-L40-M40-N($I40)-$P40*N(Settings!$D$20)) | O40: =IF($C40="",0,IFERROR(MATCH($C40,Settings!$D$11:$D$18,0),0)) | P40: =IF(LOWER(TRIM($J40&""))="x",1,0)
A41: 46026 | B41: BL26034 | C41: Amazon | D41: BL-302 | E41: 1 | F41: 35.21 | G41: 0 | H41: 0 | I41: 4.29 | K41: =IF(OR($A41="",$E41=""),"",IF($P41=1,0,N($E41)*N($F41)-N($G41)+N($H41))) | L41: =IF(K41="","",IF($P41=1,0,N($E41)*IFERROR(INDEX(Products!$D$8:$D$307,MATCH($D41,Products!$A$8:$A$307,0)),0))) | M41: =IF(OR(K41="",$O41=0),IF(K41="","",0),IF($P41=1,0,K41*(N(INDEX(Settings!$E$11:$E$18,$O41))+N(INDEX(Settings!$G$11:$G$18,$O41)))+N(INDEX(Settings!$F$11:$F$18,$O41)))) | N41: =IF(K41="","",K41-L41-M41-N($I41)-$P41*N(Settings!$D$20)) | O41: =IF($C41="",0,IFERROR(MATCH($C41,Settings!$D$11:$D$18,0),0)) | P41: =IF(LOWER(TRIM($J41&""))="x",1,0)
A42: 46027 | B42: BL26035 | C42: Own shop | D42: BL-204 | E42: 1 | F42: 19.24 | G42: 0 | H42: 4.12 | I42: 4.89 | J42: x | K42: =IF(OR($A42="",$E42=""),"",IF($P42=1,0,N($E42)*N($F42)-N($G42)+N($H42))) | L42: =IF(K42="","",IF($P42=1,0,N($E42)*IFERROR(INDEX(Products!$D$8:$D$307,MATCH($D42,Products!$A$8:$A$307,0)),0))) | M42: =IF(OR(K42="",$O42=0),IF(K42="","",0),IF($P42=1,0,K42*(N(INDEX(Settings!$E$11:$E$18,$O42))+N(INDEX(Settings!$G$11:$G$18,$O42)))+N(INDEX(Settings!$F$11:$F$18,$O42)))) | N42: =IF(K42="","",K42-L42-M42-N($I42)-$P42*N(Settings!$D$20)) | O42: =IF($C42="",0,IFERROR(MATCH($C42,Settings!$D$11:$D$18,0),0)) | P42: =IF(LOWER(TRIM($J42&""))="x",1,0)
A43: 46027 | B43: BL26036 | C43: Own shop | D43: BL-201 | E43: 1 | F43: 12.52 | G43: 0 | H43: 4.12 | I43: 4.85 | K43: =IF(OR($A43="",$E43=""),"",IF($P43=1,0,N($E43)*N($F43)-N($G43)+N($H43))) | L43: =IF(K43="","",IF($P43=1,0,N($E43)*IFERROR(INDEX(Products!$D$8:$D$307,MATCH($D43,Products!$A$8:$A$307,0)),0))) | M43: =IF(OR(K43="",$O43=0),IF(K43="","",0),IF($P43=1,0,K43*(N(INDEX(Settings!$E$11:$E$18,$O43))+N(INDEX(Settings!$G$11:$G$18,$O43)))+N(INDEX(Settings!$F$11:$F$18,$O43)))) | N43: =IF(K43="","",K43-L43-M43-N($I43)-$P43*N(Settings!$D$20)) | O43: =IF($C43="",0,IFERROR(MATCH($C43,Settings!$D$11:$D$18,0),0)) | P43: =IF(LOWER(TRIM($J43&""))="x",1,0)
A44: 46027 | B44: BL26037 | C44: Own shop | D44: BL-202 | E44: 1 | F44: 57.98 | G44: 5.8 | H44: 0 | I44: 6.9 | K44: =IF(OR($A44="",$E44=""),"",IF($P44=1,0,N($E44)*N($F44)-N($G44)+N($H44))) | L44: =IF(K44="","",IF($P44=1,0,N($E44)*IFERROR(INDEX(Products!$D$8:$D$307,MATCH($D44,Products!$A$8:$A$307,0)),0))) | M44: =IF(OR(K44="",$O44=0),IF(K44="","",0),IF($P44=1,0,K44*(N(INDEX(Settings!$E$11:$E$18,$O44))+N(INDEX(Settings!$G$11:$G$18,$O44)))+N(INDEX(Settings!$F$11:$F$18,$O44)))) | N44: =IF(K44="","",K44-L44-M44-N($I44)-$P44*N(Settings!$D$20)) | O44: =IF($C44="",0,IFERROR(MATCH($C44,Settings!$D$11:$D$18,0),0)) | P44: =IF(LOWER(TRIM($J44&""))="x",1,0)
A45: 46027 | B45: BL26038 | C45: Own shop | D45: BL-103 | E45: 1 | F45: 29.33 | G45: 2.93 | H45: 4.12 | I45: 4.61 | K45: =IF(OR($A45="",$E45=""),"",IF($P45=1,0,N($E45)*N($F45)-N($G45)+N($H45))) | L45: =IF(K45="","",IF($P45=1,0,N($E45)*IFERROR(INDEX(Products!$D$8:$D$307,MATCH($D45,Products!$A$8:$A$307,0)),0))) | M45: =IF(OR(K45="",$O45=0),IF(K45="","",0),IF($P45=1,0,K45*(N(INDEX(Settings!$E$11:$E$18,$O45))+N(INDEX(Settings!$G$11:$G$18,$O45)))+N(INDEX(Settings!$F$11:$F$18,$O45)))) | N45: =IF(K45="","",K45-L45-M45-N($I45)-$P45*N(Settings!$D$20)) | O45: =IF($C45="",0,IFERROR(MATCH($C45,Settings!$D$11:$D$18,0),0)) | P45: =IF(LOWER(TRIM($J45&""))="x",1,0)
A46: 46027 | B46: BL26039 | C46: Amazon | D46: BL-204 | E46: 1 | F46: 20.21 | G46: 0 | H46: 0 | I46: 5.09 | J46: x | K46: =IF(OR($A46="",$E46=""),"",IF($P46=1,0,N($E46)*N($F46)-N($G46)+N($H46))) | L46: =IF(K46="","",IF($P46=1,0,N($E46)*IFERROR(INDEX(Products!$D$8:$D$307,MATCH($D46,Products!$A$8:$A$307,0)),0))) | M46: =IF(OR(K46="",$O46=0),IF(K46="","",0),IF($P46=1,0,K46*(N(INDEX(Settings!$E$11:$E$18,$O46))+N(INDEX(Settings!$G$11:$G$18,$O46)))+N(INDEX(Settings!$F$11:$F$18,$O46)))) | N46: =IF(K46="","",K46-L46-M46-N($I46)-$P46*N(Settings!$D$20)) | O46: =IF($C46="",0,IFERROR(MATCH($C46,Settings!$D$11:$D$18,0),0)) | P46: =IF(LOWER(TRIM($J46&""))="x",1,0)
...

Sheet Products
A1: ="KEYONE / "&Lang!$B$81
A3: =Lang!$B$82
A5: =HYPERLINK("#'START'!A1",Lang!$B$2) | B5: =HYPERLINK("#'Dashboard'!A1",Lang!$B$3) | C5: =HYPERLINK("#'Settings'!A1",Lang!$B$4)
A7: =Lang!$B$68 | B7: =Lang!$B$83 | C7: =Lang!$B$84 | D7: =Lang!$B$85 | E7: =Lang!$B$86
A8: BL-101 | B8: Ceramic mug set | C8: Kitchen | D8: 7.9 | E8: 24.9
A9: BL-102 | B9: Linen tea towels (3) | C9: Kitchen | D9: 4.2 | E9: 16.9
A10: BL-103 | B10: Oak serving board | C10: Kitchen | D10: 11.5 | E10: 34.9
A11: BL-104 | B11: Glass storage jar 1 l | C11: Kitchen | D11: 3.1 | E11: 9.9
A12: BL-201 | B12: Scented candle “Lake” | C12: Living | D12: 3.8 | E12: 14.9
A13: BL-202 | B13: Wool throw blanket | C13: Living | D13: 26 | E13: 69
A14: BL-203 | B14: Linen cushion cover | C14: Living | D14: 5.5 | E14: 19.9
A15: BL-204 | B15: Small ceramic vase | C15: Living | D15: 6.9 | E15: 22.9
A16: BL-301 | B16: Bamboo bath mat | C16: Bath | D16: 7.2 | E16: 21.9
A17: BL-302 | B17: Cotton towel set | C17: Bath | D17: 12.4 | E17: 39.9
A18: BL-303 | B18: Stone soap dish | C18: Bath | D18: 2.9 | E18: 11.9
A19: BL-401 | B19: Plant pots (set of 3) | C19: Garden | D19: 9.8 | E19: 27.9
... A21: BL-403 | B21: LED fairy lights | C21: Living | D21: 4.4 | E21: 12.9

Sheet Marketing
A1: ="KEYONE / "&Lang!$B$87
A3: =Lang!$B$88
A5: =HYPERLINK("#'START'!A1",Lang!$B$2) | B5: =HYPERLINK("#'Dashboard'!A1",Lang!$B$3) | C5: =HYPERLINK("#'Settings'!A1",Lang!$B$4)
A7: =Lang!$B$89 | B7: =Lang!$B$35 | C7: =Lang!$B$90 | D7: =Lang!$B$91
A8: 46023 | B8: Own shop | C8: 1073.81 | D8: Google + Meta
A9: 46023 | B9: Amazon | C9: 655.04 | D9: Sponsored Products
A10: 46023 | B10: eBay | C10: 44.43 | D10: Promoted listings
A11: 46023 | B11: Etsy | C11: 82.36 | D11: Etsy Ads
A12: 46054 | B12: Own shop | C12: 712.16 | D12: Google + Meta
A13: 46054 | B13: Amazon | C13: 570.93 | D13: Sponsored Products
A14: 46054 | B14: eBay | C14: 47.79 | D14: Promoted listings
A15: 46054 | B15: Etsy | C15: 79.12 | D15: Etsy Ads
A16: 46082 | B16: Own shop | C16: 1225.43 | D16: Google + Meta
A17: 46082 | B17: Amazon | C17: 527.96 | D17: Sponsored Products
A18: 46082 | B18: eBay | C18: 65.09 | D18: Promoted listings
A19: 46082 | B19: Etsy | C19: 100.67 | D19: Etsy Ads
... A47: 46296 | B47: Etsy | C47: 55.87 | D47: Etsy Ads

Sheet Settings
B2: K1 | E2: ="KEYONE / "&Lang!$B$10
B4: =HYPERLINK("#'START'!A1",Lang!$B$2) | D4: =HYPERLINK("#'Dashboard'!A1",Lang!$B$3) | F4: =HYPERLINK("#'Orders'!A1",Lang!$B$17) | H4: =HYPERLINK("#'Products'!A1",Lang!$B$18) | J4: =HYPERLINK("#'Marketing'!A1",Lang!$B$19) | L4: =HYPERLINK("#'Settings'!A1",Lang!$B$4)
B6: =Lang!$B$9 | D6: English | I6: =Lang!$B$40
B8: =Lang!$B$32 | D8: Bodensee Living
B10: =Lang!$B$34 | D10: =Lang!$B$35 | E10: =Lang!$B$36 | F10: =Lang!$B$37 | G10: =Lang!$B$38
D11: Own shop | E11: 0 | F11: 0 | G11: 0.025
D12: Amazon | E12: 0.15 | F12: 0 | G12: 0
D13: eBay | E13: 0.11 | F13: 0.35 | G13: 0
D14: Etsy | E14: 0.065 | F14: 0.2 | G14: 0.04
B20: =Lang!$B$39 | D20: 3.5
B35: =Lang!$B$5

Sheet Lang
A1: key | B1: =IFERROR(MATCH(Settings!$D$6,$C$1:$N$1,0),1) | C1: English | D1: Deutsch | E1: فارسی | F1: العربية | G1: Español | H1: Français | I1: Italiano | J1: 日本語 | K1: 한국어 | L1: Shqip | M1: Türkçe | N1: 中文
A2: nav_start | B2: =INDEX($C2:$N2,1,$B$1) | C2: ⌂ START | D2: ⌂ START | E2: ⌂ شروع | F2: ⌂ البداية | G2: ⌂ INICIO | H2: ⌂ ACCUEIL | I2: ⌂ INIZIO | J2: ⌂ スタート | K2: ⌂ 시작 | L2: ⌂ FILLIMI | M2: ⌂ BAŞLANGIÇ | N2: ⌂ 开始
A3: nav_dash | B3: =INDEX($C3:$N3,1,$B$1) | C3: ▣ DASHBOARD | D3: ▣ DASHBOARD | E3: ▣ داشبورد | F3: ▣ لوحة التحكم | G3: ▣ PANEL | H3: ▣ TABLEAU DE BORD | I3: ▣ DASHBOARD | J3: ▣ ダッシュボード | K3: ▣ 대시보드 | L3: ▣ PANELI | M3: ▣ PANO | N3: ▣ 仪表板
A4: nav_set | B4: =INDEX($C4:$N4,1,$B$1) | C4: ⚙ SETTINGS | D4: ⚙ EINSTELLUNGEN | E4: ⚙ تنظیمات | F4: ⚙ الإعدادات | G4: ⚙ AJUSTES | H4: ⚙ PARAMÈTRES | I4: ⚙ IMPOSTAZIONI | J4: ⚙ 設定 | K4: ⚙ 설정 | L4: ⚙ CILËSIMET | M4: ⚙ AYARLAR | N4: ⚙ 设置
A5: license | B5: =INDEX($C5:$N5,1,$B$1) | C5: © 2026 KeyOne – Keywan Fakhri • keywanfakhri.com • Free for internal use. No resale, redistribution or removal of attribution. | D5: © 2026 KeyOne – Keywan Fakhri • keywanfakhri.com • Kostenlos für interne Nutzung. Kein Weiterverkauf, keine Weitergabe, Urhebervermerk nicht entfernen. | E5: © ۲۰۲۶ KeyOne – کیوان فخری • keywanfakhri.com • رایگان برای استفاده داخلی. فروش مجدد، توزیع یا حذف نام سازنده ممنوع است. | F5: © 2026 KeyOne – كيوان فخري • keywanfakhri.com • مجاني للاستخدام الداخلي. يُمنع إعادة البيع أو التوزيع أو حذف الإسناد. | G5: © 2026 KeyOne – Keywan Fakhri • keywanfakhri.com • Gratis para uso interno. Sin reventa, redistribución ni eliminar la atribución. | H5: © 2026 KeyOne – Keywan Fakhri • keywanfakhri.com • Gratuit pour un usage interne. Ni revente, ni redistribution, ni suppression de l’attribution. | I5: © 2026 KeyOne – Keywan Fakhri • keywanfakhri.com • Gratuito per uso interno. Vietati rivendita, ridistribuzione e rimozione dell’attribuzione. | J5: © 2026 KeyOne – Keywan Fakhri • keywanfakhri.com • 社内利用は無料。再販売・再配布・クレジット削除は禁止。 | K5: © 2026 KeyOne – Keywan Fakhri • keywanfakhri.com • 내부 사용 무료. 재판매·재배포·저작자 표시 삭제 금지. | L5: © 2026 KeyOne – Keywan Fakhri • keywanfakhri.com • Falas për përdorim të brendshëm. Ndalohen rishitja, rishpërndarja dhe heqja e atribuimit. | M5: © 2026 KeyOne – Keywan Fakhri • keywanfakhri.com • Dahili kullanım ücretsiz. Yeniden satış, dağıtım ve atıfın kaldırılması yasaktır. | N5: © 2026 KeyOne – Keywan Fakhri • keywanfakhri.com • 内部使用免费。禁止转售、再分发或删除署名。
A6: created | B6: =INDEX($C6:$N6,1,$B$1) | C6: CREATED BY | D6: ERSTELLT VON | E6: ساخته شده توسط | F6: من إعداد | G6: CREADO POR | H6: CRÉÉ PAR | I6: CREATO DA | J6: 作成者 | K6: 제작자 | L6: KRIJUAR NGA | M6: HAZIRLAYAN | N6: 作者
A7: role | B7: =INDEX($C7:$N7,1,$B$1) | C7: Industrial Engineer (M.Sc.) • Logistics, Warehouse & Data Analytics • Konstanz, Germany | D7: Wirtschaftsingenieur (M.Sc.) • Logistik, Lager & Datenanalyse • Konstanz | E7: مهندس صنایع (کارشناسی ارشد) • لجستیک، انبار و تحلیل داده • کنستانس، آلمان | F7: مهندس صناعي (ماجستير) • اللوجستيات والمستودعات وتحليل البيانات • كونستانس، ألمانيا | G7: Ingeniero industrial (M.Sc.) • Logística, almacén y análisis de datos • Constanza, Alemania | H7: Ingénieur industriel (M.Sc.) • Logistique, entrepôt et analyse de données • Constance, Allemagne | I7: Ingegnere gestionale (M.Sc.) • Logistica, magazzino e analisi dati • Costanza, Germania | J7: インダストリアル・エンジニア（修士） • 物流・倉庫・データ分析 • ドイツ・コンスタンツ | K7: 산업공학 석사 • 물류·창고·데이터 분석 • 독일 콘스탄츠 | L7: Inxhinier industrial (M.Sc.) • Logjistikë, magazinë dhe analizë të dhënash • Konstanz, Gjermani | M7: Endüstri Mühendisi (Y.L.) • Lojistik, depo ve veri analitiği • Konstanz, Almanya | N7: 工业工程硕士 • 物流、仓储与数据分析 • 德国康斯坦茨
A8: custom_v | B8: =INDEX($C8:$N8,1,$B$1) | C8: Need a version for your company? Get in touch: | D8: Eigene Version für Ihr Unternehmen? Kontakt: | E8: نسخه اختصاصی برای شرکت خود می‌خواهید؟ تماس: | F8: تحتاج نسخة لشركتك؟ تواصل معي: | G8: ¿Necesitas una versión para tu empresa? Contacto: | H8: Besoin d’une version pour votre entreprise ? Contact : | I8: Ti serve una versione per la tua azienda? Contatti: | J8: 自社向けバージョンのご相談： | K8: 회사 맞춤 버전이 필요하신가요? 연락처: | L8: Ju duhet një version për kompaninë tuaj? Kontakt: | M8: Şirketinize özel sürüm mü lazım? İletişim: | N8: 需要为贵公司定制？联系：
A9: set_lang | B9: =INDEX($C9:$N9,1,$B$1) | C9: Language | D9: Sprache | E9: زبان | F9: اللغة | G9: Idioma | H9: Langue | I9: Lingua | J9: 言語 | K9: 언어 | L9: Gjuha | M9: Dil | N9: 语言
A10: set_title | B10: =INDEX($C10:$N10,1,$B$1) | C10: SETTINGS | D10: EINSTELLUNGEN | E10: تنظیمات | F10: الإعدادات | G10: AJUSTES | H10: PARAMÈTRES | I10: IMPOSTAZIONI | J10: 設定 | K10: 설정 | L10: CILËSIMET | M10: AYARLAR | N10: 设置
A11: total | B11: =INDEX($C11:$N11,1,$B$1) | C11: Total | D11: Summe | E11: جمع | F11: الإجمالي | G11: Total | H11: Total | I11: Totale | J11: 合計 | K11: 합계 | L11: Gjithsej | M11: Toplam | N11: 合计
A12: sec_ins | B12: =INDEX($C12:$N12,1,$B$1) | C12: KEY INSIGHTS | D12: WICHTIGSTE ERKENNTNISSE | E12: نکات کلیدی | F12: أهم النتائج | G12: CONCLUSIONES CLAVE | H12: POINTS CLÉS | I12: PUNTI CHIAVE | J12: 主なポイント | K12: 핵심 인사이트 | L12: PIKAT KRYESORE | M12: ÖNE ÇIKANLAR | N12: 关键洞察
A13: c_year | B13: =INDEX($C13:$N13,1,$B$1) | C13: YEAR | D13: JAHR | E13: سال | F13: السنة | G13: AÑO | H13: ANNÉE | I13: ANNO | J13: 年 | K13: 연도 | L13: VITI | M13: YIL | N13: 年份
... A104: m12 | B104: =INDEX($C104:$N104,1,$B$1) | C104: Dec | D104: Dez | E104: دسامبر | F104: ديسمبر | G104: Dic | H104: Déc | I104: Dic | J104: 12月 | K104: 12월 | L104: Dhj | M104: Ara | N104: 12月

Sheet Calc
A1: CALCULATION ENGINE – DO NOT EDIT | Z1: =Lang!$B$15
A2: year | B2: =N(Dashboard!$H$7) | Z2: =IF(Settings!$D$11="","",Settings!$D$11)
A3: mi | B3: =MAX(1,ROUND(SUMPRODUCT((Lang!$C$92:$N$104=Dashboard!$K$7)*(ROW(Lang!$C$92:$N$104)-91))/MAX(1,COUNTIF(Lang!$C$92:$N$104,Dashboard!$K$7)),0)) | Z3: =IF(Settings!$D$12="","",Settings!$D$12)
A4: a | B4: =IF(B3=1,DATE(B2,1,1),DATE(B2,B3-1,1)) | Z4: =IF(Settings!$D$13="","",Settings!$D$13)
A5: b | B5: =IF(B3=1,DATE(B2+1,1,1),EDATE(B4,1)) | Z5: =IF(Settings!$D$14="","",Settings!$D$14)
A6: crit | B6: =IF(OR(Dashboard!$O$7="",COUNTIF(Lang!$C$15:$N$15,Dashboard!$O$7)>0),"*",Dashboard!$O$7) | Z6: =IF(Settings!$D$15="","",Settings!$D$15)
Z7: =IF(Settings!$D$16="","",Settings!$D$16)
A8: rev | B8: =SUMIFS(Orders!$K$8:$K$5007,Orders!$A$8:$A$5007,">="&$B$4,Orders!$A$8:$A$5007,"<"&$B$5,Orders!$C$8:$C$5007,$B$6) | Z8: =IF(Settings!$D$17="","",Settings!$D$17)
A9: cm | B9: =SUMIFS(Orders!$N$8:$N$5007,Orders!$A$8:$A$5007,">="&$B$4,Orders!$A$8:$A$5007,"<"&$B$5,Orders!$C$8:$C$5007,$B$6) | Z9: =IF(Settings!$D$18="","",Settings!$D$18)
A10: n | B10: =COUNTIFS(Orders!$A$8:$A$5007,">="&$B$4,Orders!$A$8:$A$5007,"<"&$B$5,Orders!$C$8:$C$5007,$B$6)
A11: ret | B11: =COUNTIFS(Orders!$A$8:$A$5007,">="&$B$4,Orders!$A$8:$A$5007,"<"&$B$5,Orders!$C$8:$C$5007,$B$6,Orders!$P$8:$P$5007,1)
A12: ads | B12: =SUMIFS(Marketing!$C$8:$C$307,Marketing!$A$8:$A$307,">="&$B$4,Marketing!$A$8:$A$307,"<"&$B$5,Marketing!$B$8:$B$307,$B$6)
A13: profit | B13: =B9-B12
A19: month | B19: lbl | C19: rev | D19: cm | E19: ads | F19: profit
A20: =DATE($B$2,1,1) | B20: =Lang!$B$93 | C20: =SUMIFS(Orders!$K$8:$K$5007,Orders!$A$8:$A$5007,">="&DATE($B$2,1,1),Orders!$A$8:$A$5007,"<"&DATE($B$2,2,1),Orders!$C$8:$C$5007,$B$6) | D20: =SUMIFS(Orders!$N$8:$N$5007,Orders!$A$8:$A$5007,">="&DATE($B$2,1,1),Orders!$A$8:$A$5007,"<"&DATE($B$2,2,1),Orders!$C$8:$C$5007,$B$6) | E20: =SUMIFS(Marketing!$C$8:$C$307,Marketing!$A$8:$A$307,">="&DATE($B$2,1,1),Marketing!$A$8:$A$307,"<"&DATE($B$2,2,1),Marketing!$B$8:$B$307,$B$6) | F20: =D20-E20
A21: =DATE($B$2,2,1) | B21: =Lang!$B$94 | C21: =SUMIFS(Orders!$K$8:$K$5007,Orders!$A$8:$A$5007,">="&DATE($B$2,2,1),Orders!$A$8:$A$5007,"<"&DATE($B$2,3,1),Orders!$C$8:$C$5007,$B$6) | D21: =SUMIFS(Orders!$N$8:$N$5007,Orders!$A$8:$A$5007,">="&DATE($B$2,2,1),Orders!$A$8:$A$5007,"<"&DATE($B$2,3,1),Orders!$C$8:$C$5007,$B$6) | E21: =SUMIFS(Marketing!$C$8:$C$307,Marketing!$A$8:$A$307,">="&DATE($B$2,2,1),Marketing!$A$8:$A$307,"<"&DATE($B$2,3,1),Marketing!$B$8:$B$307,$B$6) | F21: =D21-E21
A22: =DATE($B$2,3,1) | B22: =Lang!$B$95 | C22: =SUMIFS(Orders!$K$8:$K$5007,Orders!$A$8:$A$5007,">="&DATE($B$2,3,1),Orders!$A$8:$A$5007,"<"&DATE($B$2,4,1),Orders!$C$8:$C$5007,$B$6) | D22: =SUMIFS(Orders!$N$8:$N$5007,Orders!$A$8:$A$5007,">="&DATE($B$2,3,1),Orders!$A$8:$A$5007,"<"&DATE($B$2,4,1),Orders!$C$8:$C$5007,$B$6) | E22: =SUMIFS(Marketing!$C$8:$C$307,Marketing!$A$8:$A$307,">="&DATE($B$2,3,1),Marketing!$A$8:$A$307,"<"&DATE($B$2,4,1),Marketing!$B$8:$B$307,$B$6) | F22: =D22-E22
A23: =DATE($B$2,4,1) | B23: =Lang!$B$96 | C23: =SUMIFS(Orders!$K$8:$K$5007,Orders!$A$8:$A$5007,">="&DATE($B$2,4,1),Orders!$A$8:$A$5007,"<"&DATE($B$2,5,1),Orders!$C$8:$C$5007,$B$6) | D23: =SUMIFS(Orders!$N$8:$N$5007,Orders!$A$8:$A$5007,">="&DATE($B$2,4,1),Orders!$A$8:$A$5007,"<"&DATE($B$2,5,1),Orders!$C$8:$C$5007,$B$6) | E23: =SUMIFS(Marketing!$C$8:$C$307,Marketing!$A$8:$A$307,">="&DATE($B$2,4,1),Marketing!$A$8:$A$307,"<"&DATE($B$2,5,1),Marketing!$B$8:$B$307,$B$6) | F23: =D23-E23
A24: =DATE($B$2,5,1) | B24: =Lang!$B$97 | C24: =SUMIFS(Orders!$K$8:$K$5007,Orders!$A$8:$A$5007,">="&DATE($B$2,5,1),Orders!$A$8:$A$5007,"<"&DATE($B$2,6,1),Orders!$C$8:$C$5007,$B$6) | D24: =SUMIFS(Orders!$N$8:$N$5007,Orders!$A$8:$A$5007,">="&DATE($B$2,5,1),Orders!$A$8:$A$5007,"<"&DATE($B$2,6,1),Orders!$C$8:$C$5007,$B$6) | E24: =SUMIFS(Marketing!$C$8:$C$307,Marketing!$A$8:$A$307,">="&DATE($B$2,5,1),Marketing!$A$8:$A$307,"<"&DATE($B$2,6,1),Marketing!$B$8:$B$307,$B$6) | F24: =D24-E24
A25: =DATE($B$2,6,1) | B25: =Lang!$B$98 | C25: =SUMIFS(Orders!$K$8:$K$5007,Orders!$A$8:$A$5007,">="&DATE($B$2,6,1),Orders!$A$8:$A$5007,"<"&DATE($B$2,7,1),Orders!$C$8:$C$5007,$B$6) | D25: =SUMIFS(Orders!$N$8:$N$5007,Orders!$A$8:$A$5007,">="&DATE($B$2,6,1),Orders!$A$8:$A$5007,"<"&DATE($B$2,7,1),Orders!$C$8:$C$5007,$B$6) | E25: =SUMIFS(Marketing!$C$8:$C$307,Marketing!$A$8:$A$307,">="&DATE($B$2,6,1),Marketing!$A$8:$A$307,"<"&DATE($B$2,7,1),Marketing!$B$8:$B$307,$B$6) | F25: =D25-E25
A26: =DATE($B$2,7,1) | B26: =Lang!$B$99 | C26: =SUMIFS(Orders!$K$8:$K$5007,Orders!$A$8:$A$5007,">="&DATE($B$2,7,1),Orders!$A$8:$A$5007,"<"&DATE($B$2,8,1),Orders!$C$8:$C$5007,$B$6) | D26: =SUMIFS(Orders!$N$8:$N$5007,Orders!$A$8:$A$5007,">="&DATE($B$2,7,1),Orders!$A$8:$A$5007,"<"&DATE($B$2,8,1),Orders!$C$8:$C$5007,$B$6) | E26: =SUMIFS(Marketing!$C$8:$C$307,Marketing!$A$8:$A$307,">="&DATE($B$2,7,1),Marketing!$A$8:$A$307,"<"&DATE($B$2,8,1),Marketing!$B$8:$B$307,$B$6) | F26: =D26-E26
A27: =DATE($B$2,8,1) | B27: =Lang!$B$100 | C27: =SUMIFS(Orders!$K$8:$K$5007,Orders!$A$8:$A$5007,">="&DATE($B$2,8,1),Orders!$A$8:$A$5007,"<"&DATE($B$2,9,1),Orders!$C$8:$C$5007,$B$6) | D27: =SUMIFS(Orders!$N$8:$N$5007,Orders!$A$8:$A$5007,">="&DATE($B$2,8,1),Orders!$A$8:$A$5007,"<"&DATE($B$2,9,1),Orders!$C$8:$C$5007,$B$6) | E27: =SUMIFS(Marketing!$C$8:$C$307,Marketing!$A$8:$A$307,">="&DATE($B$2,8,1),Marketing!$A$8:$A$307,"<"&DATE($B$2,9,1),Marketing!$B$8:$B$307,$B$6) | F27: =D27-E27
A28: =DATE($B$2,9,1) | B28: =Lang!$B$101 | C28: =SUMIFS(Orders!$K$8:$K$5007,Orders!$A$8:$A$5007,">="&DATE($B$2,9,1),Orders!$A$8:$A$5007,"<"&DATE($B$2,10,1),Orders!$C$8:$C$5007,$B$6) | D28: =SUMIFS(Orders!$N$8:$N$5007,Orders!$A$8:$A$5007,">="&DATE($B$2,9,1),Orders!$A$8:$A$5007,"<"&DATE($B$2,10,1),Orders!$C$8:$C$5007,$B$6) | E28: =SUMIFS(Marketing!$C$8:$C$307,Marketing!$A$8:$A$307,">="&DATE($B$2,9,1),Marketing!$A$8:$A$307,"<"&DATE($B$2,10,1),Marketing!$B$8:$B$307,$B$6) | F28: =D28-E28
A29: =DATE($B$2,10,1) | B29: =Lang!$B$102 | C29: =SUMIFS(Orders!$K$8:$K$5007,Orders!$A$8:$A$5007,">="&DATE($B$2,10,1),Orders!$A$8:$A$5007,"<"&DATE($B$2,11,1),Orders!$C$8:$C$5007,$B$6) | D29: =SUMIFS(Orders!$N$8:$N$5007,Orders!$A$8:$A$5007,">="&DATE($B$2,10,1),Orders!$A$8:$A$5007,"<"&DATE($B$2,11,1),Orders!$C$8:$C$5007,$B$6) | E29: =SUMIFS(Marketing!$C$8:$C$307,Marketing!$A$8:$A$307,">="&DATE($B$2,10,1),Marketing!$A$8:$A$307,"<"&DATE($B$2,11,1),Marketing!$B$8:$B$307,$B$6) | F29: =D29-E29
A30: =DATE($B$2,11,1) | B30: =Lang!$B$103 | C30: =SUMIFS(Orders!$K$8:$K$5007,Orders!$A$8:$A$5007,">="&DATE($B$2,11,1),Orders!$A$8:$A$5007,"<"&DATE($B$2,12,1),Orders!$C$8:$C$5007,$B$6) | D30: =SUMIFS(Orders!$N$8:$N$5007,Orders!$A$8:$A$5007,">="&DATE($B$2,11,1),Orders!$A$8:$A$5007,"<"&DATE($B$2,12,1),Orders!$C$8:$C$5007,$B$6) | E30: =SUMIFS(Marketing!$C$8:$C$307,Marketing!$A$8:$A$307,">="&DATE($B$2,11,1),Marketing!$A$8:$A$307,"<"&DATE($B$2,12,1),Marketing!$B$8:$B$307,$B$6) | F30: =D30-E30
A31: =DATE($B$2,12,1) | B31: =Lang!$B$104 | C31: =SUMIFS(Orders!$K$8:$K$5007,Orders!$A$8:$A$5007,">="&DATE($B$2,12,1),Orders!$A$8:$A$5007,"<"&DATE($B$2+1,1,1),Orders!$C$8:$C$5007,$B$6) | D31: =SUMIFS(Orders!$N$8:$N$5007,Orders!$A$8:$A$5007,">="&DATE($B$2,12,1),Orders!$A$8:$A$5007,"<"&DATE($B$2+1,1,1),Orders!$C$8:$C$5007,$B$6) | E31: =SUMIFS(Marketing!$C$8:$C$307,Marketing!$A$8:$A$307,">="&DATE($B$2,12,1),Marketing!$A$8:$A$307,"<"&DATE($B$2+1,1,1),Marketing!$B$8:$B$307,$B$6) | F31: =D31-E31
A39: channel | B39: lbl | C39: rev | D39: cm | E39: ads | F39: profit | G39: retRate | H39: chartP | I39: keyP | J39: keyR
A40: =Settings!$D$11&"" | B40: =IF(A40="", " ",A40) | C40: =IF(A40="",0,SUMIFS(Orders!$K$8:$K$5007,Orders!$A$8:$A$5007,">="&$B$4,Orders!$A$8:$A$5007,"<"&$B$5,Orders!$C$8:$C$5007,$A40)) | D40: =IF(A40="",0,SUMIFS(Orders!$N$8:$N$5007,Orders!$A$8:$A$5007,">="&$B$4,Orders!$A$8:$A$5007,"<"&$B$5,Orders!$C$8:$C$5007,$A40)) | E40: =IF(A40="",0,SUMIFS(Marketing!$C$8:$C$307,Marketing!$A$8:$A$307,">="&$B$4,Marketing!$A$8:$A$307,"<"&$B$5,Marketing!$B$8:$B$307,$A40)) | F40: =D40-E40 | G40: =IF(A40="",0,IFERROR(COUNTIFS(Orders!$A$8:$A$5007,">="&$B$4,Orders!$A$8:$A$5007,"<"&$B$5,Orders!$C$8:$C$5007,$A40,Orders!$P$8:$P$5007,1)/COUNTIFS(Orders!$A$8:$A$5007,">="&$B$4,Orders!$A$8:$A$5007,"<"&$B$5,Orders!$C$8:$C$5007,$A40),0)) | H40: =IF(A40="",NA(),F40) | I40: =IF(A40="",-1E+99,F40) | J40: =IF(A40="",-1,G40)
A41: =Settings!$D$12&"" | B41: =IF(A41="", " ",A41) | C41: =IF(A41="",0,SUMIFS(Orders!$K$8:$K$5007,Orders!$A$8:$A$5007,">="&$B$4,Orders!$A$8:$A$5007,"<"&$B$5,Orders!$C$8:$C$5007,$A41)) | D41: =IF(A41="",0,SUMIFS(Orders!$N$8:$N$5007,Orders!$A$8:$A$5007,">="&$B$4,Orders!$A$8:$A$5007,"<"&$B$5,Orders!$C$8:$C$5007,$A41)) | E41: =IF(A41="",0,SUMIFS(Marketing!$C$8:$C$307,Marketing!$A$8:$A$307,">="&$B$4,Marketing!$A$8:$A$307,"<"&$B$5,Marketing!$B$8:$B$307,$A41)) | F41: =D41-E41 | G41: =IF(A41="",0,IFERROR(COUNTIFS(Orders!$A$8:$A$5007,">="&$B$4,Orders!$A$8:$A$5007,"<"&$B$5,Orders!$C$8:$C$5007,$A41,Orders!$P$8:$P$5007,1)/COUNTIFS(Orders!$A$8:$A$5007,">="&$B$4,Orders!$A$8:$A$5007,"<"&$B$5,Orders!$C$8:$C$5007,$A41),0)) | H41: =IF(A41="",NA(),F41) | I41: =IF(A41="",-1E+99,F41) | J41: =IF(A41="",-1,G41)
A42: =Settings!$D$13&"" | B42: =IF(A42="", " ",A42) | C42: =IF(A42="",0,SUMIFS(Orders!$K$8:$K$5007,Orders!$A$8:$A$5007,">="&$B$4,Orders!$A$8:$A$5007,"<"&$B$5,Orders!$C$8:$C$5007,$A42)) | D42: =IF(A42="",0,SUMIFS(Orders!$N$8:$N$5007,Orders!$A$8:$A$5007,">="&$B$4,Orders!$A$8:$A$5007,"<"&$B$5,Orders!$C$8:$C$5007,$A42)) | E42: =IF(A42="",0,SUMIFS(Marketing!$C$8:$C$307,Marketing!$A$8:$A$307,">="&$B$4,Marketing!$A$8:$A$307,"<"&$B$5,Marketing!$B$8:$B$307,$A42)) | F42: =D42-E42 | G42: =IF(A42="",0,IFERROR(COUNTIFS(Orders!$A$8:$A$5007,">="&$B$4,Orders!$A$8:$A$5007,"<"&$B$5,Orders!$C$8:$C$5007,$A42,Orders!$P$8:$P$5007,1)/COUNTIFS(Orders!$A$8:$A$5007,">="&$B$4,Orders!$A$8:$A$5007,"<"&$B$5,Orders!$C$8:$C$5007,$A42),0)) | H42: =IF(A42="",NA(),F42) | I42: =IF(A42="",-1E+99,F42) | J42: =IF(A42="",-1,G42)
A43: =Settings!$D$14&"" | B43: =IF(A43="", " ",A43) | C43: =IF(A43="",0,SUMIFS(Orders!$K$8:$K$5007,Orders!$A$8:$A$5007,">="&$B$4,Orders!$A$8:$A$5007,"<"&$B$5,Orders!$C$8:$C$5007,$A43)) | D43: =IF(A43="",0,SUMIFS(Orders!$N$8:$N$5007,Orders!$A$8:$A$5007,">="&$B$4,Orders!$A$8:$A$5007,"<"&$B$5,Orders!$C$8:$C$5007,$A43)) | E43: =IF(A43="",0,SUMIFS(Marketing!$C$8:$C$307,Marketing!$A$8:$A$307,">="&$B$4,Marketing!$A$8:$A$307,"<"&$B$5,Marketing!$B$8:$B$307,$A43)) | F43: =D43-E43 | G43: =IF(A43="",0,IFERROR(COUNTIFS(Orders!$A$8:$A$5007,">="&$B$4,Orders!$A$8:$A$5007,"<"&$B$5,Orders!$C$8:$C$5007,$A43,Orders!$P$8:$P$5007,1)/COUNTIFS(Orders!$A$8:$A$5007,">="&$B$4,Orders!$A$8:$A$5007,"<"&$B$5,Orders!$C$8:$C$5007,$A43),0)) | H43: =IF(A43="",NA(),F43) | I43: =IF(A43="",-1E+99,F43) | J43: =IF(A43="",-1,G43)
A44: =Settings!$D$15&"" | B44: =IF(A44="", " ",A44) | C44: =IF(A44="",0,SUMIFS(Orders!$K$8:$K$5007,Orders!$A$8:$A$5007,">="&$B$4,Orders!$A$8:$A$5007,"<"&$B$5,Orders!$C$8:$C$5007,$A44)) | D44: =IF(A44="",0,SUMIFS(Orders!$N$8:$N$5007,Orders!$A$8:$A$5007,">="&$B$4,Orders!$A$8:$A$5007,"<"&$B$5,Orders!$C$8:$C$5007,$A44)) | E44: =IF(A44="",0,SUMIFS(Marketing!$C$8:$C$307,Marketing!$A$8:$A$307,">="&$B$4,Marketing!$A$8:$A$307,"<"&$B$5,Marketing!$B$8:$B$307,$A44)) | F44: =D44-E44 | G44: =IF(A44="",0,IFERROR(COUNTIFS(Orders!$A$8:$A$5007,">="&$B$4,Orders!$A$8:$A$5007,"<"&$B$5,Orders!$C$8:$C$5007,$A44,Orders!$P$8:$P$5007,1)/COUNTIFS(Orders!$A$8:$A$5007,">="&$B$4,Orders!$A$8:$A$5007,"<"&$B$5,Orders!$C$8:$C$5007,$A44),0)) | H44: =IF(A44="",NA(),F44) | I44: =IF(A44="",-1E+99,F44) | J44: =IF(A44="",-1,G44)
A45: =Settings!$D$16&"" | B45: =IF(A45="", " ",A45) | C45: =IF(A45="",0,SUMIFS(Orders!$K$8:$K$5007,Orders!$A$8:$A$5007,">="&$B$4,Orders!$A$8:$A$5007,"<"&$B$5,Orders!$C$8:$C$5007,$A45)) | D45: =IF(A45="",0,SUMIFS(Orders!$N$8:$N$5007,Orders!$A$8:$A$5007,">="&$B$4,Orders!$A$8:$A$5007,"<"&$B$5,Orders!$C$8:$C$5007,$A45)) | E45: =IF(A45="",0,SUMIFS(Marketing!$C$8:$C$307,Marketing!$A$8:$A$307,">="&$B$4,Marketing!$A$8:$A$307,"<"&$B$5,Marketing!$B$8:$B$307,$A45)) | F45: =D45-E45 | G45: =IF(A45="",0,IFERROR(COUNTIFS(Orders!$A$8:$A$5007,">="&$B$4,Orders!$A$8:$A$5007,"<"&$B$5,Orders!$C$8:$C$5007,$A45,Orders!$P$8:$P$5007,1)/COUNTIFS(Orders!$A$8:$A$5007,">="&$B$4,Orders!$A$8:$A$5007,"<"&$B$5,Orders!$C$8:$C$5007,$A45),0)) | H45: =IF(A45="",NA(),F45) | I45: =IF(A45="",-1E+99,F45) | J45: =IF(A45="",-1,G45)
A46: =Settings!$D$17&"" | B46: =IF(A46="", " ",A46) | C46: =IF(A46="",0,SUMIFS(Orders!$K$8:$K$5007,Orders!$A$8:$A$5007,">="&$B$4,Orders!$A$8:$A$5007,"<"&$B$5,Orders!$C$8:$C$5007,$A46)) | D46: =IF(A46="",0,SUMIFS(Orders!$N$8:$N$5007,Orders!$A$8:$A$5007,">="&$B$4,Orders!$A$8:$A$5007,"<"&$B$5,Orders!$C$8:$C$5007,$A46)) | E46: =IF(A46="",0,SUMIFS(Marketing!$C$8:$C$307,Marketing!$A$8:$A$307,">="&$B$4,Marketing!$A$8:$A$307,"<"&$B$5,Marketing!$B$8:$B$307,$A46)) | F46: =D46-E46 | G46: =IF(A46="",0,IFERROR(COUNTIFS(Orders!$A$8:$A$5007,">="&$B$4,Orders!$A$8:$A$5007,"<"&$B$5,Orders!$C$8:$C$5007,$A46,Orders!$P$8:$P$5007,1)/COUNTIFS(Orders!$A$8:$A$5007,">="&$B$4,Orders!$A$8:$A$5007,"<"&$B$5,Orders!$C$8:$C$5007,$A46),0)) | H46: =IF(A46="",NA(),F46) | I46: =IF(A46="",-1E+99,F46) | J46: =IF(A46="",-1,G46)
A47: =Settings!$D$18&"" | B47: =IF(A47="", " ",A47) | C47: =IF(A47="",0,SUMIFS(Orders!$K$8:$K$5007,Orders!$A$8:$A$5007,">="&$B$4,Orders!$A$8:$A$5007,"<"&$B$5,Orders!$C$8:$C$5007,$A47)) | D47: =IF(A47="",0,SUMIFS(Orders!$N$8:$N$5007,Orders!$A$8:$A$5007,">="&$B$4,Orders!$A$8:$A$5007,"<"&$B$5,Orders!$C$8:$C$5007,$A47)) | E47: =IF(A47="",0,SUMIFS(Marketing!$C$8:$C$307,Marketing!$A$8:$A$307,">="&$B$4,Marketing!$A$8:$A$307,"<"&$B$5,Marketing!$B$8:$B$307,$A47)) | F47: =D47-E47 | G47: =IF(A47="",0,IFERROR(COUNTIFS(Orders!$A$8:$A$5007,">="&$B$4,Orders!$A$8:$A$5007,"<"&$B$5,Orders!$C$8:$C$5007,$A47,Orders!$P$8:$P$5007,1)/COUNTIFS(Orders!$A$8:$A$5007,">="&$B$4,Orders!$A$8:$A$5007,"<"&$B$5,Orders!$C$8:$C$5007,$A47),0)) | H47: =IF(A47="",NA(),F47) | I47: =IF(A47="",-1E+99,F47) | J47: =IF(A47="",-1,G47)
A50: =IF(LARGE($F$60:$F$359,1)<-1E+98," ",INDEX($B$60:$B$359,MATCH(LARGE($F$60:$F$359,1),$F$60:$F$359,0))) | B50: =IF(LARGE($F$60:$F$359,1)<-1E+98,NA(),INDEX($D$60:$D$359,MATCH(LARGE($F$60:$F$359,1),$F$60:$F$359,0)))
A51: =IF(LARGE($F$60:$F$359,2)<-1E+98," ",INDEX($B$60:$B$359,MATCH(LARGE($F$60:$F$359,2),$F$60:$F$359,0))) | B51: =IF(LARGE($F$60:$F$359,2)<-1E+98,NA(),INDEX($D$60:$D$359,MATCH(LARGE($F$60:$F$359,2),$F$60:$F$359,0)))
A52: =IF(LARGE($F$60:$F$359,3)<-1E+98," ",INDEX($B$60:$B$359,MATCH(LARGE($F$60:$F$359,3),$F$60:$F$359,0))) | B52: =IF(LARGE($F$60:$F$359,3)<-1E+98,NA(),INDEX($D$60:$D$359,MATCH(LARGE($F$60:$F$359,3),$F$60:$F$359,0)))
A53: =IF(LARGE($F$60:$F$359,4)<-1E+98," ",INDEX($B$60:$B$359,MATCH(LARGE($F$60:$F$359,4),$F$60:$F$359,0))) | B53: =IF(LARGE($F$60:$F$359,4)<-1E+98,NA(),INDEX($D$60:$D$359,MATCH(LARGE($F$60:$F$359,4),$F$60:$F$359,0)))
A54: =IF(LARGE($F$60:$F$359,5)<-1E+98," ",INDEX($B$60:$B$359,MATCH(LARGE($F$60:$F$359,5),$F$60:$F$359,0))) | B54: =IF(LARGE($F$60:$F$359,5)<-1E+98,NA(),INDEX($D$60:$D$359,MATCH(LARGE($F$60:$F$359,5),$F$60:$F$359,0)))
...
