Workbook
Name dDate: 'Data Entry'!$A$8:$A$10007
Name dDept: 'Data Entry'!$B$8:$B$10007
Name dShift: 'Data Entry'!$C$8:$C$10007
Name dOrders: 'Data Entry'!$D$8:$D$10007
Name dOnTime: 'Data Entry'!$E$8:$E$10007
Name dLines: 'Data Entry'!$F$8:$F$10007
Name dCorrect: 'Data Entry'!$G$8:$G$10007
Name dHours: 'Data Entry'!$H$8:$H$10007
Name dTarget: 'Data Entry'!$I$8:$I$10007
Name dCost: 'Data Entry'!$J$8:$J$10007
Name dInc: 'Data Entry'!$K$8:$K$10007
Name chLab: OFFSET(Calc!$E$21,0,0,MAX(1,Calc!$B$8),1)
Name chAct: OFFSET(Calc!$U$21,0,0,MAX(1,Calc!$B$8),1)
Name chBase: OFFSET(Calc!$V$21,0,0,MAX(1,Calc!$B$8),1)
Name chTgt: OFFSET(Calc!$W$21,0,0,MAX(1,Calc!$B$8),1)
Name chVar: OFFSET(Calc!$X$21,0,0,MAX(1,Calc!$B$8),1)
Name chMean: OFFSET(Calc!$Z$21,0,0,MAX(1,Calc!$B$8),1)
Name chUp: OFFSET(Calc!$AA$21,0,0,MAX(1,Calc!$B$8),1)
Name chLo: OFFSET(Calc!$AB$21,0,0,MAX(1,Calc!$B$8),1)

Sheet START
B2: K1 | F2: ="KEYONE / "&Lang!$B$9
F4: =Lang!$B$10
B7: =HYPERLINK("#'START'!A1",Lang!$B$2) | D7: =HYPERLINK("#'Dashboard'!A1",Lang!$B$3) | F7: =HYPERLINK("#'Report'!A1",Lang!$B$4) | H7: =HYPERLINK("#'Comparison'!A1",Lang!$B$5) | J7: =HYPERLINK("#'Statistics'!A1",Lang!$B$6) | L7: =HYPERLINK("#'Data Entry'!A1",Lang!$B$7) | N7: =HYPERLINK("#'Settings'!A1",Lang!$B$8)
B9: =Lang!$B$11
B13: 01 | E13: =Lang!$B$12
E14: =Lang!$B$13
B17: 02 | E17: =Lang!$B$14
E18: =Lang!$B$15
B21: 03 | E21: =Lang!$B$16
E22: =Lang!$B$17
B25: 04 | E25: =Lang!$B$18
E26: =Lang!$B$19
B30: =Lang!$B$21
B32: =Lang!$B$20
B35: =Lang!$B$133
B36: Keywan Fakhri | I36: =Lang!$B$134
B38: =Lang!$B$135
B39: =HYPERLINK("https://keywanfakhri.com","keywanfakhri.com") | F39: =HYPERLINK("mailto:keywanfakhri1@gmail.com","keywanfakhri1@gmail.com") | L39: =HYPERLINK("https://www.linkedin.com/in/rahmatallah-keywan-fakhri/","LinkedIn: rahmatallah-keywan-fakhri")

Sheet Dashboard
B2: K1 | E2: ="KEYONE / "&Lang!$B$22
E3: =Lang!$B$23
B4: =HYPERLINK("#'START'!A1",Lang!$B$2) | D4: =HYPERLINK("#'Dashboard'!A1",Lang!$B$3) | F4: =HYPERLINK("#'Report'!A1",Lang!$B$4) | H4: =HYPERLINK("#'Comparison'!A1",Lang!$B$5) | J4: =HYPERLINK("#'Statistics'!A1",Lang!$B$6) | L4: =HYPERLINK("#'Data Entry'!A1",Lang!$B$7) | N4: =HYPERLINK("#'Settings'!A1",Lang!$B$8)
B6: =Lang!$B$24 | E6: =Lang!$B$25 | H6: =Lang!$B$26 | K6: =Lang!$B$27 | N6: =Lang!$B$28 | Q6: =Lang!$B$29
B7: 2026 | E7: 2025 | H7: All | K7: Monthly | N7: 10 | Q7: 3
B8: =Lang!$B$30
B10: =Lang!$B$31 | E10: =Lang!$B$32 | H10: =Lang!$B$33 | K10: =Lang!$B$34 | N10: =Lang!$B$35 | Q10: =Lang!$B$36
B11: =SUM(Calc!$F$21:$F$51) | E11: =IFERROR(SUM(Calc!$I$21:$I$51)/SUM(Calc!$F$21:$F$51),"") | H11: =IFERROR(SUM(Calc!$K$21:$K$51)/SUM(Calc!$J$21:$J$51),"") | K11: =IFERROR(SUM(Calc!$F$21:$F$51)/SUM(Calc!$L$21:$L$51),"") | N11: =IFERROR(SUM(Calc!$F$21:$F$51)/SUMIFS(Calc!$H$21:$H$51,Calc!$F$21:$F$51,">0")-1,"") | Q11: =IFERROR(SUMIFS(Calc!$F$21:$F$51,Calc!$F$21:$F$51,">0",Calc!$G$21:$G$51,">0")/SUMIFS(Calc!$G$21:$G$51,Calc!$F$21:$F$51,">0",Calc!$G$21:$G$51,">0")-1,"")
B13: =Lang!$B$41 | D13: =SUM(Calc!$G$21:$G$51) | E13: =Lang!$B$38 | G13: =Settings!$D$10 | H13: =Lang!$B$38 | J13: =Settings!$D$12 | K13: =Lang!$B$39 | M13: =SUM(Calc!$L$21:$L$51) | N13: =Lang!$B$40 | P13: =SUMIFS(Calc!$H$21:$H$51,Calc!$F$21:$F$51,">0") | Q13: =Lang!$B$37 | S13: =Calc!$B$3
B16: =Lang!$B$42 | N16: =Lang!$B$43
B36: =Lang!$B$44 | O36: =Lang!$B$45
C38: =Lang!$B$58 | D38: =Lang!$B$59 | E38: =Lang!$B$60 | F38: =Lang!$B$61 | G38: =Lang!$B$62 | H38: =Lang!$B$63 | I38: =Lang!$B$64 | J38: =Lang!$B$65 | K38: =Lang!$B$66 | L38: =Lang!$B$67 | M38: =Lang!$B$68 | N38: =Lang!$B$69 | O38: =Lang!$B$50
B39: =Calc!$B$2-2 | C39: =SUMIFS(dOrders,dDate,">="&DATE($B39,1,1),dDate,"<"&EDATE(DATE($B39,1,1),1),dDept,Calc!$B$7) | D39: =SUMIFS(dOrders,dDate,">="&DATE($B39,2,1),dDate,"<"&EDATE(DATE($B39,2,1),1),dDept,Calc!$B$7) | E39: =SUMIFS(dOrders,dDate,">="&DATE($B39,3,1),dDate,"<"&EDATE(DATE($B39,3,1),1),dDept,Calc!$B$7) | F39: =SUMIFS(dOrders,dDate,">="&DATE($B39,4,1),dDate,"<"&EDATE(DATE($B39,4,1),1),dDept,Calc!$B$7) | G39: =SUMIFS(dOrders,dDate,">="&DATE($B39,5,1),dDate,"<"&EDATE(DATE($B39,5,1),1),dDept,Calc!$B$7) | H39: =SUMIFS(dOrders,dDate,">="&DATE($B39,6,1),dDate,"<"&EDATE(DATE($B39,6,1),1),dDept,Calc!$B$7) | I39: =SUMIFS(dOrders,dDate,">="&DATE($B39,7,1),dDate,"<"&EDATE(DATE($B39,7,1),1),dDept,Calc!$B$7) | J39: =SUMIFS(dOrders,dDate,">="&DATE($B39,8,1),dDate,"<"&EDATE(DATE($B39,8,1),1),dDept,Calc!$B$7) | K39: =SUMIFS(dOrders,dDate,">="&DATE($B39,9,1),dDate,"<"&EDATE(DATE($B39,9,1),1),dDept,Calc!$B$7) | L39: =SUMIFS(dOrders,dDate,">="&DATE($B39,10,1),dDate,"<"&EDATE(DATE($B39,10,1),1),dDept,Calc!$B$7) | M39: =SUMIFS(dOrders,dDate,">="&DATE($B39,11,1),dDate,"<"&EDATE(DATE($B39,11,1),1),dDept,Calc!$B$7) | N39: =SUMIFS(dOrders,dDate,">="&DATE($B39,12,1),dDate,"<"&EDATE(DATE($B39,12,1),1),dDept,Calc!$B$7) | O39: =IFERROR(INDEX(Calc!$E$21:$E$51,MATCH(MAX(Calc!$Y$21:$Y$51),Calc!$Y$21:$Y$51,0)),"–") | R39: =IFERROR(MAX(Calc!$Y$21:$Y$51),"")
B40: =Calc!$B$2-1 | C40: =SUMIFS(dOrders,dDate,">="&DATE($B40,1,1),dDate,"<"&EDATE(DATE($B40,1,1),1),dDept,Calc!$B$7) | D40: =SUMIFS(dOrders,dDate,">="&DATE($B40,2,1),dDate,"<"&EDATE(DATE($B40,2,1),1),dDept,Calc!$B$7) | E40: =SUMIFS(dOrders,dDate,">="&DATE($B40,3,1),dDate,"<"&EDATE(DATE($B40,3,1),1),dDept,Calc!$B$7) | F40: =SUMIFS(dOrders,dDate,">="&DATE($B40,4,1),dDate,"<"&EDATE(DATE($B40,4,1),1),dDept,Calc!$B$7) | G40: =SUMIFS(dOrders,dDate,">="&DATE($B40,5,1),dDate,"<"&EDATE(DATE($B40,5,1),1),dDept,Calc!$B$7) | H40: =SUMIFS(dOrders,dDate,">="&DATE($B40,6,1),dDate,"<"&EDATE(DATE($B40,6,1),1),dDept,Calc!$B$7) | I40: =SUMIFS(dOrders,dDate,">="&DATE($B40,7,1),dDate,"<"&EDATE(DATE($B40,7,1),1),dDept,Calc!$B$7) | J40: =SUMIFS(dOrders,dDate,">="&DATE($B40,8,1),dDate,"<"&EDATE(DATE($B40,8,1),1),dDept,Calc!$B$7) | K40: =SUMIFS(dOrders,dDate,">="&DATE($B40,9,1),dDate,"<"&EDATE(DATE($B40,9,1),1),dDept,Calc!$B$7) | L40: =SUMIFS(dOrders,dDate,">="&DATE($B40,10,1),dDate,"<"&EDATE(DATE($B40,10,1),1),dDept,Calc!$B$7) | M40: =SUMIFS(dOrders,dDate,">="&DATE($B40,11,1),dDate,"<"&EDATE(DATE($B40,11,1),1),dDept,Calc!$B$7) | N40: =SUMIFS(dOrders,dDate,">="&DATE($B40,12,1),dDate,"<"&EDATE(DATE($B40,12,1),1),dDept,Calc!$B$7) | O40: =Lang!$B$51
B41: =Calc!$B$2-0 | C41: =SUMIFS(dOrders,dDate,">="&DATE($B41,1,1),dDate,"<"&EDATE(DATE($B41,1,1),1),dDept,Calc!$B$7) | D41: =SUMIFS(dOrders,dDate,">="&DATE($B41,2,1),dDate,"<"&EDATE(DATE($B41,2,1),1),dDept,Calc!$B$7) | E41: =SUMIFS(dOrders,dDate,">="&DATE($B41,3,1),dDate,"<"&EDATE(DATE($B41,3,1),1),dDept,Calc!$B$7) | F41: =SUMIFS(dOrders,dDate,">="&DATE($B41,4,1),dDate,"<"&EDATE(DATE($B41,4,1),1),dDept,Calc!$B$7) | G41: =SUMIFS(dOrders,dDate,">="&DATE($B41,5,1),dDate,"<"&EDATE(DATE($B41,5,1),1),dDept,Calc!$B$7) | H41: =SUMIFS(dOrders,dDate,">="&DATE($B41,6,1),dDate,"<"&EDATE(DATE($B41,6,1),1),dDept,Calc!$B$7) | I41: =SUMIFS(dOrders,dDate,">="&DATE($B41,7,1),dDate,"<"&EDATE(DATE($B41,7,1),1),dDept,Calc!$B$7) | J41: =SUMIFS(dOrders,dDate,">="&DATE($B41,8,1),dDate,"<"&EDATE(DATE($B41,8,1),1),dDept,Calc!$B$7) | K41: =SUMIFS(dOrders,dDate,">="&DATE($B41,9,1),dDate,"<"&EDATE(DATE($B41,9,1),1),dDept,Calc!$B$7) | L41: =SUMIFS(dOrders,dDate,">="&DATE($B41,10,1),dDate,"<"&EDATE(DATE($B41,10,1),1),dDept,Calc!$B$7) | M41: =SUMIFS(dOrders,dDate,">="&DATE($B41,11,1),dDate,"<"&EDATE(DATE($B41,11,1),1),dDept,Calc!$B$7) | N41: =SUMIFS(dOrders,dDate,">="&DATE($B41,12,1),dDate,"<"&EDATE(DATE($B41,12,1),1),dDept,Calc!$B$7) | O41: =IFERROR(INDEX(Calc!$E$21:$E$51,MATCH(MIN(Calc!$Y$21:$Y$51),Calc!$Y$21:$Y$51,0)),"–") | R41: =IFERROR(MIN(Calc!$Y$21:$Y$51),"")
O42: =Lang!$B$52
O43: =IF(E11="","–",IF(E11>=Settings!$D$10,Lang!$B$54,Lang!$B$55)) | R43: =E11
B44: =Lang!$B$21 | O44: =Lang!$B$53
O45: =IF(H11="","–",IF(H11>=Settings!$D$12,Lang!$B$54,Lang!$B$55)) | R45: =H11
O46: =Lang!$B$57&" • "&Lang!$B$56
B47: =Lang!$B$20 | O47: =IFERROR(SUM(Calc!$M$21:$M$51)/SUM(Calc!$F$21:$F$51),"") | R47: =SUM(Calc!$N$21:$N$51)

Sheet Report
B2: K1 | E2: ="KEYONE / "&Lang!$B$78
E3: =Lang!$B$79
B4: =HYPERLINK("#'START'!A1",Lang!$B$2) | D4: =HYPERLINK("#'Dashboard'!A1",Lang!$B$3) | F4: =HYPERLINK("#'Report'!A1",Lang!$B$4) | H4: =HYPERLINK("#'Comparison'!A1",Lang!$B$5) | J4: =HYPERLINK("#'Statistics'!A1",Lang!$B$6) | L4: =HYPERLINK("#'Data Entry'!A1",Lang!$B$7) | N4: =HYPERLINK("#'Settings'!A1",Lang!$B$8)
B6: =Lang!$B$80 | E6: =Lang!$B$27 | H6: =Lang!$B$24 | J6: =Lang!$B$25 | L6: =Lang!$B$26
B7: =Settings!$D$8 | E7: =Dashboard!K7 | H7: =Calc!$B$2 | J7: =Calc!$B$3 | L7: =Dashboard!H7
B9: =Lang!$B$31 | E9: =Lang!$B$32 | H9: =Lang!$B$33 | K9: =Lang!$B$34 | N9: =Lang!$B$35 | Q9: =Lang!$B$36
B10: =Dashboard!B11 | E10: =Dashboard!E11 | H10: =Dashboard!H11 | K10: =Dashboard!K11 | N10: =Dashboard!N11 | Q10: =Dashboard!Q11
B12: =Lang!$B$81 | C12: =Lang!$B$82 | D12: =Lang!$B$83 | E12: =Lang!$B$84 | F12: =Lang!$B$85 | G12: =Lang!$B$86 | H12: =Lang!$B$87 | I12: =Lang!$B$88 | J12: =Lang!$B$89 | K12: =Lang!$B$90 | L12: =Lang!$B$91 | N12: =Lang!$B$42
B13: =IF(Calc!$B21=0,"",Calc!E21) | C13: =IF(Calc!$B21=0,"",Calc!F21) | D13: =IF(Calc!$B21=0,"",Calc!G21) | E13: =IF(Calc!$B21=0,"",Calc!H21) | F13: =IF(Calc!$B21=0,"",Calc!S21) | G13: =IF(Calc!$B21=0,"",Calc!T21) | H13: =IF(Calc!$B21=0,"",Calc!P21) | I13: =IF(Calc!$B21=0,"",Calc!Q21) | J13: =IF(Calc!$B21=0,"",Calc!R21) | K13: =IF(Calc!$B21=0,"",Calc!AC21) | L13: =IF(Calc!$B21=0,"",Calc!N21)
B14: =IF(Calc!$B22=0,"",Calc!E22) | C14: =IF(Calc!$B22=0,"",Calc!F22) | D14: =IF(Calc!$B22=0,"",Calc!G22) | E14: =IF(Calc!$B22=0,"",Calc!H22) | F14: =IF(Calc!$B22=0,"",Calc!S22) | G14: =IF(Calc!$B22=0,"",Calc!T22) | H14: =IF(Calc!$B22=0,"",Calc!P22) | I14: =IF(Calc!$B22=0,"",Calc!Q22) | J14: =IF(Calc!$B22=0,"",Calc!R22) | K14: =IF(Calc!$B22=0,"",Calc!AC22) | L14: =IF(Calc!$B22=0,"",Calc!N22)
B15: =IF(Calc!$B23=0,"",Calc!E23) | C15: =IF(Calc!$B23=0,"",Calc!F23) | D15: =IF(Calc!$B23=0,"",Calc!G23) | E15: =IF(Calc!$B23=0,"",Calc!H23) | F15: =IF(Calc!$B23=0,"",Calc!S23) | G15: =IF(Calc!$B23=0,"",Calc!T23) | H15: =IF(Calc!$B23=0,"",Calc!P23) | I15: =IF(Calc!$B23=0,"",Calc!Q23) | J15: =IF(Calc!$B23=0,"",Calc!R23) | K15: =IF(Calc!$B23=0,"",Calc!AC23) | L15: =IF(Calc!$B23=0,"",Calc!N23)
B16: =IF(Calc!$B24=0,"",Calc!E24) | C16: =IF(Calc!$B24=0,"",Calc!F24) | D16: =IF(Calc!$B24=0,"",Calc!G24) | E16: =IF(Calc!$B24=0,"",Calc!H24) | F16: =IF(Calc!$B24=0,"",Calc!S24) | G16: =IF(Calc!$B24=0,"",Calc!T24) | H16: =IF(Calc!$B24=0,"",Calc!P24) | I16: =IF(Calc!$B24=0,"",Calc!Q24) | J16: =IF(Calc!$B24=0,"",Calc!R24) | K16: =IF(Calc!$B24=0,"",Calc!AC24) | L16: =IF(Calc!$B24=0,"",Calc!N24)
B17: =IF(Calc!$B25=0,"",Calc!E25) | C17: =IF(Calc!$B25=0,"",Calc!F25) | D17: =IF(Calc!$B25=0,"",Calc!G25) | E17: =IF(Calc!$B25=0,"",Calc!H25) | F17: =IF(Calc!$B25=0,"",Calc!S25) | G17: =IF(Calc!$B25=0,"",Calc!T25) | H17: =IF(Calc!$B25=0,"",Calc!P25) | I17: =IF(Calc!$B25=0,"",Calc!Q25) | J17: =IF(Calc!$B25=0,"",Calc!R25) | K17: =IF(Calc!$B25=0,"",Calc!AC25) | L17: =IF(Calc!$B25=0,"",Calc!N25)
B18: =IF(Calc!$B26=0,"",Calc!E26) | C18: =IF(Calc!$B26=0,"",Calc!F26) | D18: =IF(Calc!$B26=0,"",Calc!G26) | E18: =IF(Calc!$B26=0,"",Calc!H26) | F18: =IF(Calc!$B26=0,"",Calc!S26) | G18: =IF(Calc!$B26=0,"",Calc!T26) | H18: =IF(Calc!$B26=0,"",Calc!P26) | I18: =IF(Calc!$B26=0,"",Calc!Q26) | J18: =IF(Calc!$B26=0,"",Calc!R26) | K18: =IF(Calc!$B26=0,"",Calc!AC26) | L18: =IF(Calc!$B26=0,"",Calc!N26)
B19: =IF(Calc!$B27=0,"",Calc!E27) | C19: =IF(Calc!$B27=0,"",Calc!F27) | D19: =IF(Calc!$B27=0,"",Calc!G27) | E19: =IF(Calc!$B27=0,"",Calc!H27) | F19: =IF(Calc!$B27=0,"",Calc!S27) | G19: =IF(Calc!$B27=0,"",Calc!T27) | H19: =IF(Calc!$B27=0,"",Calc!P27) | I19: =IF(Calc!$B27=0,"",Calc!Q27) | J19: =IF(Calc!$B27=0,"",Calc!R27) | K19: =IF(Calc!$B27=0,"",Calc!AC27) | L19: =IF(Calc!$B27=0,"",Calc!N27)
B20: =IF(Calc!$B28=0,"",Calc!E28) | C20: =IF(Calc!$B28=0,"",Calc!F28) | D20: =IF(Calc!$B28=0,"",Calc!G28) | E20: =IF(Calc!$B28=0,"",Calc!H28) | F20: =IF(Calc!$B28=0,"",Calc!S28) | G20: =IF(Calc!$B28=0,"",Calc!T28) | H20: =IF(Calc!$B28=0,"",Calc!P28) | I20: =IF(Calc!$B28=0,"",Calc!Q28) | J20: =IF(Calc!$B28=0,"",Calc!R28) | K20: =IF(Calc!$B28=0,"",Calc!AC28) | L20: =IF(Calc!$B28=0,"",Calc!N28)
B21: =IF(Calc!$B29=0,"",Calc!E29) | C21: =IF(Calc!$B29=0,"",Calc!F29) | D21: =IF(Calc!$B29=0,"",Calc!G29) | E21: =IF(Calc!$B29=0,"",Calc!H29) | F21: =IF(Calc!$B29=0,"",Calc!S29) | G21: =IF(Calc!$B29=0,"",Calc!T29) | H21: =IF(Calc!$B29=0,"",Calc!P29) | I21: =IF(Calc!$B29=0,"",Calc!Q29) | J21: =IF(Calc!$B29=0,"",Calc!R29) | K21: =IF(Calc!$B29=0,"",Calc!AC29) | L21: =IF(Calc!$B29=0,"",Calc!N29)
B22: =IF(Calc!$B30=0,"",Calc!E30) | C22: =IF(Calc!$B30=0,"",Calc!F30) | D22: =IF(Calc!$B30=0,"",Calc!G30) | E22: =IF(Calc!$B30=0,"",Calc!H30) | F22: =IF(Calc!$B30=0,"",Calc!S30) | G22: =IF(Calc!$B30=0,"",Calc!T30) | H22: =IF(Calc!$B30=0,"",Calc!P30) | I22: =IF(Calc!$B30=0,"",Calc!Q30) | J22: =IF(Calc!$B30=0,"",Calc!R30) | K22: =IF(Calc!$B30=0,"",Calc!AC30) | L22: =IF(Calc!$B30=0,"",Calc!N30)
B23: =IF(Calc!$B31=0,"",Calc!E31) | C23: =IF(Calc!$B31=0,"",Calc!F31) | D23: =IF(Calc!$B31=0,"",Calc!G31) | E23: =IF(Calc!$B31=0,"",Calc!H31) | F23: =IF(Calc!$B31=0,"",Calc!S31) | G23: =IF(Calc!$B31=0,"",Calc!T31) | H23: =IF(Calc!$B31=0,"",Calc!P31) | I23: =IF(Calc!$B31=0,"",Calc!Q31) | J23: =IF(Calc!$B31=0,"",Calc!R31) | K23: =IF(Calc!$B31=0,"",Calc!AC31) | L23: =IF(Calc!$B31=0,"",Calc!N31)
B24: =IF(Calc!$B32=0,"",Calc!E32) | C24: =IF(Calc!$B32=0,"",Calc!F32) | D24: =IF(Calc!$B32=0,"",Calc!G32) | E24: =IF(Calc!$B32=0,"",Calc!H32) | F24: =IF(Calc!$B32=0,"",Calc!S32) | G24: =IF(Calc!$B32=0,"",Calc!T32) | H24: =IF(Calc!$B32=0,"",Calc!P32) | I24: =IF(Calc!$B32=0,"",Calc!Q32) | J24: =IF(Calc!$B32=0,"",Calc!R32) | K24: =IF(Calc!$B32=0,"",Calc!AC32) | L24: =IF(Calc!$B32=0,"",Calc!N32)
... B30: =IF(Calc!$B38=0,"",Calc!E38) | C30: =IF(Calc!$B38=0,"",Calc!F38) | D30: =IF(Calc!$B38=0,"",Calc!G38) | E30: =IF(Calc!$B38=0,"",Calc!H38) | F30: =IF(Calc!$B38=0,"",Calc!S38) | G30: =IF(Calc!$B38=0,"",Calc!T38) | H30: =IF(Calc!$B38=0,"",Calc!P38) | I30: =IF(Calc!$B38=0,"",Calc!Q38) | J30: =IF(Calc!$B38=0,"",Calc!R38) | K30: =IF(Calc!$B38=0,"",Calc!AC38) | L30: =IF(Calc!$B38=0,"",Calc!N38)
B31: =IF(Calc!$B39=0,"",Calc!E39) | C31: =IF(Calc!$B39=0,"",Calc!F39) | D31: =IF(Calc!$B39=0,"",Calc!G39) | E31: =IF(Calc!$B39=0,"",Calc!H39) | F31: =IF(Calc!$B39=0,"",Calc!S39) | G31: =IF(Calc!$B39=0,"",Calc!T39) | H31: =IF(Calc!$B39=0,"",Calc!P39) | I31: =IF(Calc!$B39=0,"",Calc!Q39) | J31: =IF(Calc!$B39=0,"",Calc!R39) | K31: =IF(Calc!$B39=0,"",Calc!AC39) | L31: =IF(Calc!$B39=0,"",Calc!N39) | N31: =Lang!$B$45
B32: =IF(Calc!$B40=0,"",Calc!E40) | C32: =IF(Calc!$B40=0,"",Calc!F40) | D32: =IF(Calc!$B40=0,"",Calc!G40) | E32: =IF(Calc!$B40=0,"",Calc!H40) | F32: =IF(Calc!$B40=0,"",Calc!S40) | G32: =IF(Calc!$B40=0,"",Calc!T40) | H32: =IF(Calc!$B40=0,"",Calc!P40) | I32: =IF(Calc!$B40=0,"",Calc!Q40) | J32: =IF(Calc!$B40=0,"",Calc!R40) | K32: =IF(Calc!$B40=0,"",Calc!AC40) | L32: =IF(Calc!$B40=0,"",Calc!N40) | N32: =Lang!$B$50
B33: =IF(Calc!$B41=0,"",Calc!E41) | C33: =IF(Calc!$B41=0,"",Calc!F41) | D33: =IF(Calc!$B41=0,"",Calc!G41) | E33: =IF(Calc!$B41=0,"",Calc!H41) | F33: =IF(Calc!$B41=0,"",Calc!S41) | G33: =IF(Calc!$B41=0,"",Calc!T41) | H33: =IF(Calc!$B41=0,"",Calc!P41) | I33: =IF(Calc!$B41=0,"",Calc!Q41) | J33: =IF(Calc!$B41=0,"",Calc!R41) | K33: =IF(Calc!$B41=0,"",Calc!AC41) | L33: =IF(Calc!$B41=0,"",Calc!N41) | N33: =Dashboard!O39 | R33: =Dashboard!R39
B34: =IF(Calc!$B42=0,"",Calc!E42) | C34: =IF(Calc!$B42=0,"",Calc!F42) | D34: =IF(Calc!$B42=0,"",Calc!G42) | E34: =IF(Calc!$B42=0,"",Calc!H42) | F34: =IF(Calc!$B42=0,"",Calc!S42) | G34: =IF(Calc!$B42=0,"",Calc!T42) | H34: =IF(Calc!$B42=0,"",Calc!P42) | I34: =IF(Calc!$B42=0,"",Calc!Q42) | J34: =IF(Calc!$B42=0,"",Calc!R42) | K34: =IF(Calc!$B42=0,"",Calc!AC42) | L34: =IF(Calc!$B42=0,"",Calc!N42) | N34: =Lang!$B$51
B35: =IF(Calc!$B43=0,"",Calc!E43) | C35: =IF(Calc!$B43=0,"",Calc!F43) | D35: =IF(Calc!$B43=0,"",Calc!G43) | E35: =IF(Calc!$B43=0,"",Calc!H43) | F35: =IF(Calc!$B43=0,"",Calc!S43) | G35: =IF(Calc!$B43=0,"",Calc!T43) | H35: =IF(Calc!$B43=0,"",Calc!P43) | I35: =IF(Calc!$B43=0,"",Calc!Q43) | J35: =IF(Calc!$B43=0,"",Calc!R43) | K35: =IF(Calc!$B43=0,"",Calc!AC43) | L35: =IF(Calc!$B43=0,"",Calc!N43) | N35: =Dashboard!O41 | R35: =Dashboard!R41
B36: =IF(Calc!$B44=0,"",Calc!E44) | C36: =IF(Calc!$B44=0,"",Calc!F44) | D36: =IF(Calc!$B44=0,"",Calc!G44) | E36: =IF(Calc!$B44=0,"",Calc!H44) | F36: =IF(Calc!$B44=0,"",Calc!S44) | G36: =IF(Calc!$B44=0,"",Calc!T44) | H36: =IF(Calc!$B44=0,"",Calc!P44) | I36: =IF(Calc!$B44=0,"",Calc!Q44) | J36: =IF(Calc!$B44=0,"",Calc!R44) | K36: =IF(Calc!$B44=0,"",Calc!AC44) | L36: =IF(Calc!$B44=0,"",Calc!N44) | N36: =Lang!$B$52
B37: =IF(Calc!$B45=0,"",Calc!E45) | C37: =IF(Calc!$B45=0,"",Calc!F45) | D37: =IF(Calc!$B45=0,"",Calc!G45) | E37: =IF(Calc!$B45=0,"",Calc!H45) | F37: =IF(Calc!$B45=0,"",Calc!S45) | G37: =IF(Calc!$B45=0,"",Calc!T45) | H37: =IF(Calc!$B45=0,"",Calc!P45) | I37: =IF(Calc!$B45=0,"",Calc!Q45) | J37: =IF(Calc!$B45=0,"",Calc!R45) | K37: =IF(Calc!$B45=0,"",Calc!AC45) | L37: =IF(Calc!$B45=0,"",Calc!N45) | N37: =Dashboard!O43 | R37: =Dashboard!R43
B38: =IF(Calc!$B46=0,"",Calc!E46) | C38: =IF(Calc!$B46=0,"",Calc!F46) | D38: =IF(Calc!$B46=0,"",Calc!G46) | E38: =IF(Calc!$B46=0,"",Calc!H46) | F38: =IF(Calc!$B46=0,"",Calc!S46) | G38: =IF(Calc!$B46=0,"",Calc!T46) | H38: =IF(Calc!$B46=0,"",Calc!P46) | I38: =IF(Calc!$B46=0,"",Calc!Q46) | J38: =IF(Calc!$B46=0,"",Calc!R46) | K38: =IF(Calc!$B46=0,"",Calc!AC46) | L38: =IF(Calc!$B46=0,"",Calc!N46) | N38: =Lang!$B$53
B39: =IF(Calc!$B47=0,"",Calc!E47) | C39: =IF(Calc!$B47=0,"",Calc!F47) | D39: =IF(Calc!$B47=0,"",Calc!G47) | E39: =IF(Calc!$B47=0,"",Calc!H47) | F39: =IF(Calc!$B47=0,"",Calc!S47) | G39: =IF(Calc!$B47=0,"",Calc!T47) | H39: =IF(Calc!$B47=0,"",Calc!P47) | I39: =IF(Calc!$B47=0,"",Calc!Q47) | J39: =IF(Calc!$B47=0,"",Calc!R47) | K39: =IF(Calc!$B47=0,"",Calc!AC47) | L39: =IF(Calc!$B47=0,"",Calc!N47) | N39: =Dashboard!O45 | R39: =Dashboard!R45
B40: =IF(Calc!$B48=0,"",Calc!E48) | C40: =IF(Calc!$B48=0,"",Calc!F48) | D40: =IF(Calc!$B48=0,"",Calc!G48) | E40: =IF(Calc!$B48=0,"",Calc!H48) | F40: =IF(Calc!$B48=0,"",Calc!S48) | G40: =IF(Calc!$B48=0,"",Calc!T48) | H40: =IF(Calc!$B48=0,"",Calc!P48) | I40: =IF(Calc!$B48=0,"",Calc!Q48) | J40: =IF(Calc!$B48=0,"",Calc!R48) | K40: =IF(Calc!$B48=0,"",Calc!AC48) | L40: =IF(Calc!$B48=0,"",Calc!N48)
B41: =IF(Calc!$B49=0,"",Calc!E49) | C41: =IF(Calc!$B49=0,"",Calc!F49) | D41: =IF(Calc!$B49=0,"",Calc!G49) | E41: =IF(Calc!$B49=0,"",Calc!H49) | F41: =IF(Calc!$B49=0,"",Calc!S49) | G41: =IF(Calc!$B49=0,"",Calc!T49) | H41: =IF(Calc!$B49=0,"",Calc!P49) | I41: =IF(Calc!$B49=0,"",Calc!Q49) | J41: =IF(Calc!$B49=0,"",Calc!R49) | K41: =IF(Calc!$B49=0,"",Calc!AC49) | L41: =IF(Calc!$B49=0,"",Calc!N49)
B42: =IF(Calc!$B50=0,"",Calc!E50) | C42: =IF(Calc!$B50=0,"",Calc!F50) | D42: =IF(Calc!$B50=0,"",Calc!G50) | E42: =IF(Calc!$B50=0,"",Calc!H50) | F42: =IF(Calc!$B50=0,"",Calc!S50) | G42: =IF(Calc!$B50=0,"",Calc!T50) | H42: =IF(Calc!$B50=0,"",Calc!P50) | I42: =IF(Calc!$B50=0,"",Calc!Q50) | J42: =IF(Calc!$B50=0,"",Calc!R50) | K42: =IF(Calc!$B50=0,"",Calc!AC50) | L42: =IF(Calc!$B50=0,"",Calc!N50)
B43: =IF(Calc!$B51=0,"",Calc!E51) | C43: =IF(Calc!$B51=0,"",Calc!F51) | D43: =IF(Calc!$B51=0,"",Calc!G51) | E43: =IF(Calc!$B51=0,"",Calc!H51) | F43: =IF(Calc!$B51=0,"",Calc!S51) | G43: =IF(Calc!$B51=0,"",Calc!T51) | H43: =IF(Calc!$B51=0,"",Calc!P51) | I43: =IF(Calc!$B51=0,"",Calc!Q51) | J43: =IF(Calc!$B51=0,"",Calc!R51) | K43: =IF(Calc!$B51=0,"",Calc!AC51) | L43: =IF(Calc!$B51=0,"",Calc!N51)
B45: =Lang!$B$93
B46: =Lang!$B$20

Sheet Comparison
B2: K1 | E2: ="KEYONE / "&Lang!$B$94
E3: =Lang!$B$95
B4: =HYPERLINK("#'START'!A1",Lang!$B$2) | D4: =HYPERLINK("#'Dashboard'!A1",Lang!$B$3) | F4: =HYPERLINK("#'Report'!A1",Lang!$B$4) | H4: =HYPERLINK("#'Comparison'!A1",Lang!$B$5) | J4: =HYPERLINK("#'Statistics'!A1",Lang!$B$6) | L4: =HYPERLINK("#'Data Entry'!A1",Lang!$B$7) | N4: =HYPERLINK("#'Settings'!A1",Lang!$B$8)
B7: =Lang!$B$26 | D7: =Dashboard!H7
B9: =Lang!$B$96 | C9: =Calc!$B$2-2 | D9: =Calc!$B$2-1 | E9: =Calc!$B$2-0 | F9: ="Δ "&D9 | G9: ="Δ "&E9
B10: =Lang!$B$58 | C10: =SUMIFS(dOrders,dDate,">="&DATE(C$9,1,1),dDate,"<"&EDATE(DATE(C$9,1,1),1),dDept,Calc!$B$7) | D10: =SUMIFS(dOrders,dDate,">="&DATE(D$9,1,1),dDate,"<"&EDATE(DATE(D$9,1,1),1),dDept,Calc!$B$7) | E10: =SUMIFS(dOrders,dDate,">="&DATE(E$9,1,1),dDate,"<"&EDATE(DATE(E$9,1,1),1),dDept,Calc!$B$7) | F10: =IF(AND(C10>0,D10>0),D10/C10-1,"") | G10: =IF(AND(D10>0,E10>0),E10/D10-1,"")
B11: =Lang!$B$59 | C11: =SUMIFS(dOrders,dDate,">="&DATE(C$9,2,1),dDate,"<"&EDATE(DATE(C$9,2,1),1),dDept,Calc!$B$7) | D11: =SUMIFS(dOrders,dDate,">="&DATE(D$9,2,1),dDate,"<"&EDATE(DATE(D$9,2,1),1),dDept,Calc!$B$7) | E11: =SUMIFS(dOrders,dDate,">="&DATE(E$9,2,1),dDate,"<"&EDATE(DATE(E$9,2,1),1),dDept,Calc!$B$7) | F11: =IF(AND(C11>0,D11>0),D11/C11-1,"") | G11: =IF(AND(D11>0,E11>0),E11/D11-1,"")
B12: =Lang!$B$60 | C12: =SUMIFS(dOrders,dDate,">="&DATE(C$9,3,1),dDate,"<"&EDATE(DATE(C$9,3,1),1),dDept,Calc!$B$7) | D12: =SUMIFS(dOrders,dDate,">="&DATE(D$9,3,1),dDate,"<"&EDATE(DATE(D$9,3,1),1),dDept,Calc!$B$7) | E12: =SUMIFS(dOrders,dDate,">="&DATE(E$9,3,1),dDate,"<"&EDATE(DATE(E$9,3,1),1),dDept,Calc!$B$7) | F12: =IF(AND(C12>0,D12>0),D12/C12-1,"") | G12: =IF(AND(D12>0,E12>0),E12/D12-1,"")
B13: =Lang!$B$61 | C13: =SUMIFS(dOrders,dDate,">="&DATE(C$9,4,1),dDate,"<"&EDATE(DATE(C$9,4,1),1),dDept,Calc!$B$7) | D13: =SUMIFS(dOrders,dDate,">="&DATE(D$9,4,1),dDate,"<"&EDATE(DATE(D$9,4,1),1),dDept,Calc!$B$7) | E13: =SUMIFS(dOrders,dDate,">="&DATE(E$9,4,1),dDate,"<"&EDATE(DATE(E$9,4,1),1),dDept,Calc!$B$7) | F13: =IF(AND(C13>0,D13>0),D13/C13-1,"") | G13: =IF(AND(D13>0,E13>0),E13/D13-1,"")
B14: =Lang!$B$62 | C14: =SUMIFS(dOrders,dDate,">="&DATE(C$9,5,1),dDate,"<"&EDATE(DATE(C$9,5,1),1),dDept,Calc!$B$7) | D14: =SUMIFS(dOrders,dDate,">="&DATE(D$9,5,1),dDate,"<"&EDATE(DATE(D$9,5,1),1),dDept,Calc!$B$7) | E14: =SUMIFS(dOrders,dDate,">="&DATE(E$9,5,1),dDate,"<"&EDATE(DATE(E$9,5,1),1),dDept,Calc!$B$7) | F14: =IF(AND(C14>0,D14>0),D14/C14-1,"") | G14: =IF(AND(D14>0,E14>0),E14/D14-1,"")
B15: =Lang!$B$63 | C15: =SUMIFS(dOrders,dDate,">="&DATE(C$9,6,1),dDate,"<"&EDATE(DATE(C$9,6,1),1),dDept,Calc!$B$7) | D15: =SUMIFS(dOrders,dDate,">="&DATE(D$9,6,1),dDate,"<"&EDATE(DATE(D$9,6,1),1),dDept,Calc!$B$7) | E15: =SUMIFS(dOrders,dDate,">="&DATE(E$9,6,1),dDate,"<"&EDATE(DATE(E$9,6,1),1),dDept,Calc!$B$7) | F15: =IF(AND(C15>0,D15>0),D15/C15-1,"") | G15: =IF(AND(D15>0,E15>0),E15/D15-1,"")
B16: =Lang!$B$64 | C16: =SUMIFS(dOrders,dDate,">="&DATE(C$9,7,1),dDate,"<"&EDATE(DATE(C$9,7,1),1),dDept,Calc!$B$7) | D16: =SUMIFS(dOrders,dDate,">="&DATE(D$9,7,1),dDate,"<"&EDATE(DATE(D$9,7,1),1),dDept,Calc!$B$7) | E16: =SUMIFS(dOrders,dDate,">="&DATE(E$9,7,1),dDate,"<"&EDATE(DATE(E$9,7,1),1),dDept,Calc!$B$7) | F16: =IF(AND(C16>0,D16>0),D16/C16-1,"") | G16: =IF(AND(D16>0,E16>0),E16/D16-1,"")
B17: =Lang!$B$65 | C17: =SUMIFS(dOrders,dDate,">="&DATE(C$9,8,1),dDate,"<"&EDATE(DATE(C$9,8,1),1),dDept,Calc!$B$7) | D17: =SUMIFS(dOrders,dDate,">="&DATE(D$9,8,1),dDate,"<"&EDATE(DATE(D$9,8,1),1),dDept,Calc!$B$7) | E17: =SUMIFS(dOrders,dDate,">="&DATE(E$9,8,1),dDate,"<"&EDATE(DATE(E$9,8,1),1),dDept,Calc!$B$7) | F17: =IF(AND(C17>0,D17>0),D17/C17-1,"") | G17: =IF(AND(D17>0,E17>0),E17/D17-1,"")
B18: =Lang!$B$66 | C18: =SUMIFS(dOrders,dDate,">="&DATE(C$9,9,1),dDate,"<"&EDATE(DATE(C$9,9,1),1),dDept,Calc!$B$7) | D18: =SUMIFS(dOrders,dDate,">="&DATE(D$9,9,1),dDate,"<"&EDATE(DATE(D$9,9,1),1),dDept,Calc!$B$7) | E18: =SUMIFS(dOrders,dDate,">="&DATE(E$9,9,1),dDate,"<"&EDATE(DATE(E$9,9,1),1),dDept,Calc!$B$7) | F18: =IF(AND(C18>0,D18>0),D18/C18-1,"") | G18: =IF(AND(D18>0,E18>0),E18/D18-1,"")
B19: =Lang!$B$67 | C19: =SUMIFS(dOrders,dDate,">="&DATE(C$9,10,1),dDate,"<"&EDATE(DATE(C$9,10,1),1),dDept,Calc!$B$7) | D19: =SUMIFS(dOrders,dDate,">="&DATE(D$9,10,1),dDate,"<"&EDATE(DATE(D$9,10,1),1),dDept,Calc!$B$7) | E19: =SUMIFS(dOrders,dDate,">="&DATE(E$9,10,1),dDate,"<"&EDATE(DATE(E$9,10,1),1),dDept,Calc!$B$7) | F19: =IF(AND(C19>0,D19>0),D19/C19-1,"") | G19: =IF(AND(D19>0,E19>0),E19/D19-1,"")
B20: =Lang!$B$68 | C20: =SUMIFS(dOrders,dDate,">="&DATE(C$9,11,1),dDate,"<"&EDATE(DATE(C$9,11,1),1),dDept,Calc!$B$7) | D20: =SUMIFS(dOrders,dDate,">="&DATE(D$9,11,1),dDate,"<"&EDATE(DATE(D$9,11,1),1),dDept,Calc!$B$7) | E20: =SUMIFS(dOrders,dDate,">="&DATE(E$9,11,1),dDate,"<"&EDATE(DATE(E$9,11,1),1),dDept,Calc!$B$7) | F20: =IF(AND(C20>0,D20>0),D20/C20-1,"") | G20: =IF(AND(D20>0,E20>0),E20/D20-1,"")
B21: =Lang!$B$69 | C21: =SUMIFS(dOrders,dDate,">="&DATE(C$9,12,1),dDate,"<"&EDATE(DATE(C$9,12,1),1),dDept,Calc!$B$7) | D21: =SUMIFS(dOrders,dDate,">="&DATE(D$9,12,1),dDate,"<"&EDATE(DATE(D$9,12,1),1),dDept,Calc!$B$7) | E21: =SUMIFS(dOrders,dDate,">="&DATE(E$9,12,1),dDate,"<"&EDATE(DATE(E$9,12,1),1),dDept,Calc!$B$7) | F21: =IF(AND(C21>0,D21>0),D21/C21-1,"") | G21: =IF(AND(D21>0,E21>0),E21/D21-1,"")
B22: =Lang!$B$98 | C22: =SUM(C10:C21) | D22: =SUM(D10:D21) | E22: =SUM(E10:E21) | F22: =IFERROR(SUMIFS(D10:D21,C10:C21,">0",D10:D21,">0")/SUMIFS(C10:C21,C10:C21,">0",D10:D21,">0")-1,"") | G22: =IFERROR(SUMIFS(E10:E21,D10:D21,">0",E10:E21,">0")/SUMIFS(D10:D21,D10:D21,">0",E10:E21,">0")-1,"")
B24: =Lang!$B$97
B30: =Lang!$B$20

Sheet Statistics
B2: K1 | E2: ="KEYONE / "&Lang!$B$99
E3: =Lang!$B$100
B4: =HYPERLINK("#'START'!A1",Lang!$B$2) | D4: =HYPERLINK("#'Dashboard'!A1",Lang!$B$3) | F4: =HYPERLINK("#'Report'!A1",Lang!$B$4) | H4: =HYPERLINK("#'Comparison'!A1",Lang!$B$5) | J4: =HYPERLINK("#'Statistics'!A1",Lang!$B$6) | L4: =HYPERLINK("#'Data Entry'!A1",Lang!$B$7) | N4: =HYPERLINK("#'Settings'!A1",Lang!$B$8)
B6: =Lang!$B$101 | E6: =Lang!$B$102 | H6: =Lang!$B$103 | K6: =Lang!$B$104 | N6: =Lang!$B$105 | Q6: =Lang!$B$27
B8: =IFERROR(AVERAGE(Calc!$Y$21:$Y$51),0) | E8: =IFERROR(STDEV(Calc!$Y$21:$Y$51),0) | H8: =IFERROR(E8/B8,"") | K8: =IFERROR(MIN(Calc!$Y$21:$Y$51),"") | N8: =IFERROR(MAX(Calc!$Y$21:$Y$51),"") | Q8: =Dashboard!K7
B33: =Lang!$B$109
B35: =Lang!$B$20

Sheet Data Entry
A1: ="KEYONE / "&Lang!$B$119
A3: =Lang!$B$120
A5: =HYPERLINK("#'START'!A1",Lang!$B$2) | C5: =HYPERLINK("#'Dashboard'!A1",Lang!$B$3) | E5: =HYPERLINK("#'Report'!A1",Lang!$B$4) | G5: =HYPERLINK("#'Settings'!A1",Lang!$B$8)
A7: =Lang!$B$121 | B7: =Lang!$B$122 | C7: =Lang!$B$123 | D7: =Lang!$B$124 | E7: =Lang!$B$125 | F7: =Lang!$B$126 | G7: =Lang!$B$127 | H7: =Lang!$B$128 | I7: =Lang!$B$129 | J7: =Lang!$B$130 | K7: =Lang!$B$131 | L7: =Lang!$B$132
A8: 45292 | B8: Warehouse A | C8: Early | D8: 188 | E8: 184 | F8: 468 | G8: 462 | H8: 16.2 | I8: 183 | J8: 632.5 | K8: 0
A9: 45292 | B9: Warehouse B | C9: Late | D9: 148 | E9: 145 | F9: 357 | G9: 353 | H9: 13.7 | I9: 137 | J9: 527.75 | K9: 0
A10: 45292 | B10: Production | C10: Night | D10: 78 | E10: 76 | F10: 204 | G10: 203 | H10: 7.2 | I10: 86 | J10: 277.5 | K10: 0
A11: 45293 | B11: Warehouse A | C11: Early | D11: 185 | E11: 184 | F11: 496 | G11: 489 | H11: 16.8 | I11: 174 | J11: 649.45 | K11: 0
A12: 45293 | B12: Warehouse B | C12: Late | D12: 143 | E12: 137 | F12: 349 | G12: 345 | H12: 12.1 | I12: 131 | J12: 474.1 | K12: 0
A13: 45293 | B13: Production | C13: Night | D13: 87 | E13: 83 | F13: 243 | G13: 238 | H13: 7.9 | I13: 82 | J13: 305.4 | K13: 0
A14: 45294 | B14: Warehouse A | C14: Early | D14: 180 | E14: 168 | F14: 474 | G14: 464 | H14: 15.6 | I14: 169 | J14: 608.4 | K14: 0
A15: 45294 | B15: Warehouse B | C15: Late | D15: 120 | E15: 115 | F15: 299 | G15: 295 | H15: 11.3 | I15: 127 | J15: 433.95 | K15: 0
A16: 45294 | B16: Production | C16: Night | D16: 82 | E16: 78 | F16: 204 | G16: 202 | H16: 7.5 | I16: 80 | J16: 289.55 | K16: 0
A17: 45295 | B17: Warehouse A | C17: Early | D17: 174 | E17: 166 | F17: 468 | G17: 461 | H17: 16.2 | I17: 169 | J17: 623.4 | K17: 0
A18: 45295 | B18: Warehouse B | C18: Late | D18: 139 | E18: 132 | F18: 372 | G18: 365 | H18: 11.8 | I18: 127 | J18: 462.05 | K18: 0
A19: 45295 | B19: Production | C19: Night | D19: 76 | E19: 74 | F19: 191 | G19: 188 | H19: 7 | I19: 80 | J19: 269.9 | K19: 0
... A2629: 46310 | B2629: Production | C2629: Night | D2629: 106 | E2629: 104 | F2629: 290 | G2629: 288 | H2629: 9.1 | I2629: 104 | J2629: 355.55 | K2629: 0

Sheet Settings
B2: K1 | E2: ="KEYONE / "&Lang!$B$110
B4: =HYPERLINK("#'START'!A1",Lang!$B$2) | D4: =HYPERLINK("#'Dashboard'!A1",Lang!$B$3) | F4: =HYPERLINK("#'Report'!A1",Lang!$B$4) | H4: =HYPERLINK("#'Comparison'!A1",Lang!$B$5) | J4: =HYPERLINK("#'Statistics'!A1",Lang!$B$6) | L4: =HYPERLINK("#'Data Entry'!A1",Lang!$B$7) | N4: =HYPERLINK("#'Settings'!A1",Lang!$B$8)
B6: =Lang!$B$111 | D6: English | F6: =Lang!$B$117
B8: =Lang!$B$112 | D8: Your Company
B10: =Lang!$B$113 | D10: 0.95
F11: =Lang!$B$118
B12: =Lang!$B$114 | D12: 0.98
B14: =Lang!$B$115 | D14: 2024
B16: =Lang!$B$116 | D16: Warehouse A
D17: Warehouse B
D18: Production
D19: Sales
D20: Returns
D21: Other
B24: =Lang!$B$20

Sheet Lang
A1: key | B1: =IFERROR(MATCH(Settings!$D$6,$C$1:$N$1,0),1) | C1: English | D1: Deutsch | E1: فارسی | F1: العربية | G1: Español | H1: Français | I1: Italiano | J1: 日本語 | K1: 한국어 | L1: Shqip | M1: Türkçe | N1: 中文
A2: nav_start | B2: =INDEX($C2:$N2,1,$B$1) | C2: ⌂ START | D2: ⌂ START | E2: ⌂ شروع | F2: ⌂ البداية | G2: ⌂ INICIO | H2: ⌂ ACCUEIL | I2: ⌂ INIZIO | J2: ⌂ スタート | K2: ⌂ 시작 | L2: ⌂ FILLIMI | M2: ⌂ BAŞLANGIÇ | N2: ⌂ 开始
A3: nav_dash | B3: =INDEX($C3:$N3,1,$B$1) | C3: ▣ DASHBOARD | D3: ▣ DASHBOARD | E3: ▣ داشبورد | F3: ▣ لوحة التحكم | G3: ▣ PANEL | H3: ▣ TABLEAU DE BORD | I3: ▣ DASHBOARD | J3: ▣ ダッシュボード | K3: ▣ 대시보드 | L3: ▣ PANELI | M3: ▣ PANO | N3: ▣ 仪表板
A4: nav_report | B4: =INDEX($C4:$N4,1,$B$1) | C4: ▤ REPORT | D4: ▤ BERICHT | E4: ▤ گزارش | F4: ▤ التقرير | G4: ▤ INFORME | H4: ▤ RAPPORT | I4: ▤ REPORT | J4: ▤ レポート | K4: ▤ 보고서 | L4: ▤ RAPORTI | M4: ▤ RAPOR | N4: ▤ 报告
A5: nav_comp | B5: =INDEX($C5:$N5,1,$B$1) | C5: ↗ COMPARISON | D5: ↗ VERGLEICH | E5: ↗ مقایسه | F5: ↗ المقارنة | G5: ↗ COMPARACIÓN | H5: ↗ COMPARAISON | I5: ↗ CONFRONTO | J5: ↗ 比較 | K5: ↗ 비교 | L5: ↗ KRAHASIMI | M5: ↗ KARŞILAŞTIRMA | N5: ↗ 对比
A6: nav_stats | B6: =INDEX($C6:$N6,1,$B$1) | C6: ∑ STATISTICS | D6: ∑ STATISTIK | E6: ∑ آمار | F6: ∑ الإحصاءات | G6: ∑ ESTADÍSTICA | H6: ∑ STATISTIQUES | I6: ∑ STATISTICHE | J6: ∑ 統計 | K6: ∑ 통계 | L6: ∑ STATISTIKA | M6: ∑ İSTATİSTİK | N6: ∑ 统计
A7: nav_data | B7: =INDEX($C7:$N7,1,$B$1) | C7: ✎ DATA | D7: ✎ DATEN | E7: ✎ داده‌ها | F7: ✎ البيانات | G7: ✎ DATOS | H7: ✎ DONNÉES | I7: ✎ DATI | J7: ✎ データ | K7: ✎ 데이터 | L7: ✎ TË DHËNAT | M7: ✎ VERİ | N7: ✎ 数据
A8: nav_set | B8: =INDEX($C8:$N8,1,$B$1) | C8: ⚙ SETTINGS | D8: ⚙ EINSTELLUNGEN | E8: ⚙ تنظیمات | F8: ⚙ الإعدادات | G8: ⚙ AJUSTES | H8: ⚙ PARAMÈTRES | I8: ⚙ IMPOSTAZIONI | J8: ⚙ 設定 | K8: ⚙ 설정 | L8: ⚙ CILËSIMET | M8: ⚙ AYARLAR | N8: ⚙ 设置
A9: app | B9: =INDEX($C9:$N9,1,$B$1) | C9: EXECUTIVE REPORTING CENTER | D9: EXECUTIVE REPORTING CENTER | E9: مرکز گزارش‌دهی مدیریتی | F9: مركز التقارير الإدارية | G9: CENTRO DE INFORMES EJECUTIVOS | H9: CENTRE DE REPORTING DE DIRECTION | I9: CENTRO REPORT DIREZIONALE | J9: 経営レポートセンター | K9: 경영 보고 센터 | L9: QENDRA E RAPORTIMIT DREJTUES | M9: YÖNETİCİ RAPORLAMA MERKEZİ | N9: 管理层报告中心
A10: tagline | B10: =INDEX($C10:$N10,1,$B$1) | C10: Multi-year operations reporting in Excel • by Keywan Fakhri | D10: Mehrjahres-Reporting für den Betrieb in Excel • von Keywan Fakhri | E10: گزارش‌دهی چندساله عملیات در اکسل • ساخته کیوان فخری | F10: تقارير تشغيلية متعددة السنوات في Excel • إعداد كيوان فخري | G10: Informes operativos plurianuales en Excel • por Keywan Fakhri | H10: Reporting opérationnel pluriannuel dans Excel • par Keywan Fakhri | I10: Report operativo pluriennale in Excel • di Keywan Fakhri | J10: Excel で複数年の業務レポート • 作成：Keywan Fakhri | K10: Excel 다년도 운영 보고 • 제작: Keywan Fakhri | L10: Raportim operacional shumëvjeçar në Excel • nga Keywan Fakhri | M10: Excel’de çok yıllı operasyon raporlaması • Keywan Fakhri | N10: Excel 多年度运营报告 • 作者 Keywan Fakhri
A11: intro | B11: =INDEX($C11:$N11,1,$B$1) | C11: One daily data table, five reporting horizons: daily, weekly, monthly, quarterly and yearly. Choose year, base year, department and period – all KPIs, charts and reports update automatically. | D11: Eine tägliche Datentabelle, fünf Berichtsebenen: Tag, Woche, Monat, Quartal und Jahr. Jahr, Basisjahr, Bereich und Zeitraum wählen – alle Kennzahlen, Diagramme und Berichte aktualisieren sich automatisch. | E11: یک جدول داده روزانه، پنج افق گزارش: روزانه، هفتگی، ماهانه، فصلی و سالانه. سال، سال مبنا، واحد و دوره را انتخاب کنید – همه شاخص‌ها، نمودارها و گزارش‌ها خودکار به‌روز می‌شوند. | F11: جدول بيانات يومي واحد وخمسة مستويات للتقارير: يومي وأسبوعي وشهري وربع سنوي وسنوي. اختر السنة وسنة الأساس والقسم والفترة – تتحدث جميع المؤشرات والرسوم والتقارير تلقائيًا. | G11: Una tabla de datos diaria, cinco horizontes: diario, semanal, mensual, trimestral y anual. Elige año, año base, departamento y periodo – KPI, gráficos e informes se actualizan solos. | H11: Une table de données quotidienne, cinq horizons : jour, semaine, mois, trimestre et année. Choisissez année, année de base, service et période – KPI, graphiques et rapports se mettent à jour automatiquement. | I11: Una tabella dati giornaliera, cinque orizzonti: giorno, settimana, mese, trimestre e anno. Scegli anno, anno base, reparto e periodo – KPI, grafici e report si aggiornano da soli. | J11: 日次データ表ひとつで、日・週・月・四半期・年の5つの視点。年、基準年、部門、期間を選ぶだけで、KPI・グラフ・レポートが自動更新されます。 | K11: 하나의 일별 데이터 표로 일·주·월·분기·연 5가지 보고 단위를 제공합니다. 연도, 기준 연도, 부서, 기간을 선택하면 KPI·차트·보고서가 자동으로 갱신됩니다. | L11: Një tabelë ditore të dhënash, pesë horizonte: ditor, javor, mujor, tremujor dhe vjetor. Zgjidhni vitin, vitin bazë, departamentin dhe periudhën – KPI-të, grafikët dhe raportet përditësohen vetë. | M11: Tek bir günlük veri tablosu, beş raporlama ufku: günlük, haftalık, aylık, çeyreklik ve yıllık. Yılı, baz yılı, departmanı ve dönemi seçin – tüm KPI’lar, grafikler ve raporlar otomatik güncellenir. | N11: 一张日数据表，五种报告维度：日、周、月、季度、年。选择年份、基准年、部门和期间，所有 KPI、图表和报告自动更新。
A12: s1t | B12: =INDEX($C12:$N12,1,$B$1) | C12: ENTER DATA | D12: DATEN EINGEBEN | E12: ورود داده | F12: إدخال البيانات | G12: INTRODUCIR DATOS | H12: SAISIR LES DONNÉES | I12: INSERIRE I DATI | J12: データ入力 | K12: 데이터 입력 | L12: FUTNI TË DHËNAT | M12: VERİ GİRİN | N12: 录入数据
A13: s1 | B13: =INDEX($C13:$N13,1,$B$1) | C13: Open Data Entry and replace the demo rows with your own daily records. Keep the column order. | D13: Data Entry öffnen und die Demozeilen durch eigene Tagesdaten ersetzen. Spaltenreihenfolge beibehalten. | E13: شیت Data Entry را باز کنید و ردیف‌های نمونه را با داده‌های روزانه خودتان جایگزین کنید. ترتیب ستون‌ها را حفظ کنید. | F13: افتح Data Entry واستبدل الصفوف التجريبية بسجلاتك اليومية. حافظ على ترتيب الأعمدة. | G13: Abre Data Entry y sustituye las filas demo por tus registros diarios. Mantén el orden de columnas. | H13: Ouvrez Data Entry et remplacez les lignes de démo par vos données quotidiennes. Gardez l’ordre des colonnes. | I13: Apri Data Entry e sostituisci le righe demo con i tuoi dati giornalieri. Mantieni l’ordine delle colonne. | J13: Data Entry を開き、デモ行を自社の日次データに置き換えます。列の順序は変えないでください。 | K13: Data Entry를 열고 데모 행을 일별 데이터로 바꾸세요. 열 순서는 유지하세요. | L13: Hapni Data Entry dhe zëvendësoni rreshtat demo me të dhënat tuaja ditore. Ruani rendin e kolonave. | M13: Data Entry’yi açın ve demo satırlarını kendi günlük kayıtlarınızla değiştirin. Sütun sırasını koruyun. | N13: 打开 Data Entry，用你的每日记录替换演示行，保持列顺序不变。
... A135: custom_v | B135: =INDEX($C135:$N135,1,$B$1) | C135: Need a version for your company? Get in touch: | D135: Eigene Version für Ihr Unternehmen? Kontakt: | E135: نسخه اختصاصی برای شرکت خود می‌خواهید؟ تماس: | F135: تحتاج نسخة لشركتك؟ تواصل معي: | G135: ¿Necesitas una versión para tu empresa? Contacto: | H135: Besoin d’une version pour votre entreprise ? Contact : | I135: Ti serve una versione per la tua azienda? Contatti: | J135: 自社向けバージョンのご相談： | K135: 회사 맞춤 버전이 필요하신가요? 연락처: | L135: Ju duhet një version për kompaninë tuaj? Kontakt: | M135: Şirketinize özel sürüm mü lazım? İletişim: | N135: 需要为贵公司定制？联系：

Sheet Calc
A1: CALCULATION ENGINE – DO NOT EDIT | H1: years | J1: depts
A2: year | B2: =Dashboard!B7 | H2: =$B$9+0 | J2: =Lang!$B$77
A3: base | B3: =Dashboard!E7 | H3: =$B$9+1 | J3: =IF(Settings!$D$16="","",Settings!$D$16)
A4: freq | B4: =IF(SUMPRODUCT((Lang!$C$72:$N$76=Dashboard!K7)*(ROW(Lang!$C$72:$N$76)-71))=0,3,SUMPRODUCT((Lang!$C$72:$N$76=Dashboard!K7)*(ROW(Lang!$C$72:$N$76)-71))) | H4: =$B$9+2 | J4: =IF(Settings!$D$17="","",Settings!$D$17)
A5: month | B5: =Dashboard!N7 | H5: =$B$9+3 | J5: =IF(Settings!$D$18="","",Settings!$D$18)
A6: quarter | B6: =Dashboard!Q7 | H6: =$B$9+4 | J6: =IF(Settings!$D$19="","",Settings!$D$19)
A7: deptCrit | B7: =IF(B12,"*",Dashboard!H7) | H7: =$B$9+5 | J7: =IF(Settings!$D$20="","",Settings!$D$20)
A8: nPeriods | B8: =SUM(B21:B51) | H8: =$B$9+6 | J8: =IF(Settings!$D$21="","",Settings!$D$21)
A9: firstYear | B9: =Settings!$D$14 | H9: =$B$9+7
A10: qStart | B10: =DATE(B2,(B6-1)*3+1,1) | H10: =$B$9+8
A11: qEnd | B11: =EDATE(B10,3) | H11: =$B$9+9
A12: isAll | B12: =OR(COUNTIF(Lang!$C$77:$N$77,Dashboard!H7)>0,Dashboard!H7="")
A13: nYears | B13: =MAX(1,MIN(5,B2-B9+1))
A14: shiftYears | B14: =IF(B4=5,-1,B3-B2)
A15: weekStart0 | B15: =B10-WEEKDAY(B10,2)+1
A16: lastDate | B16: =MAX(dDate)
A20: k | B20: use | C20: start | D20: end | E20: label | F20: actual | G20: baseline | H20: target | I20: ontime | J20: lines | K20: correct | L20: hours | M20: cost | N20: incidents | P20: ontime% | Q20: pick% | R20: oph | S20: var% | T20: yoy% | U20: chActual | V20: chBase | W20: chTarget | X20: chVar | Y20: statX | Z20: chMean | AA20: chUp | AB20: chLo | AC20: cost/order
A21: 1 | B21: =IF(CHOOSE($B$4,A21<=DAY(EOMONTH(DATE($B$2,$B$5,1),0)),$B$15+7*(A21-1)<$B$11,A21<=12,A21<=4,A21<=$B$13),1,0) | C21: =IF(B21=0,"",CHOOSE($B$4,DATE($B$2,$B$5,A21),MAX($B$10,$B$15+7*(A21-1)),DATE($B$2,A21,1),DATE($B$2,3*A21-2,1),DATE($B$2-$B$13+A21,1,1))) | D21: =IF(B21=0,"",MAX(C21,MIN($B$16+1,CHOOSE($B$4,C21+1,MIN($B$11,$B$15+7*A21),EDATE(C21,1),EDATE(C21,3),DATE(YEAR(C21)+1,1,1))))) | E21: =IF(B21=0,"",CHOOSE($B$4,DAY(C21)&"",Lang!$B$70&WEEKNUM(C21,21),INDEX(Lang!$B$58:$B$69,MONTH(C21)),Lang!$B$71&A21,YEAR(C21)&"")) | F21: =IF(B21=0,"",SUMIFS(dOrders,dDate,">="&C21,dDate,"<"&D21,dDept,$B$7)) | G21: =IF(B21=0,"",SUMIFS(dOrders,dDate,">="&EDATE(C21,12*$B$14),dDate,"<"&EDATE(D21,12*$B$14),dDept,$B$7)) | H21: =IF(B21=0,"",SUMIFS(dTarget,dDate,">="&C21,dDate,"<"&D21,dDept,$B$7)) | I21: =IF(B21=0,"",SUMIFS(dOnTime,dDate,">="&C21,dDate,"<"&D21,dDept,$B$7)) | J21: =IF(B21=0,"",SUMIFS(dLines,dDate,">="&C21,dDate,"<"&D21,dDept,$B$7)) | K21: =IF(B21=0,"",SUMIFS(dCorrect,dDate,">="&C21,dDate,"<"&D21,dDept,$B$7)) | L21: =IF(B21=0,"",SUMIFS(dHours,dDate,">="&C21,dDate,"<"&D21,dDept,$B$7)) | M21: =IF(B21=0,"",SUMIFS(dCost,dDate,">="&C21,dDate,"<"&D21,dDept,$B$7)) | N21: =IF(B21=0,"",SUMIFS(dInc,dDate,">="&C21,dDate,"<"&D21,dDept,$B$7)) | P21: =IF(B21=0,"",IFERROR(I21/F21,"")) | Q21: =IF(B21=0,"",IFERROR(K21/J21,"")) | R21: =IF(B21=0,"",IFERROR(F21/L21,"")) | S21: =IF(B21=0,"",IF(AND(N(H21)>0,N(F21)>0),F21/H21-1,"")) | T21: =IF(B21=0,"",IF(AND(N(G21)>0,N(F21)>0),F21/G21-1,"")) | U21: =IF(N(F21)>0,F21,NA()) | V21: =IF(N(G21)>0,G21,NA()) | W21: =IF(N(H21)>0,H21,NA()) | X21: =IF(S21="",NA(),S21) | Y21: =IF(N(F21)>0,F21,"") | Z21: =IF(B21=0,NA(),Statistics!$B$8) | AA21: =IF(B21=0,NA(),Statistics!$B$8+2*Statistics!$E$8) | AB21: =IF(B21=0,NA(),MAX(0,Statistics!$B$8-2*Statistics!$E$8)) | AC21: =IF(B21=0,"",IFERROR(M21/F21,""))
A22: 2 | B22: =IF(CHOOSE($B$4,A22<=DAY(EOMONTH(DATE($B$2,$B$5,1),0)),$B$15+7*(A22-1)<$B$11,A22<=12,A22<=4,A22<=$B$13),1,0) | C22: =IF(B22=0,"",CHOOSE($B$4,DATE($B$2,$B$5,A22),MAX($B$10,$B$15+7*(A22-1)),DATE($B$2,A22,1),DATE($B$2,3*A22-2,1),DATE($B$2-$B$13+A22,1,1))) | D22: =IF(B22=0,"",MAX(C22,MIN($B$16+1,CHOOSE($B$4,C22+1,MIN($B$11,$B$15+7*A22),EDATE(C22,1),EDATE(C22,3),DATE(YEAR(C22)+1,1,1))))) | E22: =IF(B22=0,"",CHOOSE($B$4,DAY(C22)&"",Lang!$B$70&WEEKNUM(C22,21),INDEX(Lang!$B$58:$B$69,MONTH(C22)),Lang!$B$71&A22,YEAR(C22)&"")) | F22: =IF(B22=0,"",SUMIFS(dOrders,dDate,">="&C22,dDate,"<"&D22,dDept,$B$7)) | G22: =IF(B22=0,"",SUMIFS(dOrders,dDate,">="&EDATE(C22,12*$B$14),dDate,"<"&EDATE(D22,12*$B$14),dDept,$B$7)) | H22: =IF(B22=0,"",SUMIFS(dTarget,dDate,">="&C22,dDate,"<"&D22,dDept,$B$7)) | I22: =IF(B22=0,"",SUMIFS(dOnTime,dDate,">="&C22,dDate,"<"&D22,dDept,$B$7)) | J22: =IF(B22=0,"",SUMIFS(dLines,dDate,">="&C22,dDate,"<"&D22,dDept,$B$7)) | K22: =IF(B22=0,"",SUMIFS(dCorrect,dDate,">="&C22,dDate,"<"&D22,dDept,$B$7)) | L22: =IF(B22=0,"",SUMIFS(dHours,dDate,">="&C22,dDate,"<"&D22,dDept,$B$7)) | M22: =IF(B22=0,"",SUMIFS(dCost,dDate,">="&C22,dDate,"<"&D22,dDept,$B$7)) | N22: =IF(B22=0,"",SUMIFS(dInc,dDate,">="&C22,dDate,"<"&D22,dDept,$B$7)) | P22: =IF(B22=0,"",IFERROR(I22/F22,"")) | Q22: =IF(B22=0,"",IFERROR(K22/J22,"")) | R22: =IF(B22=0,"",IFERROR(F22/L22,"")) | S22: =IF(B22=0,"",IF(AND(N(H22)>0,N(F22)>0),F22/H22-1,"")) | T22: =IF(B22=0,"",IF(AND(N(G22)>0,N(F22)>0),F22/G22-1,"")) | U22: =IF(N(F22)>0,F22,NA()) | V22: =IF(N(G22)>0,G22,NA()) | W22: =IF(N(H22)>0,H22,NA()) | X22: =IF(S22="",NA(),S22) | Y22: =IF(N(F22)>0,F22,"") | Z22: =IF(B22=0,NA(),Statistics!$B$8) | AA22: =IF(B22=0,NA(),Statistics!$B$8+2*Statistics!$E$8) | AB22: =IF(B22=0,NA(),MAX(0,Statistics!$B$8-2*Statistics!$E$8)) | AC22: =IF(B22=0,"",IFERROR(M22/F22,""))
A23: 3 | B23: =IF(CHOOSE($B$4,A23<=DAY(EOMONTH(DATE($B$2,$B$5,1),0)),$B$15+7*(A23-1)<$B$11,A23<=12,A23<=4,A23<=$B$13),1,0) | C23: =IF(B23=0,"",CHOOSE($B$4,DATE($B$2,$B$5,A23),MAX($B$10,$B$15+7*(A23-1)),DATE($B$2,A23,1),DATE($B$2,3*A23-2,1),DATE($B$2-$B$13+A23,1,1))) | D23: =IF(B23=0,"",MAX(C23,MIN($B$16+1,CHOOSE($B$4,C23+1,MIN($B$11,$B$15+7*A23),EDATE(C23,1),EDATE(C23,3),DATE(YEAR(C23)+1,1,1))))) | E23: =IF(B23=0,"",CHOOSE($B$4,DAY(C23)&"",Lang!$B$70&WEEKNUM(C23,21),INDEX(Lang!$B$58:$B$69,MONTH(C23)),Lang!$B$71&A23,YEAR(C23)&"")) | F23: =IF(B23=0,"",SUMIFS(dOrders,dDate,">="&C23,dDate,"<"&D23,dDept,$B$7)) | G23: =IF(B23=0,"",SUMIFS(dOrders,dDate,">="&EDATE(C23,12*$B$14),dDate,"<"&EDATE(D23,12*$B$14),dDept,$B$7)) | H23: =IF(B23=0,"",SUMIFS(dTarget,dDate,">="&C23,dDate,"<"&D23,dDept,$B$7)) | I23: =IF(B23=0,"",SUMIFS(dOnTime,dDate,">="&C23,dDate,"<"&D23,dDept,$B$7)) | J23: =IF(B23=0,"",SUMIFS(dLines,dDate,">="&C23,dDate,"<"&D23,dDept,$B$7)) | K23: =IF(B23=0,"",SUMIFS(dCorrect,dDate,">="&C23,dDate,"<"&D23,dDept,$B$7)) | L23: =IF(B23=0,"",SUMIFS(dHours,dDate,">="&C23,dDate,"<"&D23,dDept,$B$7)) | M23: =IF(B23=0,"",SUMIFS(dCost,dDate,">="&C23,dDate,"<"&D23,dDept,$B$7)) | N23: =IF(B23=0,"",SUMIFS(dInc,dDate,">="&C23,dDate,"<"&D23,dDept,$B$7)) | P23: =IF(B23=0,"",IFERROR(I23/F23,"")) | Q23: =IF(B23=0,"",IFERROR(K23/J23,"")) | R23: =IF(B23=0,"",IFERROR(F23/L23,"")) | S23: =IF(B23=0,"",IF(AND(N(H23)>0,N(F23)>0),F23/H23-1,"")) | T23: =IF(B23=0,"",IF(AND(N(G23)>0,N(F23)>0),F23/G23-1,"")) | U23: =IF(N(F23)>0,F23,NA()) | V23: =IF(N(G23)>0,G23,NA()) | W23: =IF(N(H23)>0,H23,NA()) | X23: =IF(S23="",NA(),S23) | Y23: =IF(N(F23)>0,F23,"") | Z23: =IF(B23=0,NA(),Statistics!$B$8) | AA23: =IF(B23=0,NA(),Statistics!$B$8+2*Statistics!$E$8) | AB23: =IF(B23=0,NA(),MAX(0,Statistics!$B$8-2*Statistics!$E$8)) | AC23: =IF(B23=0,"",IFERROR(M23/F23,""))
A24: 4 | B24: =IF(CHOOSE($B$4,A24<=DAY(EOMONTH(DATE($B$2,$B$5,1),0)),$B$15+7*(A24-1)<$B$11,A24<=12,A24<=4,A24<=$B$13),1,0) | C24: =IF(B24=0,"",CHOOSE($B$4,DATE($B$2,$B$5,A24),MAX($B$10,$B$15+7*(A24-1)),DATE($B$2,A24,1),DATE($B$2,3*A24-2,1),DATE($B$2-$B$13+A24,1,1))) | D24: =IF(B24=0,"",MAX(C24,MIN($B$16+1,CHOOSE($B$4,C24+1,MIN($B$11,$B$15+7*A24),EDATE(C24,1),EDATE(C24,3),DATE(YEAR(C24)+1,1,1))))) | E24: =IF(B24=0,"",CHOOSE($B$4,DAY(C24)&"",Lang!$B$70&WEEKNUM(C24,21),INDEX(Lang!$B$58:$B$69,MONTH(C24)),Lang!$B$71&A24,YEAR(C24)&"")) | F24: =IF(B24=0,"",SUMIFS(dOrders,dDate,">="&C24,dDate,"<"&D24,dDept,$B$7)) | G24: =IF(B24=0,"",SUMIFS(dOrders,dDate,">="&EDATE(C24,12*$B$14),dDate,"<"&EDATE(D24,12*$B$14),dDept,$B$7)) | H24: =IF(B24=0,"",SUMIFS(dTarget,dDate,">="&C24,dDate,"<"&D24,dDept,$B$7)) | I24: =IF(B24=0,"",SUMIFS(dOnTime,dDate,">="&C24,dDate,"<"&D24,dDept,$B$7)) | J24: =IF(B24=0,"",SUMIFS(dLines,dDate,">="&C24,dDate,"<"&D24,dDept,$B$7)) | K24: =IF(B24=0,"",SUMIFS(dCorrect,dDate,">="&C24,dDate,"<"&D24,dDept,$B$7)) | L24: =IF(B24=0,"",SUMIFS(dHours,dDate,">="&C24,dDate,"<"&D24,dDept,$B$7)) | M24: =IF(B24=0,"",SUMIFS(dCost,dDate,">="&C24,dDate,"<"&D24,dDept,$B$7)) | N24: =IF(B24=0,"",SUMIFS(dInc,dDate,">="&C24,dDate,"<"&D24,dDept,$B$7)) | P24: =IF(B24=0,"",IFERROR(I24/F24,"")) | Q24: =IF(B24=0,"",IFERROR(K24/J24,"")) | R24: =IF(B24=0,"",IFERROR(F24/L24,"")) | S24: =IF(B24=0,"",IF(AND(N(H24)>0,N(F24)>0),F24/H24-1,"")) | T24: =IF(B24=0,"",IF(AND(N(G24)>0,N(F24)>0),F24/G24-1,"")) | U24: =IF(N(F24)>0,F24,NA()) | V24: =IF(N(G24)>0,G24,NA()) | W24: =IF(N(H24)>0,H24,NA()) | X24: =IF(S24="",NA(),S24) | Y24: =IF(N(F24)>0,F24,"") | Z24: =IF(B24=0,NA(),Statistics!$B$8) | AA24: =IF(B24=0,NA(),Statistics!$B$8+2*Statistics!$E$8) | AB24: =IF(B24=0,NA(),MAX(0,Statistics!$B$8-2*Statistics!$E$8)) | AC24: =IF(B24=0,"",IFERROR(M24/F24,""))
A25: 5 | B25: =IF(CHOOSE($B$4,A25<=DAY(EOMONTH(DATE($B$2,$B$5,1),0)),$B$15+7*(A25-1)<$B$11,A25<=12,A25<=4,A25<=$B$13),1,0) | C25: =IF(B25=0,"",CHOOSE($B$4,DATE($B$2,$B$5,A25),MAX($B$10,$B$15+7*(A25-1)),DATE($B$2,A25,1),DATE($B$2,3*A25-2,1),DATE($B$2-$B$13+A25,1,1))) | D25: =IF(B25=0,"",MAX(C25,MIN($B$16+1,CHOOSE($B$4,C25+1,MIN($B$11,$B$15+7*A25),EDATE(C25,1),EDATE(C25,3),DATE(YEAR(C25)+1,1,1))))) | E25: =IF(B25=0,"",CHOOSE($B$4,DAY(C25)&"",Lang!$B$70&WEEKNUM(C25,21),INDEX(Lang!$B$58:$B$69,MONTH(C25)),Lang!$B$71&A25,YEAR(C25)&"")) | F25: =IF(B25=0,"",SUMIFS(dOrders,dDate,">="&C25,dDate,"<"&D25,dDept,$B$7)) | G25: =IF(B25=0,"",SUMIFS(dOrders,dDate,">="&EDATE(C25,12*$B$14),dDate,"<"&EDATE(D25,12*$B$14),dDept,$B$7)) | H25: =IF(B25=0,"",SUMIFS(dTarget,dDate,">="&C25,dDate,"<"&D25,dDept,$B$7)) | I25: =IF(B25=0,"",SUMIFS(dOnTime,dDate,">="&C25,dDate,"<"&D25,dDept,$B$7)) | J25: =IF(B25=0,"",SUMIFS(dLines,dDate,">="&C25,dDate,"<"&D25,dDept,$B$7)) | K25: =IF(B25=0,"",SUMIFS(dCorrect,dDate,">="&C25,dDate,"<"&D25,dDept,$B$7)) | L25: =IF(B25=0,"",SUMIFS(dHours,dDate,">="&C25,dDate,"<"&D25,dDept,$B$7)) | M25: =IF(B25=0,"",SUMIFS(dCost,dDate,">="&C25,dDate,"<"&D25,dDept,$B$7)) | N25: =IF(B25=0,"",SUMIFS(dInc,dDate,">="&C25,dDate,"<"&D25,dDept,$B$7)) | P25: =IF(B25=0,"",IFERROR(I25/F25,"")) | Q25: =IF(B25=0,"",IFERROR(K25/J25,"")) | R25: =IF(B25=0,"",IFERROR(F25/L25,"")) | S25: =IF(B25=0,"",IF(AND(N(H25)>0,N(F25)>0),F25/H25-1,"")) | T25: =IF(B25=0,"",IF(AND(N(G25)>0,N(F25)>0),F25/G25-1,"")) | U25: =IF(N(F25)>0,F25,NA()) | V25: =IF(N(G25)>0,G25,NA()) | W25: =IF(N(H25)>0,H25,NA()) | X25: =IF(S25="",NA(),S25) | Y25: =IF(N(F25)>0,F25,"") | Z25: =IF(B25=0,NA(),Statistics!$B$8) | AA25: =IF(B25=0,NA(),Statistics!$B$8+2*Statistics!$E$8) | AB25: =IF(B25=0,NA(),MAX(0,Statistics!$B$8-2*Statistics!$E$8)) | AC25: =IF(B25=0,"",IFERROR(M25/F25,""))
A26: 6 | B26: =IF(CHOOSE($B$4,A26<=DAY(EOMONTH(DATE($B$2,$B$5,1),0)),$B$15+7*(A26-1)<$B$11,A26<=12,A26<=4,A26<=$B$13),1,0) | C26: =IF(B26=0,"",CHOOSE($B$4,DATE($B$2,$B$5,A26),MAX($B$10,$B$15+7*(A26-1)),DATE($B$2,A26,1),DATE($B$2,3*A26-2,1),DATE($B$2-$B$13+A26,1,1))) | D26: =IF(B26=0,"",MAX(C26,MIN($B$16+1,CHOOSE($B$4,C26+1,MIN($B$11,$B$15+7*A26),EDATE(C26,1),EDATE(C26,3),DATE(YEAR(C26)+1,1,1))))) | E26: =IF(B26=0,"",CHOOSE($B$4,DAY(C26)&"",Lang!$B$70&WEEKNUM(C26,21),INDEX(Lang!$B$58:$B$69,MONTH(C26)),Lang!$B$71&A26,YEAR(C26)&"")) | F26: =IF(B26=0,"",SUMIFS(dOrders,dDate,">="&C26,dDate,"<"&D26,dDept,$B$7)) | G26: =IF(B26=0,"",SUMIFS(dOrders,dDate,">="&EDATE(C26,12*$B$14),dDate,"<"&EDATE(D26,12*$B$14),dDept,$B$7)) | H26: =IF(B26=0,"",SUMIFS(dTarget,dDate,">="&C26,dDate,"<"&D26,dDept,$B$7)) | I26: =IF(B26=0,"",SUMIFS(dOnTime,dDate,">="&C26,dDate,"<"&D26,dDept,$B$7)) | J26: =IF(B26=0,"",SUMIFS(dLines,dDate,">="&C26,dDate,"<"&D26,dDept,$B$7)) | K26: =IF(B26=0,"",SUMIFS(dCorrect,dDate,">="&C26,dDate,"<"&D26,dDept,$B$7)) | L26: =IF(B26=0,"",SUMIFS(dHours,dDate,">="&C26,dDate,"<"&D26,dDept,$B$7)) | M26: =IF(B26=0,"",SUMIFS(dCost,dDate,">="&C26,dDate,"<"&D26,dDept,$B$7)) | N26: =IF(B26=0,"",SUMIFS(dInc,dDate,">="&C26,dDate,"<"&D26,dDept,$B$7)) | P26: =IF(B26=0,"",IFERROR(I26/F26,"")) | Q26: =IF(B26=0,"",IFERROR(K26/J26,"")) | R26: =IF(B26=0,"",IFERROR(F26/L26,"")) | S26: =IF(B26=0,"",IF(AND(N(H26)>0,N(F26)>0),F26/H26-1,"")) | T26: =IF(B26=0,"",IF(AND(N(G26)>0,N(F26)>0),F26/G26-1,"")) | U26: =IF(N(F26)>0,F26,NA()) | V26: =IF(N(G26)>0,G26,NA()) | W26: =IF(N(H26)>0,H26,NA()) | X26: =IF(S26="",NA(),S26) | Y26: =IF(N(F26)>0,F26,"") | Z26: =IF(B26=0,NA(),Statistics!$B$8) | AA26: =IF(B26=0,NA(),Statistics!$B$8+2*Statistics!$E$8) | AB26: =IF(B26=0,NA(),MAX(0,Statistics!$B$8-2*Statistics!$E$8)) | AC26: =IF(B26=0,"",IFERROR(M26/F26,""))
A27: 7 | B27: =IF(CHOOSE($B$4,A27<=DAY(EOMONTH(DATE($B$2,$B$5,1),0)),$B$15+7*(A27-1)<$B$11,A27<=12,A27<=4,A27<=$B$13),1,0) | C27: =IF(B27=0,"",CHOOSE($B$4,DATE($B$2,$B$5,A27),MAX($B$10,$B$15+7*(A27-1)),DATE($B$2,A27,1),DATE($B$2,3*A27-2,1),DATE($B$2-$B$13+A27,1,1))) | D27: =IF(B27=0,"",MAX(C27,MIN($B$16+1,CHOOSE($B$4,C27+1,MIN($B$11,$B$15+7*A27),EDATE(C27,1),EDATE(C27,3),DATE(YEAR(C27)+1,1,1))))) | E27: =IF(B27=0,"",CHOOSE($B$4,DAY(C27)&"",Lang!$B$70&WEEKNUM(C27,21),INDEX(Lang!$B$58:$B$69,MONTH(C27)),Lang!$B$71&A27,YEAR(C27)&"")) | F27: =IF(B27=0,"",SUMIFS(dOrders,dDate,">="&C27,dDate,"<"&D27,dDept,$B$7)) | G27: =IF(B27=0,"",SUMIFS(dOrders,dDate,">="&EDATE(C27,12*$B$14),dDate,"<"&EDATE(D27,12*$B$14),dDept,$B$7)) | H27: =IF(B27=0,"",SUMIFS(dTarget,dDate,">="&C27,dDate,"<"&D27,dDept,$B$7)) | I27: =IF(B27=0,"",SUMIFS(dOnTime,dDate,">="&C27,dDate,"<"&D27,dDept,$B$7)) | J27: =IF(B27=0,"",SUMIFS(dLines,dDate,">="&C27,dDate,"<"&D27,dDept,$B$7)) | K27: =IF(B27=0,"",SUMIFS(dCorrect,dDate,">="&C27,dDate,"<"&D27,dDept,$B$7)) | L27: =IF(B27=0,"",SUMIFS(dHours,dDate,">="&C27,dDate,"<"&D27,dDept,$B$7)) | M27: =IF(B27=0,"",SUMIFS(dCost,dDate,">="&C27,dDate,"<"&D27,dDept,$B$7)) | N27: =IF(B27=0,"",SUMIFS(dInc,dDate,">="&C27,dDate,"<"&D27,dDept,$B$7)) | P27: =IF(B27=0,"",IFERROR(I27/F27,"")) | Q27: =IF(B27=0,"",IFERROR(K27/J27,"")) | R27: =IF(B27=0,"",IFERROR(F27/L27,"")) | S27: =IF(B27=0,"",IF(AND(N(H27)>0,N(F27)>0),F27/H27-1,"")) | T27: =IF(B27=0,"",IF(AND(N(G27)>0,N(F27)>0),F27/G27-1,"")) | U27: =IF(N(F27)>0,F27,NA()) | V27: =IF(N(G27)>0,G27,NA()) | W27: =IF(N(H27)>0,H27,NA()) | X27: =IF(S27="",NA(),S27) | Y27: =IF(N(F27)>0,F27,"") | Z27: =IF(B27=0,NA(),Statistics!$B$8) | AA27: =IF(B27=0,NA(),Statistics!$B$8+2*Statistics!$E$8) | AB27: =IF(B27=0,NA(),MAX(0,Statistics!$B$8-2*Statistics!$E$8)) | AC27: =IF(B27=0,"",IFERROR(M27/F27,""))
A28: 8 | B28: =IF(CHOOSE($B$4,A28<=DAY(EOMONTH(DATE($B$2,$B$5,1),0)),$B$15+7*(A28-1)<$B$11,A28<=12,A28<=4,A28<=$B$13),1,0) | C28: =IF(B28=0,"",CHOOSE($B$4,DATE($B$2,$B$5,A28),MAX($B$10,$B$15+7*(A28-1)),DATE($B$2,A28,1),DATE($B$2,3*A28-2,1),DATE($B$2-$B$13+A28,1,1))) | D28: =IF(B28=0,"",MAX(C28,MIN($B$16+1,CHOOSE($B$4,C28+1,MIN($B$11,$B$15+7*A28),EDATE(C28,1),EDATE(C28,3),DATE(YEAR(C28)+1,1,1))))) | E28: =IF(B28=0,"",CHOOSE($B$4,DAY(C28)&"",Lang!$B$70&WEEKNUM(C28,21),INDEX(Lang!$B$58:$B$69,MONTH(C28)),Lang!$B$71&A28,YEAR(C28)&"")) | F28: =IF(B28=0,"",SUMIFS(dOrders,dDate,">="&C28,dDate,"<"&D28,dDept,$B$7)) | G28: =IF(B28=0,"",SUMIFS(dOrders,dDate,">="&EDATE(C28,12*$B$14),dDate,"<"&EDATE(D28,12*$B$14),dDept,$B$7)) | H28: =IF(B28=0,"",SUMIFS(dTarget,dDate,">="&C28,dDate,"<"&D28,dDept,$B$7)) | I28: =IF(B28=0,"",SUMIFS(dOnTime,dDate,">="&C28,dDate,"<"&D28,dDept,$B$7)) | J28: =IF(B28=0,"",SUMIFS(dLines,dDate,">="&C28,dDate,"<"&D28,dDept,$B$7)) | K28: =IF(B28=0,"",SUMIFS(dCorrect,dDate,">="&C28,dDate,"<"&D28,dDept,$B$7)) | L28: =IF(B28=0,"",SUMIFS(dHours,dDate,">="&C28,dDate,"<"&D28,dDept,$B$7)) | M28: =IF(B28=0,"",SUMIFS(dCost,dDate,">="&C28,dDate,"<"&D28,dDept,$B$7)) | N28: =IF(B28=0,"",SUMIFS(dInc,dDate,">="&C28,dDate,"<"&D28,dDept,$B$7)) | P28: =IF(B28=0,"",IFERROR(I28/F28,"")) | Q28: =IF(B28=0,"",IFERROR(K28/J28,"")) | R28: =IF(B28=0,"",IFERROR(F28/L28,"")) | S28: =IF(B28=0,"",IF(AND(N(H28)>0,N(F28)>0),F28/H28-1,"")) | T28: =IF(B28=0,"",IF(AND(N(G28)>0,N(F28)>0),F28/G28-1,"")) | U28: =IF(N(F28)>0,F28,NA()) | V28: =IF(N(G28)>0,G28,NA()) | W28: =IF(N(H28)>0,H28,NA()) | X28: =IF(S28="",NA(),S28) | Y28: =IF(N(F28)>0,F28,"") | Z28: =IF(B28=0,NA(),Statistics!$B$8) | AA28: =IF(B28=0,NA(),Statistics!$B$8+2*Statistics!$E$8) | AB28: =IF(B28=0,NA(),MAX(0,Statistics!$B$8-2*Statistics!$E$8)) | AC28: =IF(B28=0,"",IFERROR(M28/F28,""))
A29: 9 | B29: =IF(CHOOSE($B$4,A29<=DAY(EOMONTH(DATE($B$2,$B$5,1),0)),$B$15+7*(A29-1)<$B$11,A29<=12,A29<=4,A29<=$B$13),1,0) | C29: =IF(B29=0,"",CHOOSE($B$4,DATE($B$2,$B$5,A29),MAX($B$10,$B$15+7*(A29-1)),DATE($B$2,A29,1),DATE($B$2,3*A29-2,1),DATE($B$2-$B$13+A29,1,1))) | D29: =IF(B29=0,"",MAX(C29,MIN($B$16+1,CHOOSE($B$4,C29+1,MIN($B$11,$B$15+7*A29),EDATE(C29,1),EDATE(C29,3),DATE(YEAR(C29)+1,1,1))))) | E29: =IF(B29=0,"",CHOOSE($B$4,DAY(C29)&"",Lang!$B$70&WEEKNUM(C29,21),INDEX(Lang!$B$58:$B$69,MONTH(C29)),Lang!$B$71&A29,YEAR(C29)&"")) | F29: =IF(B29=0,"",SUMIFS(dOrders,dDate,">="&C29,dDate,"<"&D29,dDept,$B$7)) | G29: =IF(B29=0,"",SUMIFS(dOrders,dDate,">="&EDATE(C29,12*$B$14),dDate,"<"&EDATE(D29,12*$B$14),dDept,$B$7)) | H29: =IF(B29=0,"",SUMIFS(dTarget,dDate,">="&C29,dDate,"<"&D29,dDept,$B$7)) | I29: =IF(B29=0,"",SUMIFS(dOnTime,dDate,">="&C29,dDate,"<"&D29,dDept,$B$7)) | J29: =IF(B29=0,"",SUMIFS(dLines,dDate,">="&C29,dDate,"<"&D29,dDept,$B$7)) | K29: =IF(B29=0,"",SUMIFS(dCorrect,dDate,">="&C29,dDate,"<"&D29,dDept,$B$7)) | L29: =IF(B29=0,"",SUMIFS(dHours,dDate,">="&C29,dDate,"<"&D29,dDept,$B$7)) | M29: =IF(B29=0,"",SUMIFS(dCost,dDate,">="&C29,dDate,"<"&D29,dDept,$B$7)) | N29: =IF(B29=0,"",SUMIFS(dInc,dDate,">="&C29,dDate,"<"&D29,dDept,$B$7)) | P29: =IF(B29=0,"",IFERROR(I29/F29,"")) | Q29: =IF(B29=0,"",IFERROR(K29/J29,"")) | R29: =IF(B29=0,"",IFERROR(F29/L29,"")) | S29: =IF(B29=0,"",IF(AND(N(H29)>0,N(F29)>0),F29/H29-1,"")) | T29: =IF(B29=0,"",IF(AND(N(G29)>0,N(F29)>0),F29/G29-1,"")) | U29: =IF(N(F29)>0,F29,NA()) | V29: =IF(N(G29)>0,G29,NA()) | W29: =IF(N(H29)>0,H29,NA()) | X29: =IF(S29="",NA(),S29) | Y29: =IF(N(F29)>0,F29,"") | Z29: =IF(B29=0,NA(),Statistics!$B$8) | AA29: =IF(B29=0,NA(),Statistics!$B$8+2*Statistics!$E$8) | AB29: =IF(B29=0,NA(),MAX(0,Statistics!$B$8-2*Statistics!$E$8)) | AC29: =IF(B29=0,"",IFERROR(M29/F29,""))
A30: 10 | B30: =IF(CHOOSE($B$4,A30<=DAY(EOMONTH(DATE($B$2,$B$5,1),0)),$B$15+7*(A30-1)<$B$11,A30<=12,A30<=4,A30<=$B$13),1,0) | C30: =IF(B30=0,"",CHOOSE($B$4,DATE($B$2,$B$5,A30),MAX($B$10,$B$15+7*(A30-1)),DATE($B$2,A30,1),DATE($B$2,3*A30-2,1),DATE($B$2-$B$13+A30,1,1))) | D30: =IF(B30=0,"",MAX(C30,MIN($B$16+1,CHOOSE($B$4,C30+1,MIN($B$11,$B$15+7*A30),EDATE(C30,1),EDATE(C30,3),DATE(YEAR(C30)+1,1,1))))) | E30: =IF(B30=0,"",CHOOSE($B$4,DAY(C30)&"",Lang!$B$70&WEEKNUM(C30,21),INDEX(Lang!$B$58:$B$69,MONTH(C30)),Lang!$B$71&A30,YEAR(C30)&"")) | F30: =IF(B30=0,"",SUMIFS(dOrders,dDate,">="&C30,dDate,"<"&D30,dDept,$B$7)) | G30: =IF(B30=0,"",SUMIFS(dOrders,dDate,">="&EDATE(C30,12*$B$14),dDate,"<"&EDATE(D30,12*$B$14),dDept,$B$7)) | H30: =IF(B30=0,"",SUMIFS(dTarget,dDate,">="&C30,dDate,"<"&D30,dDept,$B$7)) | I30: =IF(B30=0,"",SUMIFS(dOnTime,dDate,">="&C30,dDate,"<"&D30,dDept,$B$7)) | J30: =IF(B30=0,"",SUMIFS(dLines,dDate,">="&C30,dDate,"<"&D30,dDept,$B$7)) | K30: =IF(B30=0,"",SUMIFS(dCorrect,dDate,">="&C30,dDate,"<"&D30,dDept,$B$7)) | L30: =IF(B30=0,"",SUMIFS(dHours,dDate,">="&C30,dDate,"<"&D30,dDept,$B$7)) | M30: =IF(B30=0,"",SUMIFS(dCost,dDate,">="&C30,dDate,"<"&D30,dDept,$B$7)) | N30: =IF(B30=0,"",SUMIFS(dInc,dDate,">="&C30,dDate,"<"&D30,dDept,$B$7)) | P30: =IF(B30=0,"",IFERROR(I30/F30,"")) | Q30: =IF(B30=0,"",IFERROR(K30/J30,"")) | R30: =IF(B30=0,"",IFERROR(F30/L30,"")) | S30: =IF(B30=0,"",IF(AND(N(H30)>0,N(F30)>0),F30/H30-1,"")) | T30: =IF(B30=0,"",IF(AND(N(G30)>0,N(F30)>0),F30/G30-1,"")) | U30: =IF(N(F30)>0,F30,NA()) | V30: =IF(N(G30)>0,G30,NA()) | W30: =IF(N(H30)>0,H30,NA()) | X30: =IF(S30="",NA(),S30) | Y30: =IF(N(F30)>0,F30,"") | Z30: =IF(B30=0,NA(),Statistics!$B$8) | AA30: =IF(B30=0,NA(),Statistics!$B$8+2*Statistics!$E$8) | AB30: =IF(B30=0,NA(),MAX(0,Statistics!$B$8-2*Statistics!$E$8)) | AC30: =IF(B30=0,"",IFERROR(M30/F30,""))
A31: 11 | B31: =IF(CHOOSE($B$4,A31<=DAY(EOMONTH(DATE($B$2,$B$5,1),0)),$B$15+7*(A31-1)<$B$11,A31<=12,A31<=4,A31<=$B$13),1,0) | C31: =IF(B31=0,"",CHOOSE($B$4,DATE($B$2,$B$5,A31),MAX($B$10,$B$15+7*(A31-1)),DATE($B$2,A31,1),DATE($B$2,3*A31-2,1),DATE($B$2-$B$13+A31,1,1))) | D31: =IF(B31=0,"",MAX(C31,MIN($B$16+1,CHOOSE($B$4,C31+1,MIN($B$11,$B$15+7*A31),EDATE(C31,1),EDATE(C31,3),DATE(YEAR(C31)+1,1,1))))) | E31: =IF(B31=0,"",CHOOSE($B$4,DAY(C31)&"",Lang!$B$70&WEEKNUM(C31,21),INDEX(Lang!$B$58:$B$69,MONTH(C31)),Lang!$B$71&A31,YEAR(C31)&"")) | F31: =IF(B31=0,"",SUMIFS(dOrders,dDate,">="&C31,dDate,"<"&D31,dDept,$B$7)) | G31: =IF(B31=0,"",SUMIFS(dOrders,dDate,">="&EDATE(C31,12*$B$14),dDate,"<"&EDATE(D31,12*$B$14),dDept,$B$7)) | H31: =IF(B31=0,"",SUMIFS(dTarget,dDate,">="&C31,dDate,"<"&D31,dDept,$B$7)) | I31: =IF(B31=0,"",SUMIFS(dOnTime,dDate,">="&C31,dDate,"<"&D31,dDept,$B$7)) | J31: =IF(B31=0,"",SUMIFS(dLines,dDate,">="&C31,dDate,"<"&D31,dDept,$B$7)) | K31: =IF(B31=0,"",SUMIFS(dCorrect,dDate,">="&C31,dDate,"<"&D31,dDept,$B$7)) | L31: =IF(B31=0,"",SUMIFS(dHours,dDate,">="&C31,dDate,"<"&D31,dDept,$B$7)) | M31: =IF(B31=0,"",SUMIFS(dCost,dDate,">="&C31,dDate,"<"&D31,dDept,$B$7)) | N31: =IF(B31=0,"",SUMIFS(dInc,dDate,">="&C31,dDate,"<"&D31,dDept,$B$7)) | P31: =IF(B31=0,"",IFERROR(I31/F31,"")) | Q31: =IF(B31=0,"",IFERROR(K31/J31,"")) | R31: =IF(B31=0,"",IFERROR(F31/L31,"")) | S31: =IF(B31=0,"",IF(AND(N(H31)>0,N(F31)>0),F31/H31-1,"")) | T31: =IF(B31=0,"",IF(AND(N(G31)>0,N(F31)>0),F31/G31-1,"")) | U31: =IF(N(F31)>0,F31,NA()) | V31: =IF(N(G31)>0,G31,NA()) | W31: =IF(N(H31)>0,H31,NA()) | X31: =IF(S31="",NA(),S31) | Y31: =IF(N(F31)>0,F31,"") | Z31: =IF(B31=0,NA(),Statistics!$B$8) | AA31: =IF(B31=0,NA(),Statistics!$B$8+2*Statistics!$E$8) | AB31: =IF(B31=0,NA(),MAX(0,Statistics!$B$8-2*Statistics!$E$8)) | AC31: =IF(B31=0,"",IFERROR(M31/F31,""))
A32: 12 | B32: =IF(CHOOSE($B$4,A32<=DAY(EOMONTH(DATE($B$2,$B$5,1),0)),$B$15+7*(A32-1)<$B$11,A32<=12,A32<=4,A32<=$B$13),1,0) | C32: =IF(B32=0,"",CHOOSE($B$4,DATE($B$2,$B$5,A32),MAX($B$10,$B$15+7*(A32-1)),DATE($B$2,A32,1),DATE($B$2,3*A32-2,1),DATE($B$2-$B$13+A32,1,1))) | D32: =IF(B32=0,"",MAX(C32,MIN($B$16+1,CHOOSE($B$4,C32+1,MIN($B$11,$B$15+7*A32),EDATE(C32,1),EDATE(C32,3),DATE(YEAR(C32)+1,1,1))))) | E32: =IF(B32=0,"",CHOOSE($B$4,DAY(C32)&"",Lang!$B$70&WEEKNUM(C32,21),INDEX(Lang!$B$58:$B$69,MONTH(C32)),Lang!$B$71&A32,YEAR(C32)&"")) | F32: =IF(B32=0,"",SUMIFS(dOrders,dDate,">="&C32,dDate,"<"&D32,dDept,$B$7)) | G32: =IF(B32=0,"",SUMIFS(dOrders,dDate,">="&EDATE(C32,12*$B$14),dDate,"<"&EDATE(D32,12*$B$14),dDept,$B$7)) | H32: =IF(B32=0,"",SUMIFS(dTarget,dDate,">="&C32,dDate,"<"&D32,dDept,$B$7)) | I32: =IF(B32=0,"",SUMIFS(dOnTime,dDate,">="&C32,dDate,"<"&D32,dDept,$B$7)) | J32: =IF(B32=0,"",SUMIFS(dLines,dDate,">="&C32,dDate,"<"&D32,dDept,$B$7)) | K32: =IF(B32=0,"",SUMIFS(dCorrect,dDate,">="&C32,dDate,"<"&D32,dDept,$B$7)) | L32: =IF(B32=0,"",SUMIFS(dHours,dDate,">="&C32,dDate,"<"&D32,dDept,$B$7)) | M32: =IF(B32=0,"",SUMIFS(dCost,dDate,">="&C32,dDate,"<"&D32,dDept,$B$7)) | N32: =IF(B32=0,"",SUMIFS(dInc,dDate,">="&C32,dDate,"<"&D32,dDept,$B$7)) | P32: =IF(B32=0,"",IFERROR(I32/F32,"")) | Q32: =IF(B32=0,"",IFERROR(K32/J32,"")) | R32: =IF(B32=0,"",IFERROR(F32/L32,"")) | S32: =IF(B32=0,"",IF(AND(N(H32)>0,N(F32)>0),F32/H32-1,"")) | T32: =IF(B32=0,"",IF(AND(N(G32)>0,N(F32)>0),F32/G32-1,"")) | U32: =IF(N(F32)>0,F32,NA()) | V32: =IF(N(G32)>0,G32,NA()) | W32: =IF(N(H32)>0,H32,NA()) | X32: =IF(S32="",NA(),S32) | Y32: =IF(N(F32)>0,F32,"") | Z32: =IF(B32=0,NA(),Statistics!$B$8) | AA32: =IF(B32=0,NA(),Statistics!$B$8+2*Statistics!$E$8) | AB32: =IF(B32=0,NA(),MAX(0,Statistics!$B$8-2*Statistics!$E$8)) | AC32: =IF(B32=0,"",IFERROR(M32/F32,""))
... A51: 31 | B51: =IF(CHOOSE($B$4,A51<=DAY(EOMONTH(DATE($B$2,$B$5,1),0)),$B$15+7*(A51-1)<$B$11,A51<=12,A51<=4,A51<=$B$13),1,0) | C51: =IF(B51=0,"",CHOOSE($B$4,DATE($B$2,$B$5,A51),MAX($B$10,$B$15+7*(A51-1)),DATE($B$2,A51,1),DATE($B$2,3*A51-2,1),DATE($B$2-$B$13+A51,1,1))) | D51: =IF(B51=0,"",MAX(C51,MIN($B$16+1,CHOOSE($B$4,C51+1,MIN($B$11,$B$15+7*A51),EDATE(C51,1),EDATE(C51,3),DATE(YEAR(C51)+1,1,1))))) | E51: =IF(B51=0,"",CHOOSE($B$4,DAY(C51)&"",Lang!$B$70&WEEKNUM(C51,21),INDEX(Lang!$B$58:$B$69,MONTH(C51)),Lang!$B$71&A51,YEAR(C51)&"")) | F51: =IF(B51=0,"",SUMIFS(dOrders,dDate,">="&C51,dDate,"<"&D51,dDept,$B$7)) | G51: =IF(B51=0,"",SUMIFS(dOrders,dDate,">="&EDATE(C51,12*$B$14),dDate,"<"&EDATE(D51,12*$B$14),dDept,$B$7)) | H51: =IF(B51=0,"",SUMIFS(dTarget,dDate,">="&C51,dDate,"<"&D51,dDept,$B$7)) | I51: =IF(B51=0,"",SUMIFS(dOnTime,dDate,">="&C51,dDate,"<"&D51,dDept,$B$7)) | J51: =IF(B51=0,"",SUMIFS(dLines,dDate,">="&C51,dDate,"<"&D51,dDept,$B$7)) | K51: =IF(B51=0,"",SUMIFS(dCorrect,dDate,">="&C51,dDate,"<"&D51,dDept,$B$7)) | L51: =IF(B51=0,"",SUMIFS(dHours,dDate,">="&C51,dDate,"<"&D51,dDept,$B$7)) | M51: =IF(B51=0,"",SUMIFS(dCost,dDate,">="&C51,dDate,"<"&D51,dDept,$B$7)) | N51: =IF(B51=0,"",SUMIFS(dInc,dDate,">="&C51,dDate,"<"&D51,dDept,$B$7)) | P51: =IF(B51=0,"",IFERROR(I51/F51,"")) | Q51: =IF(B51=0,"",IFERROR(K51/J51,"")) | R51: =IF(B51=0,"",IFERROR(F51/L51,"")) | S51: =IF(B51=0,"",IF(AND(N(H51)>0,N(F51)>0),F51/H51-1,"")) | T51: =IF(B51=0,"",IF(AND(N(G51)>0,N(F51)>0),F51/G51-1,"")) | U51: =IF(N(F51)>0,F51,NA()) | V51: =IF(N(G51)>0,G51,NA()) | W51: =IF(N(H51)>0,H51,NA()) | X51: =IF(S51="",NA(),S51) | Y51: =IF(N(F51)>0,F51,"") | Z51: =IF(B51=0,NA(),Statistics!$B$8) | AA51: =IF(B51=0,NA(),Statistics!$B$8+2*Statistics!$E$8) | AB51: =IF(B51=0,NA(),MAX(0,Statistics!$B$8-2*Statistics!$E$8)) | AC51: =IF(B51=0,"",IFERROR(M51/F51,""))
A59: comparison
A60: =INDEX(Lang!$B$58:$B$69,1) | B60: =IF(N(Comparison!C10)>0,Comparison!C10,NA()) | C60: =IF(N(Comparison!D10)>0,Comparison!D10,NA()) | D60: =IF(N(Comparison!E10)>0,Comparison!E10,NA())
A61: =INDEX(Lang!$B$58:$B$69,2) | B61: =IF(N(Comparison!C11)>0,Comparison!C11,NA()) | C61: =IF(N(Comparison!D11)>0,Comparison!D11,NA()) | D61: =IF(N(Comparison!E11)>0,Comparison!E11,NA())
A62: =INDEX(Lang!$B$58:$B$69,3) | B62: =IF(N(Comparison!C12)>0,Comparison!C12,NA()) | C62: =IF(N(Comparison!D12)>0,Comparison!D12,NA()) | D62: =IF(N(Comparison!E12)>0,Comparison!E12,NA())
A63: =INDEX(Lang!$B$58:$B$69,4) | B63: =IF(N(Comparison!C13)>0,Comparison!C13,NA()) | C63: =IF(N(Comparison!D13)>0,Comparison!D13,NA()) | D63: =IF(N(Comparison!E13)>0,Comparison!E13,NA())
A64: =INDEX(Lang!$B$58:$B$69,5) | B64: =IF(N(Comparison!C14)>0,Comparison!C14,NA()) | C64: =IF(N(Comparison!D14)>0,Comparison!D14,NA()) | D64: =IF(N(Comparison!E14)>0,Comparison!E14,NA())
A65: =INDEX(Lang!$B$58:$B$69,6) | B65: =IF(N(Comparison!C15)>0,Comparison!C15,NA()) | C65: =IF(N(Comparison!D15)>0,Comparison!D15,NA()) | D65: =IF(N(Comparison!E15)>0,Comparison!E15,NA())
A66: =INDEX(Lang!$B$58:$B$69,7) | B66: =IF(N(Comparison!C16)>0,Comparison!C16,NA()) | C66: =IF(N(Comparison!D16)>0,Comparison!D16,NA()) | D66: =IF(N(Comparison!E16)>0,Comparison!E16,NA())
A67: =INDEX(Lang!$B$58:$B$69,8) | B67: =IF(N(Comparison!C17)>0,Comparison!C17,NA()) | C67: =IF(N(Comparison!D17)>0,Comparison!D17,NA()) | D67: =IF(N(Comparison!E17)>0,Comparison!E17,NA())
A68: =INDEX(Lang!$B$58:$B$69,9) | B68: =IF(N(Comparison!C18)>0,Comparison!C18,NA()) | C68: =IF(N(Comparison!D18)>0,Comparison!D18,NA()) | D68: =IF(N(Comparison!E18)>0,Comparison!E18,NA())
A69: =INDEX(Lang!$B$58:$B$69,10) | B69: =IF(N(Comparison!C19)>0,Comparison!C19,NA()) | C69: =IF(N(Comparison!D19)>0,Comparison!D19,NA()) | D69: =IF(N(Comparison!E19)>0,Comparison!E19,NA())
A70: =INDEX(Lang!$B$58:$B$69,11) | B70: =IF(N(Comparison!C20)>0,Comparison!C20,NA()) | C70: =IF(N(Comparison!D20)>0,Comparison!D20,NA()) | D70: =IF(N(Comparison!E20)>0,Comparison!E20,NA())
A71: =INDEX(Lang!$B$58:$B$69,12) | B71: =IF(N(Comparison!C21)>0,Comparison!C21,NA()) | C71: =IF(N(Comparison!D21)>0,Comparison!D21,NA()) | D71: =IF(N(Comparison!E21)>0,Comparison!E21,NA())
