Workbook

Sheet START
B2: K1 | F2: ="KEYONE / "&Lang!$B$29
F4: =Lang!$B$30
B7: =HYPERLINK("#'START'!A1",Lang!$B$2) | D7: =HYPERLINK("#'Dashboard'!A1",Lang!$B$3) | F7: =HYPERLINK("#'Gantt'!A1",Lang!$B$27) | H7: =HYPERLINK("#'Tasks'!A1",Lang!$B$28) | J7: =HYPERLINK("#'Settings'!A1",Lang!$B$4)
B9: =Lang!$B$31
B13: 01 | E13: =Lang!$B$32
E14: =Lang!$B$33
B17: 02 | E17: =Lang!$B$34
E18: =Lang!$B$35
B21: 03 | E21: =Lang!$B$36
E22: =Lang!$B$37
B25: 04 | E25: =Lang!$B$38
E26: =Lang!$B$39
B30: =Lang!$B$40
B32: =Lang!$B$5
B35: =Lang!$B$6
B36: Keywan Fakhri | I36: =Lang!$B$7
B38: =Lang!$B$8
B39: =HYPERLINK("https://keywanfakhri.com","keywanfakhri.com") | F39: =HYPERLINK("mailto:keywanfakhri1@gmail.com","keywanfakhri1@gmail.com") | L39: =HYPERLINK("https://www.linkedin.com/in/rahmatallah-keywan-fakhri/","LinkedIn: rahmatallah-keywan-fakhri")

Sheet Dashboard
B2: K1 | E2: ="KEYONE / "&Lang!$B$46
E3: =Lang!$B$47
B4: =HYPERLINK("#'START'!A1",Lang!$B$2) | D4: =HYPERLINK("#'Dashboard'!A1",Lang!$B$3) | F4: =HYPERLINK("#'Gantt'!A1",Lang!$B$27) | H4: =HYPERLINK("#'Tasks'!A1",Lang!$B$28) | J4: =HYPERLINK("#'Settings'!A1",Lang!$B$4)
B6: =Lang!$B$48 | I6: =Lang!$B$42 | M6: =Lang!$B$14 | P6: =Lang!$B$95
B7: =Settings!$D$8 | I7: =Settings!$D$10 | M7: =Calc!$B$2 | P7: =Calc!$B$8
B8: =Lang!$B$80
B10: =Lang!$B$49 | E10: =Lang!$B$50 | H10: =Lang!$B$51 | K10: =Lang!$B$52 | N10: =Lang!$B$53 | Q10: =Lang!$B$54
B11: =COUNTIF(Tasks!$C$8:$C$207,"?*") | E11: =Calc!$B$5 | H11: =COUNTIF(Tasks!$M$8:$M$207,4) | K11: =SUM(Tasks!$H$8:$H$207) | N11: =SUM(Tasks!$I$8:$I$207) | Q11: =Calc!$B$7
B13: =Lang!$B$55 | D13: =COUNTIF(Tasks!$M$8:$M$207,1) | E13: =Lang!$B$56 | G13: =Calc!$B$6 | H13: =Lang!$B$57 | J13: =COUNTIF(Tasks!$M$8:$M$207,2) | K13: =Lang!$B$58 | M13: =IF(K11=0,0,N11/K11) | N13: =Lang!$B$59 | P13: =K11-N11 | Q13: =Lang!$B$60 | S13: =MAX(0,Calc!$B$7-Calc!$B$2)
B16: =Lang!$B$61 | M16: =Lang!$B$12
M18: =Lang!$B$75
M19: =IF(Calc!$B$5>=Calc!$B$6-0.005,Lang!$B$76,Lang!$B$77) | Q19: =IF(Calc!$B$5>=Calc!$B$6,"+","")&ROUND((Calc!$B$5-Calc!$B$6)*100,1)&" "&Lang!$B$79
M22: =Lang!$B$72
M23: =IF(MIN(Tasks!$S$8:$S$207)=99999,"–",INDEX(Tasks!$C$8:$C$207,MATCH(MIN(Tasks!$S$8:$S$207),Tasks!$S$8:$S$207,0))) | Q23: =IF(MIN(Tasks!$S$8:$S$207)=99999,"",MIN(Tasks!$S$8:$S$207))
M26: =Lang!$B$73
M27: =IF(MAX(Tasks!$R$8:$R$207)=0,"–",INDEX(Tasks!$C$8:$C$207,MATCH(MAX(Tasks!$R$8:$R$207),Tasks!$R$8:$R$207,0))) | Q27: =MAX(Tasks!$R$8:$R$207)&" "&Lang!$B$78
M30: =Lang!$B$74
M31: =IF(MAX(Calc!$G$20:$G$27)<=0,"–",INDEX(Calc!$A$20:$A$27,MATCH(MAX(Calc!$G$20:$G$27),Calc!$G$20:$G$27,0))) | Q31: =MAX(0,MAX(Calc!$G$20:$G$27))
B35: =Lang!$B$62 | M35: =Lang!$B$63
B55: =Lang!$B$40
B56: =Lang!$B$5

Sheet Gantt
B2: K1 | E2: ="KEYONE / "&Lang!$B$81
E3: =Lang!$B$82
B4: =HYPERLINK("#'START'!A1",Lang!$B$2) | D4: =HYPERLINK("#'Dashboard'!A1",Lang!$B$3) | E4: =HYPERLINK("#'Gantt'!A1",Lang!$B$27) | F4: =HYPERLINK("#'Tasks'!A1",Lang!$B$28) | G4: =HYPERLINK("#'Settings'!A1",Lang!$B$4)
B6: =Lang!$B$83 | E6: 46237 | H6: =Settings!$D$8 | W6: =Lang!$B$84&": "&DAY(Calc!$B$2)&"."&MONTH(Calc!$B$2)&"."&YEAR(Calc!$B$2)
H7: =Calc!$B$3+0 | I7: =Calc!$B$3+7 | J7: =Calc!$B$3+14 | K7: =Calc!$B$3+21 | L7: =Calc!$B$3+28 | M7: =Calc!$B$3+35 | N7: =Calc!$B$3+42 | O7: =Calc!$B$3+49 | P7: =Calc!$B$3+56 | Q7: =Calc!$B$3+63 | R7: =Calc!$B$3+70 | S7: =Calc!$B$3+77 | T7: =Calc!$B$3+84 | U7: =Calc!$B$3+91 | V7: =Calc!$B$3+98 | W7: =Calc!$B$3+105 | X7: =Calc!$B$3+112 | Y7: =Calc!$B$3+119 | Z7: =Calc!$B$3+126 | AA7: =Calc!$B$3+133 | AB7: =Calc!$B$3+140 | AC7: =Calc!$B$3+147 | AD7: =Calc!$B$3+154 | AE7: =Calc!$B$3+161 | AF7: =Calc!$B$3+168 | AG7: =Calc!$B$3+175
H8: =IF(OR(0=0,MONTH(H7)<>MONTH(Calc!$B$3+-7)),INDEX(Lang!$B$15:$B$26,MONTH(H7)),"") | I8: =IF(OR(1=0,MONTH(I7)<>MONTH(Calc!$B$3+0)),INDEX(Lang!$B$15:$B$26,MONTH(I7)),"") | J8: =IF(OR(2=0,MONTH(J7)<>MONTH(Calc!$B$3+7)),INDEX(Lang!$B$15:$B$26,MONTH(J7)),"") | K8: =IF(OR(3=0,MONTH(K7)<>MONTH(Calc!$B$3+14)),INDEX(Lang!$B$15:$B$26,MONTH(K7)),"") | L8: =IF(OR(4=0,MONTH(L7)<>MONTH(Calc!$B$3+21)),INDEX(Lang!$B$15:$B$26,MONTH(L7)),"") | M8: =IF(OR(5=0,MONTH(M7)<>MONTH(Calc!$B$3+28)),INDEX(Lang!$B$15:$B$26,MONTH(M7)),"") | N8: =IF(OR(6=0,MONTH(N7)<>MONTH(Calc!$B$3+35)),INDEX(Lang!$B$15:$B$26,MONTH(N7)),"") | O8: =IF(OR(7=0,MONTH(O7)<>MONTH(Calc!$B$3+42)),INDEX(Lang!$B$15:$B$26,MONTH(O7)),"") | P8: =IF(OR(8=0,MONTH(P7)<>MONTH(Calc!$B$3+49)),INDEX(Lang!$B$15:$B$26,MONTH(P7)),"") | Q8: =IF(OR(9=0,MONTH(Q7)<>MONTH(Calc!$B$3+56)),INDEX(Lang!$B$15:$B$26,MONTH(Q7)),"") | R8: =IF(OR(10=0,MONTH(R7)<>MONTH(Calc!$B$3+63)),INDEX(Lang!$B$15:$B$26,MONTH(R7)),"") | S8: =IF(OR(11=0,MONTH(S7)<>MONTH(Calc!$B$3+70)),INDEX(Lang!$B$15:$B$26,MONTH(S7)),"") | T8: =IF(OR(12=0,MONTH(T7)<>MONTH(Calc!$B$3+77)),INDEX(Lang!$B$15:$B$26,MONTH(T7)),"") | U8: =IF(OR(13=0,MONTH(U7)<>MONTH(Calc!$B$3+84)),INDEX(Lang!$B$15:$B$26,MONTH(U7)),"") | V8: =IF(OR(14=0,MONTH(V7)<>MONTH(Calc!$B$3+91)),INDEX(Lang!$B$15:$B$26,MONTH(V7)),"") | W8: =IF(OR(15=0,MONTH(W7)<>MONTH(Calc!$B$3+98)),INDEX(Lang!$B$15:$B$26,MONTH(W7)),"") | X8: =IF(OR(16=0,MONTH(X7)<>MONTH(Calc!$B$3+105)),INDEX(Lang!$B$15:$B$26,MONTH(X7)),"") | Y8: =IF(OR(17=0,MONTH(Y7)<>MONTH(Calc!$B$3+112)),INDEX(Lang!$B$15:$B$26,MONTH(Y7)),"") | Z8: =IF(OR(18=0,MONTH(Z7)<>MONTH(Calc!$B$3+119)),INDEX(Lang!$B$15:$B$26,MONTH(Z7)),"") | AA8: =IF(OR(19=0,MONTH(AA7)<>MONTH(Calc!$B$3+126)),INDEX(Lang!$B$15:$B$26,MONTH(AA7)),"") | AB8: =IF(OR(20=0,MONTH(AB7)<>MONTH(Calc!$B$3+133)),INDEX(Lang!$B$15:$B$26,MONTH(AB7)),"") | AC8: =IF(OR(21=0,MONTH(AC7)<>MONTH(Calc!$B$3+140)),INDEX(Lang!$B$15:$B$26,MONTH(AC7)),"") | AD8: =IF(OR(22=0,MONTH(AD7)<>MONTH(Calc!$B$3+147)),INDEX(Lang!$B$15:$B$26,MONTH(AD7)),"") | AE8: =IF(OR(23=0,MONTH(AE7)<>MONTH(Calc!$B$3+154)),INDEX(Lang!$B$15:$B$26,MONTH(AE7)),"") | AF8: =IF(OR(24=0,MONTH(AF7)<>MONTH(Calc!$B$3+161)),INDEX(Lang!$B$15:$B$26,MONTH(AF7)),"") | AG8: =IF(OR(25=0,MONTH(AG7)<>MONTH(Calc!$B$3+168)),INDEX(Lang!$B$15:$B$26,MONTH(AG7)),"")
B9: =Lang!$B$91 | C9: =Lang!$B$93 | D9: =Lang!$B$94 | E9: =Lang!$B$95 | F9: =Lang!$B$96 | G9: =Lang!$B$97 | H9: =DAY(H7)&"."&MONTH(H7)&"." | I9: =DAY(I7)&"."&MONTH(I7)&"." | J9: =DAY(J7)&"."&MONTH(J7)&"." | K9: =DAY(K7)&"."&MONTH(K7)&"." | L9: =DAY(L7)&"."&MONTH(L7)&"." | M9: =DAY(M7)&"."&MONTH(M7)&"." | N9: =DAY(N7)&"."&MONTH(N7)&"." | O9: =DAY(O7)&"."&MONTH(O7)&"." | ... AG9: =DAY(AG7)&"."&MONTH(AG7)&"."
B10: =IF(Tasks!$C$8="","",Tasks!$A$8) | C10: =IF(Tasks!$C$8="","",Tasks!$C$8) | D10: =IF(Tasks!$C$8="","",Tasks!$D$8&"") | E10: =IF(N(Tasks!$E$8)=0,"",Tasks!$E$8) | F10: =IF(N(Tasks!$F$8)=0,"",Tasks!$F$8) | G10: =IF(Tasks!$C$8="","",N(Tasks!$G$8)) | H10: =IF(OR(Tasks!$M$8=0,Tasks!$E$8>=H$7+7,Tasks!$F$8<H$7),0,IF(H$7+3.5<Tasks!$E$8+(Tasks!$F$8-Tasks!$E$8+1)*N(Tasks!$G$8),2,IF(Tasks!$M$8=4,3,1))) | I10: =IF(OR(Tasks!$M$8=0,Tasks!$E$8>=I$7+7,Tasks!$F$8<I$7),0,IF(I$7+3.5<Tasks!$E$8+(Tasks!$F$8-Tasks!$E$8+1)*N(Tasks!$G$8),2,IF(Tasks!$M$8=4,3,1))) | J10: =IF(OR(Tasks!$M$8=0,Tasks!$E$8>=J$7+7,Tasks!$F$8<J$7),0,IF(J$7+3.5<Tasks!$E$8+(Tasks!$F$8-Tasks!$E$8+1)*N(Tasks!$G$8),2,IF(Tasks!$M$8=4,3,1))) | K10: =IF(OR(Tasks!$M$8=0,Tasks!$E$8>=K$7+7,Tasks!$F$8<K$7),0,IF(K$7+3.5<Tasks!$E$8+(Tasks!$F$8-Tasks!$E$8+1)*N(Tasks!$G$8),2,IF(Tasks!$M$8=4,3,1))) | L10: =IF(OR(Tasks!$M$8=0,Tasks!$E$8>=L$7+7,Tasks!$F$8<L$7),0,IF(L$7+3.5<Tasks!$E$8+(Tasks!$F$8-Tasks!$E$8+1)*N(Tasks!$G$8),2,IF(Tasks!$M$8=4,3,1))) | M10: =IF(OR(Tasks!$M$8=0,Tasks!$E$8>=M$7+7,Tasks!$F$8<M$7),0,IF(M$7+3.5<Tasks!$E$8+(Tasks!$F$8-Tasks!$E$8+1)*N(Tasks!$G$8),2,IF(Tasks!$M$8=4,3,1))) | N10: =IF(OR(Tasks!$M$8=0,Tasks!$E$8>=N$7+7,Tasks!$F$8<N$7),0,IF(N$7+3.5<Tasks!$E$8+(Tasks!$F$8-Tasks!$E$8+1)*N(Tasks!$G$8),2,IF(Tasks!$M$8=4,3,1))) | O10: =IF(OR(Tasks!$M$8=0,Tasks!$E$8>=O$7+7,Tasks!$F$8<O$7),0,IF(O$7+3.5<Tasks!$E$8+(Tasks!$F$8-Tasks!$E$8+1)*N(Tasks!$G$8),2,IF(Tasks!$M$8=4,3,1))) | ... AG10: =IF(OR(Tasks!$M$8=0,Tasks!$E$8>=AG$7+7,Tasks!$F$8<AG$7),0,IF(AG$7+3.5<Tasks!$E$8+(Tasks!$F$8-Tasks!$E$8+1)*N(Tasks!$G$8),2,IF(Tasks!$M$8=4,3,1)))
B11: =IF(Tasks!$C$9="","",Tasks!$A$9) | C11: =IF(Tasks!$C$9="","",Tasks!$C$9) | D11: =IF(Tasks!$C$9="","",Tasks!$D$9&"") | E11: =IF(N(Tasks!$E$9)=0,"",Tasks!$E$9) | F11: =IF(N(Tasks!$F$9)=0,"",Tasks!$F$9) | G11: =IF(Tasks!$C$9="","",N(Tasks!$G$9)) | H11: =IF(OR(Tasks!$M$9=0,Tasks!$E$9>=H$7+7,Tasks!$F$9<H$7),0,IF(H$7+3.5<Tasks!$E$9+(Tasks!$F$9-Tasks!$E$9+1)*N(Tasks!$G$9),2,IF(Tasks!$M$9=4,3,1))) | I11: =IF(OR(Tasks!$M$9=0,Tasks!$E$9>=I$7+7,Tasks!$F$9<I$7),0,IF(I$7+3.5<Tasks!$E$9+(Tasks!$F$9-Tasks!$E$9+1)*N(Tasks!$G$9),2,IF(Tasks!$M$9=4,3,1))) | J11: =IF(OR(Tasks!$M$9=0,Tasks!$E$9>=J$7+7,Tasks!$F$9<J$7),0,IF(J$7+3.5<Tasks!$E$9+(Tasks!$F$9-Tasks!$E$9+1)*N(Tasks!$G$9),2,IF(Tasks!$M$9=4,3,1))) | K11: =IF(OR(Tasks!$M$9=0,Tasks!$E$9>=K$7+7,Tasks!$F$9<K$7),0,IF(K$7+3.5<Tasks!$E$9+(Tasks!$F$9-Tasks!$E$9+1)*N(Tasks!$G$9),2,IF(Tasks!$M$9=4,3,1))) | L11: =IF(OR(Tasks!$M$9=0,Tasks!$E$9>=L$7+7,Tasks!$F$9<L$7),0,IF(L$7+3.5<Tasks!$E$9+(Tasks!$F$9-Tasks!$E$9+1)*N(Tasks!$G$9),2,IF(Tasks!$M$9=4,3,1))) | M11: =IF(OR(Tasks!$M$9=0,Tasks!$E$9>=M$7+7,Tasks!$F$9<M$7),0,IF(M$7+3.5<Tasks!$E$9+(Tasks!$F$9-Tasks!$E$9+1)*N(Tasks!$G$9),2,IF(Tasks!$M$9=4,3,1))) | N11: =IF(OR(Tasks!$M$9=0,Tasks!$E$9>=N$7+7,Tasks!$F$9<N$7),0,IF(N$7+3.5<Tasks!$E$9+(Tasks!$F$9-Tasks!$E$9+1)*N(Tasks!$G$9),2,IF(Tasks!$M$9=4,3,1))) | O11: =IF(OR(Tasks!$M$9=0,Tasks!$E$9>=O$7+7,Tasks!$F$9<O$7),0,IF(O$7+3.5<Tasks!$E$9+(Tasks!$F$9-Tasks!$E$9+1)*N(Tasks!$G$9),2,IF(Tasks!$M$9=4,3,1))) | ... AG11: =IF(OR(Tasks!$M$9=0,Tasks!$E$9>=AG$7+7,Tasks!$F$9<AG$7),0,IF(AG$7+3.5<Tasks!$E$9+(Tasks!$F$9-Tasks!$E$9+1)*N(Tasks!$G$9),2,IF(Tasks!$M$9=4,3,1)))
B12: =IF(Tasks!$C$10="","",Tasks!$A$10) | C12: =IF(Tasks!$C$10="","",Tasks!$C$10) | D12: =IF(Tasks!$C$10="","",Tasks!$D$10&"") | E12: =IF(N(Tasks!$E$10)=0,"",Tasks!$E$10) | F12: =IF(N(Tasks!$F$10)=0,"",Tasks!$F$10) | G12: =IF(Tasks!$C$10="","",N(Tasks!$G$10)) | H12: =IF(OR(Tasks!$M$10=0,Tasks!$E$10>=H$7+7,Tasks!$F$10<H$7),0,IF(H$7+3.5<Tasks!$E$10+(Tasks!$F$10-Tasks!$E$10+1)*N(Tasks!$G$10),2,IF(Tasks!$M$10=4,3,1))) | I12: =IF(OR(Tasks!$M$10=0,Tasks!$E$10>=I$7+7,Tasks!$F$10<I$7),0,IF(I$7+3.5<Tasks!$E$10+(Tasks!$F$10-Tasks!$E$10+1)*N(Tasks!$G$10),2,IF(Tasks!$M$10=4,3,1))) | J12: =IF(OR(Tasks!$M$10=0,Tasks!$E$10>=J$7+7,Tasks!$F$10<J$7),0,IF(J$7+3.5<Tasks!$E$10+(Tasks!$F$10-Tasks!$E$10+1)*N(Tasks!$G$10),2,IF(Tasks!$M$10=4,3,1))) | K12: =IF(OR(Tasks!$M$10=0,Tasks!$E$10>=K$7+7,Tasks!$F$10<K$7),0,IF(K$7+3.5<Tasks!$E$10+(Tasks!$F$10-Tasks!$E$10+1)*N(Tasks!$G$10),2,IF(Tasks!$M$10=4,3,1))) | L12: =IF(OR(Tasks!$M$10=0,Tasks!$E$10>=L$7+7,Tasks!$F$10<L$7),0,IF(L$7+3.5<Tasks!$E$10+(Tasks!$F$10-Tasks!$E$10+1)*N(Tasks!$G$10),2,IF(Tasks!$M$10=4,3,1))) | M12: =IF(OR(Tasks!$M$10=0,Tasks!$E$10>=M$7+7,Tasks!$F$10<M$7),0,IF(M$7+3.5<Tasks!$E$10+(Tasks!$F$10-Tasks!$E$10+1)*N(Tasks!$G$10),2,IF(Tasks!$M$10=4,3,1))) | N12: =IF(OR(Tasks!$M$10=0,Tasks!$E$10>=N$7+7,Tasks!$F$10<N$7),0,IF(N$7+3.5<Tasks!$E$10+(Tasks!$F$10-Tasks!$E$10+1)*N(Tasks!$G$10),2,IF(Tasks!$M$10=4,3,1))) | O12: =IF(OR(Tasks!$M$10=0,Tasks!$E$10>=O$7+7,Tasks!$F$10<O$7),0,IF(O$7+3.5<Tasks!$E$10+(Tasks!$F$10-Tasks!$E$10+1)*N(Tasks!$G$10),2,IF(Tasks!$M$10=4,3,1))) | ... AG12: =IF(OR(Tasks!$M$10=0,Tasks!$E$10>=AG$7+7,Tasks!$F$10<AG$7),0,IF(AG$7+3.5<Tasks!$E$10+(Tasks!$F$10-Tasks!$E$10+1)*N(Tasks!$G$10),2,IF(Tasks!$M$10=4,3,1)))
B13: =IF(Tasks!$C$11="","",Tasks!$A$11) | C13: =IF(Tasks!$C$11="","",Tasks!$C$11) | D13: =IF(Tasks!$C$11="","",Tasks!$D$11&"") | E13: =IF(N(Tasks!$E$11)=0,"",Tasks!$E$11) | F13: =IF(N(Tasks!$F$11)=0,"",Tasks!$F$11) | G13: =IF(Tasks!$C$11="","",N(Tasks!$G$11)) | H13: =IF(OR(Tasks!$M$11=0,Tasks!$E$11>=H$7+7,Tasks!$F$11<H$7),0,IF(H$7+3.5<Tasks!$E$11+(Tasks!$F$11-Tasks!$E$11+1)*N(Tasks!$G$11),2,IF(Tasks!$M$11=4,3,1))) | I13: =IF(OR(Tasks!$M$11=0,Tasks!$E$11>=I$7+7,Tasks!$F$11<I$7),0,IF(I$7+3.5<Tasks!$E$11+(Tasks!$F$11-Tasks!$E$11+1)*N(Tasks!$G$11),2,IF(Tasks!$M$11=4,3,1))) | J13: =IF(OR(Tasks!$M$11=0,Tasks!$E$11>=J$7+7,Tasks!$F$11<J$7),0,IF(J$7+3.5<Tasks!$E$11+(Tasks!$F$11-Tasks!$E$11+1)*N(Tasks!$G$11),2,IF(Tasks!$M$11=4,3,1))) | K13: =IF(OR(Tasks!$M$11=0,Tasks!$E$11>=K$7+7,Tasks!$F$11<K$7),0,IF(K$7+3.5<Tasks!$E$11+(Tasks!$F$11-Tasks!$E$11+1)*N(Tasks!$G$11),2,IF(Tasks!$M$11=4,3,1))) | L13: =IF(OR(Tasks!$M$11=0,Tasks!$E$11>=L$7+7,Tasks!$F$11<L$7),0,IF(L$7+3.5<Tasks!$E$11+(Tasks!$F$11-Tasks!$E$11+1)*N(Tasks!$G$11),2,IF(Tasks!$M$11=4,3,1))) | M13: =IF(OR(Tasks!$M$11=0,Tasks!$E$11>=M$7+7,Tasks!$F$11<M$7),0,IF(M$7+3.5<Tasks!$E$11+(Tasks!$F$11-Tasks!$E$11+1)*N(Tasks!$G$11),2,IF(Tasks!$M$11=4,3,1))) | N13: =IF(OR(Tasks!$M$11=0,Tasks!$E$11>=N$7+7,Tasks!$F$11<N$7),0,IF(N$7+3.5<Tasks!$E$11+(Tasks!$F$11-Tasks!$E$11+1)*N(Tasks!$G$11),2,IF(Tasks!$M$11=4,3,1))) | O13: =IF(OR(Tasks!$M$11=0,Tasks!$E$11>=O$7+7,Tasks!$F$11<O$7),0,IF(O$7+3.5<Tasks!$E$11+(Tasks!$F$11-Tasks!$E$11+1)*N(Tasks!$G$11),2,IF(Tasks!$M$11=4,3,1))) | ... AG13: =IF(OR(Tasks!$M$11=0,Tasks!$E$11>=AG$7+7,Tasks!$F$11<AG$7),0,IF(AG$7+3.5<Tasks!$E$11+(Tasks!$F$11-Tasks!$E$11+1)*N(Tasks!$G$11),2,IF(Tasks!$M$11=4,3,1)))
B14: =IF(Tasks!$C$12="","",Tasks!$A$12) | C14: =IF(Tasks!$C$12="","",Tasks!$C$12) | D14: =IF(Tasks!$C$12="","",Tasks!$D$12&"") | E14: =IF(N(Tasks!$E$12)=0,"",Tasks!$E$12) | F14: =IF(N(Tasks!$F$12)=0,"",Tasks!$F$12) | G14: =IF(Tasks!$C$12="","",N(Tasks!$G$12)) | H14: =IF(OR(Tasks!$M$12=0,Tasks!$E$12>=H$7+7,Tasks!$F$12<H$7),0,IF(H$7+3.5<Tasks!$E$12+(Tasks!$F$12-Tasks!$E$12+1)*N(Tasks!$G$12),2,IF(Tasks!$M$12=4,3,1))) | I14: =IF(OR(Tasks!$M$12=0,Tasks!$E$12>=I$7+7,Tasks!$F$12<I$7),0,IF(I$7+3.5<Tasks!$E$12+(Tasks!$F$12-Tasks!$E$12+1)*N(Tasks!$G$12),2,IF(Tasks!$M$12=4,3,1))) | J14: =IF(OR(Tasks!$M$12=0,Tasks!$E$12>=J$7+7,Tasks!$F$12<J$7),0,IF(J$7+3.5<Tasks!$E$12+(Tasks!$F$12-Tasks!$E$12+1)*N(Tasks!$G$12),2,IF(Tasks!$M$12=4,3,1))) | K14: =IF(OR(Tasks!$M$12=0,Tasks!$E$12>=K$7+7,Tasks!$F$12<K$7),0,IF(K$7+3.5<Tasks!$E$12+(Tasks!$F$12-Tasks!$E$12+1)*N(Tasks!$G$12),2,IF(Tasks!$M$12=4,3,1))) | L14: =IF(OR(Tasks!$M$12=0,Tasks!$E$12>=L$7+7,Tasks!$F$12<L$7),0,IF(L$7+3.5<Tasks!$E$12+(Tasks!$F$12-Tasks!$E$12+1)*N(Tasks!$G$12),2,IF(Tasks!$M$12=4,3,1))) | M14: =IF(OR(Tasks!$M$12=0,Tasks!$E$12>=M$7+7,Tasks!$F$12<M$7),0,IF(M$7+3.5<Tasks!$E$12+(Tasks!$F$12-Tasks!$E$12+1)*N(Tasks!$G$12),2,IF(Tasks!$M$12=4,3,1))) | N14: =IF(OR(Tasks!$M$12=0,Tasks!$E$12>=N$7+7,Tasks!$F$12<N$7),0,IF(N$7+3.5<Tasks!$E$12+(Tasks!$F$12-Tasks!$E$12+1)*N(Tasks!$G$12),2,IF(Tasks!$M$12=4,3,1))) | O14: =IF(OR(Tasks!$M$12=0,Tasks!$E$12>=O$7+7,Tasks!$F$12<O$7),0,IF(O$7+3.5<Tasks!$E$12+(Tasks!$F$12-Tasks!$E$12+1)*N(Tasks!$G$12),2,IF(Tasks!$M$12=4,3,1))) | ... AG14: =IF(OR(Tasks!$M$12=0,Tasks!$E$12>=AG$7+7,Tasks!$F$12<AG$7),0,IF(AG$7+3.5<Tasks!$E$12+(Tasks!$F$12-Tasks!$E$12+1)*N(Tasks!$G$12),2,IF(Tasks!$M$12=4,3,1)))
B15: =IF(Tasks!$C$13="","",Tasks!$A$13) | C15: =IF(Tasks!$C$13="","",Tasks!$C$13) | D15: =IF(Tasks!$C$13="","",Tasks!$D$13&"") | E15: =IF(N(Tasks!$E$13)=0,"",Tasks!$E$13) | F15: =IF(N(Tasks!$F$13)=0,"",Tasks!$F$13) | G15: =IF(Tasks!$C$13="","",N(Tasks!$G$13)) | H15: =IF(OR(Tasks!$M$13=0,Tasks!$E$13>=H$7+7,Tasks!$F$13<H$7),0,IF(H$7+3.5<Tasks!$E$13+(Tasks!$F$13-Tasks!$E$13+1)*N(Tasks!$G$13),2,IF(Tasks!$M$13=4,3,1))) | I15: =IF(OR(Tasks!$M$13=0,Tasks!$E$13>=I$7+7,Tasks!$F$13<I$7),0,IF(I$7+3.5<Tasks!$E$13+(Tasks!$F$13-Tasks!$E$13+1)*N(Tasks!$G$13),2,IF(Tasks!$M$13=4,3,1))) | J15: =IF(OR(Tasks!$M$13=0,Tasks!$E$13>=J$7+7,Tasks!$F$13<J$7),0,IF(J$7+3.5<Tasks!$E$13+(Tasks!$F$13-Tasks!$E$13+1)*N(Tasks!$G$13),2,IF(Tasks!$M$13=4,3,1))) | K15: =IF(OR(Tasks!$M$13=0,Tasks!$E$13>=K$7+7,Tasks!$F$13<K$7),0,IF(K$7+3.5<Tasks!$E$13+(Tasks!$F$13-Tasks!$E$13+1)*N(Tasks!$G$13),2,IF(Tasks!$M$13=4,3,1))) | L15: =IF(OR(Tasks!$M$13=0,Tasks!$E$13>=L$7+7,Tasks!$F$13<L$7),0,IF(L$7+3.5<Tasks!$E$13+(Tasks!$F$13-Tasks!$E$13+1)*N(Tasks!$G$13),2,IF(Tasks!$M$13=4,3,1))) | M15: =IF(OR(Tasks!$M$13=0,Tasks!$E$13>=M$7+7,Tasks!$F$13<M$7),0,IF(M$7+3.5<Tasks!$E$13+(Tasks!$F$13-Tasks!$E$13+1)*N(Tasks!$G$13),2,IF(Tasks!$M$13=4,3,1))) | N15: =IF(OR(Tasks!$M$13=0,Tasks!$E$13>=N$7+7,Tasks!$F$13<N$7),0,IF(N$7+3.5<Tasks!$E$13+(Tasks!$F$13-Tasks!$E$13+1)*N(Tasks!$G$13),2,IF(Tasks!$M$13=4,3,1))) | O15: =IF(OR(Tasks!$M$13=0,Tasks!$E$13>=O$7+7,Tasks!$F$13<O$7),0,IF(O$7+3.5<Tasks!$E$13+(Tasks!$F$13-Tasks!$E$13+1)*N(Tasks!$G$13),2,IF(Tasks!$M$13=4,3,1))) | ... AG15: =IF(OR(Tasks!$M$13=0,Tasks!$E$13>=AG$7+7,Tasks!$F$13<AG$7),0,IF(AG$7+3.5<Tasks!$E$13+(Tasks!$F$13-Tasks!$E$13+1)*N(Tasks!$G$13),2,IF(Tasks!$M$13=4,3,1)))
B16: =IF(Tasks!$C$14="","",Tasks!$A$14) | C16: =IF(Tasks!$C$14="","",Tasks!$C$14) | D16: =IF(Tasks!$C$14="","",Tasks!$D$14&"") | E16: =IF(N(Tasks!$E$14)=0,"",Tasks!$E$14) | F16: =IF(N(Tasks!$F$14)=0,"",Tasks!$F$14) | G16: =IF(Tasks!$C$14="","",N(Tasks!$G$14)) | H16: =IF(OR(Tasks!$M$14=0,Tasks!$E$14>=H$7+7,Tasks!$F$14<H$7),0,IF(H$7+3.5<Tasks!$E$14+(Tasks!$F$14-Tasks!$E$14+1)*N(Tasks!$G$14),2,IF(Tasks!$M$14=4,3,1))) | I16: =IF(OR(Tasks!$M$14=0,Tasks!$E$14>=I$7+7,Tasks!$F$14<I$7),0,IF(I$7+3.5<Tasks!$E$14+(Tasks!$F$14-Tasks!$E$14+1)*N(Tasks!$G$14),2,IF(Tasks!$M$14=4,3,1))) | J16: =IF(OR(Tasks!$M$14=0,Tasks!$E$14>=J$7+7,Tasks!$F$14<J$7),0,IF(J$7+3.5<Tasks!$E$14+(Tasks!$F$14-Tasks!$E$14+1)*N(Tasks!$G$14),2,IF(Tasks!$M$14=4,3,1))) | K16: =IF(OR(Tasks!$M$14=0,Tasks!$E$14>=K$7+7,Tasks!$F$14<K$7),0,IF(K$7+3.5<Tasks!$E$14+(Tasks!$F$14-Tasks!$E$14+1)*N(Tasks!$G$14),2,IF(Tasks!$M$14=4,3,1))) | L16: =IF(OR(Tasks!$M$14=0,Tasks!$E$14>=L$7+7,Tasks!$F$14<L$7),0,IF(L$7+3.5<Tasks!$E$14+(Tasks!$F$14-Tasks!$E$14+1)*N(Tasks!$G$14),2,IF(Tasks!$M$14=4,3,1))) | M16: =IF(OR(Tasks!$M$14=0,Tasks!$E$14>=M$7+7,Tasks!$F$14<M$7),0,IF(M$7+3.5<Tasks!$E$14+(Tasks!$F$14-Tasks!$E$14+1)*N(Tasks!$G$14),2,IF(Tasks!$M$14=4,3,1))) | N16: =IF(OR(Tasks!$M$14=0,Tasks!$E$14>=N$7+7,Tasks!$F$14<N$7),0,IF(N$7+3.5<Tasks!$E$14+(Tasks!$F$14-Tasks!$E$14+1)*N(Tasks!$G$14),2,IF(Tasks!$M$14=4,3,1))) | O16: =IF(OR(Tasks!$M$14=0,Tasks!$E$14>=O$7+7,Tasks!$F$14<O$7),0,IF(O$7+3.5<Tasks!$E$14+(Tasks!$F$14-Tasks!$E$14+1)*N(Tasks!$G$14),2,IF(Tasks!$M$14=4,3,1))) | ... AG16: =IF(OR(Tasks!$M$14=0,Tasks!$E$14>=AG$7+7,Tasks!$F$14<AG$7),0,IF(AG$7+3.5<Tasks!$E$14+(Tasks!$F$14-Tasks!$E$14+1)*N(Tasks!$G$14),2,IF(Tasks!$M$14=4,3,1)))
B17: =IF(Tasks!$C$15="","",Tasks!$A$15) | C17: =IF(Tasks!$C$15="","",Tasks!$C$15) | D17: =IF(Tasks!$C$15="","",Tasks!$D$15&"") | E17: =IF(N(Tasks!$E$15)=0,"",Tasks!$E$15) | F17: =IF(N(Tasks!$F$15)=0,"",Tasks!$F$15) | G17: =IF(Tasks!$C$15="","",N(Tasks!$G$15)) | H17: =IF(OR(Tasks!$M$15=0,Tasks!$E$15>=H$7+7,Tasks!$F$15<H$7),0,IF(H$7+3.5<Tasks!$E$15+(Tasks!$F$15-Tasks!$E$15+1)*N(Tasks!$G$15),2,IF(Tasks!$M$15=4,3,1))) | I17: =IF(OR(Tasks!$M$15=0,Tasks!$E$15>=I$7+7,Tasks!$F$15<I$7),0,IF(I$7+3.5<Tasks!$E$15+(Tasks!$F$15-Tasks!$E$15+1)*N(Tasks!$G$15),2,IF(Tasks!$M$15=4,3,1))) | J17: =IF(OR(Tasks!$M$15=0,Tasks!$E$15>=J$7+7,Tasks!$F$15<J$7),0,IF(J$7+3.5<Tasks!$E$15+(Tasks!$F$15-Tasks!$E$15+1)*N(Tasks!$G$15),2,IF(Tasks!$M$15=4,3,1))) | K17: =IF(OR(Tasks!$M$15=0,Tasks!$E$15>=K$7+7,Tasks!$F$15<K$7),0,IF(K$7+3.5<Tasks!$E$15+(Tasks!$F$15-Tasks!$E$15+1)*N(Tasks!$G$15),2,IF(Tasks!$M$15=4,3,1))) | L17: =IF(OR(Tasks!$M$15=0,Tasks!$E$15>=L$7+7,Tasks!$F$15<L$7),0,IF(L$7+3.5<Tasks!$E$15+(Tasks!$F$15-Tasks!$E$15+1)*N(Tasks!$G$15),2,IF(Tasks!$M$15=4,3,1))) | M17: =IF(OR(Tasks!$M$15=0,Tasks!$E$15>=M$7+7,Tasks!$F$15<M$7),0,IF(M$7+3.5<Tasks!$E$15+(Tasks!$F$15-Tasks!$E$15+1)*N(Tasks!$G$15),2,IF(Tasks!$M$15=4,3,1))) | N17: =IF(OR(Tasks!$M$15=0,Tasks!$E$15>=N$7+7,Tasks!$F$15<N$7),0,IF(N$7+3.5<Tasks!$E$15+(Tasks!$F$15-Tasks!$E$15+1)*N(Tasks!$G$15),2,IF(Tasks!$M$15=4,3,1))) | O17: =IF(OR(Tasks!$M$15=0,Tasks!$E$15>=O$7+7,Tasks!$F$15<O$7),0,IF(O$7+3.5<Tasks!$E$15+(Tasks!$F$15-Tasks!$E$15+1)*N(Tasks!$G$15),2,IF(Tasks!$M$15=4,3,1))) | ... AG17: =IF(OR(Tasks!$M$15=0,Tasks!$E$15>=AG$7+7,Tasks!$F$15<AG$7),0,IF(AG$7+3.5<Tasks!$E$15+(Tasks!$F$15-Tasks!$E$15+1)*N(Tasks!$G$15),2,IF(Tasks!$M$15=4,3,1)))
B18: =IF(Tasks!$C$16="","",Tasks!$A$16) | C18: =IF(Tasks!$C$16="","",Tasks!$C$16) | D18: =IF(Tasks!$C$16="","",Tasks!$D$16&"") | E18: =IF(N(Tasks!$E$16)=0,"",Tasks!$E$16) | F18: =IF(N(Tasks!$F$16)=0,"",Tasks!$F$16) | G18: =IF(Tasks!$C$16="","",N(Tasks!$G$16)) | H18: =IF(OR(Tasks!$M$16=0,Tasks!$E$16>=H$7+7,Tasks!$F$16<H$7),0,IF(H$7+3.5<Tasks!$E$16+(Tasks!$F$16-Tasks!$E$16+1)*N(Tasks!$G$16),2,IF(Tasks!$M$16=4,3,1))) | I18: =IF(OR(Tasks!$M$16=0,Tasks!$E$16>=I$7+7,Tasks!$F$16<I$7),0,IF(I$7+3.5<Tasks!$E$16+(Tasks!$F$16-Tasks!$E$16+1)*N(Tasks!$G$16),2,IF(Tasks!$M$16=4,3,1))) | J18: =IF(OR(Tasks!$M$16=0,Tasks!$E$16>=J$7+7,Tasks!$F$16<J$7),0,IF(J$7+3.5<Tasks!$E$16+(Tasks!$F$16-Tasks!$E$16+1)*N(Tasks!$G$16),2,IF(Tasks!$M$16=4,3,1))) | K18: =IF(OR(Tasks!$M$16=0,Tasks!$E$16>=K$7+7,Tasks!$F$16<K$7),0,IF(K$7+3.5<Tasks!$E$16+(Tasks!$F$16-Tasks!$E$16+1)*N(Tasks!$G$16),2,IF(Tasks!$M$16=4,3,1))) | L18: =IF(OR(Tasks!$M$16=0,Tasks!$E$16>=L$7+7,Tasks!$F$16<L$7),0,IF(L$7+3.5<Tasks!$E$16+(Tasks!$F$16-Tasks!$E$16+1)*N(Tasks!$G$16),2,IF(Tasks!$M$16=4,3,1))) | M18: =IF(OR(Tasks!$M$16=0,Tasks!$E$16>=M$7+7,Tasks!$F$16<M$7),0,IF(M$7+3.5<Tasks!$E$16+(Tasks!$F$16-Tasks!$E$16+1)*N(Tasks!$G$16),2,IF(Tasks!$M$16=4,3,1))) | N18: =IF(OR(Tasks!$M$16=0,Tasks!$E$16>=N$7+7,Tasks!$F$16<N$7),0,IF(N$7+3.5<Tasks!$E$16+(Tasks!$F$16-Tasks!$E$16+1)*N(Tasks!$G$16),2,IF(Tasks!$M$16=4,3,1))) | O18: =IF(OR(Tasks!$M$16=0,Tasks!$E$16>=O$7+7,Tasks!$F$16<O$7),0,IF(O$7+3.5<Tasks!$E$16+(Tasks!$F$16-Tasks!$E$16+1)*N(Tasks!$G$16),2,IF(Tasks!$M$16=4,3,1))) | ... AG18: =IF(OR(Tasks!$M$16=0,Tasks!$E$16>=AG$7+7,Tasks!$F$16<AG$7),0,IF(AG$7+3.5<Tasks!$E$16+(Tasks!$F$16-Tasks!$E$16+1)*N(Tasks!$G$16),2,IF(Tasks!$M$16=4,3,1)))
B19: =IF(Tasks!$C$17="","",Tasks!$A$17) | C19: =IF(Tasks!$C$17="","",Tasks!$C$17) | D19: =IF(Tasks!$C$17="","",Tasks!$D$17&"") | E19: =IF(N(Tasks!$E$17)=0,"",Tasks!$E$17) | F19: =IF(N(Tasks!$F$17)=0,"",Tasks!$F$17) | G19: =IF(Tasks!$C$17="","",N(Tasks!$G$17)) | H19: =IF(OR(Tasks!$M$17=0,Tasks!$E$17>=H$7+7,Tasks!$F$17<H$7),0,IF(H$7+3.5<Tasks!$E$17+(Tasks!$F$17-Tasks!$E$17+1)*N(Tasks!$G$17),2,IF(Tasks!$M$17=4,3,1))) | I19: =IF(OR(Tasks!$M$17=0,Tasks!$E$17>=I$7+7,Tasks!$F$17<I$7),0,IF(I$7+3.5<Tasks!$E$17+(Tasks!$F$17-Tasks!$E$17+1)*N(Tasks!$G$17),2,IF(Tasks!$M$17=4,3,1))) | J19: =IF(OR(Tasks!$M$17=0,Tasks!$E$17>=J$7+7,Tasks!$F$17<J$7),0,IF(J$7+3.5<Tasks!$E$17+(Tasks!$F$17-Tasks!$E$17+1)*N(Tasks!$G$17),2,IF(Tasks!$M$17=4,3,1))) | K19: =IF(OR(Tasks!$M$17=0,Tasks!$E$17>=K$7+7,Tasks!$F$17<K$7),0,IF(K$7+3.5<Tasks!$E$17+(Tasks!$F$17-Tasks!$E$17+1)*N(Tasks!$G$17),2,IF(Tasks!$M$17=4,3,1))) | L19: =IF(OR(Tasks!$M$17=0,Tasks!$E$17>=L$7+7,Tasks!$F$17<L$7),0,IF(L$7+3.5<Tasks!$E$17+(Tasks!$F$17-Tasks!$E$17+1)*N(Tasks!$G$17),2,IF(Tasks!$M$17=4,3,1))) | M19: =IF(OR(Tasks!$M$17=0,Tasks!$E$17>=M$7+7,Tasks!$F$17<M$7),0,IF(M$7+3.5<Tasks!$E$17+(Tasks!$F$17-Tasks!$E$17+1)*N(Tasks!$G$17),2,IF(Tasks!$M$17=4,3,1))) | N19: =IF(OR(Tasks!$M$17=0,Tasks!$E$17>=N$7+7,Tasks!$F$17<N$7),0,IF(N$7+3.5<Tasks!$E$17+(Tasks!$F$17-Tasks!$E$17+1)*N(Tasks!$G$17),2,IF(Tasks!$M$17=4,3,1))) | O19: =IF(OR(Tasks!$M$17=0,Tasks!$E$17>=O$7+7,Tasks!$F$17<O$7),0,IF(O$7+3.5<Tasks!$E$17+(Tasks!$F$17-Tasks!$E$17+1)*N(Tasks!$G$17),2,IF(Tasks!$M$17=4,3,1))) | ... AG19: =IF(OR(Tasks!$M$17=0,Tasks!$E$17>=AG$7+7,Tasks!$F$17<AG$7),0,IF(AG$7+3.5<Tasks!$E$17+(Tasks!$F$17-Tasks!$E$17+1)*N(Tasks!$G$17),2,IF(Tasks!$M$17=4,3,1)))
B20: =IF(Tasks!$C$18="","",Tasks!$A$18) | C20: =IF(Tasks!$C$18="","",Tasks!$C$18) | D20: =IF(Tasks!$C$18="","",Tasks!$D$18&"") | E20: =IF(N(Tasks!$E$18)=0,"",Tasks!$E$18) | F20: =IF(N(Tasks!$F$18)=0,"",Tasks!$F$18) | G20: =IF(Tasks!$C$18="","",N(Tasks!$G$18)) | H20: =IF(OR(Tasks!$M$18=0,Tasks!$E$18>=H$7+7,Tasks!$F$18<H$7),0,IF(H$7+3.5<Tasks!$E$18+(Tasks!$F$18-Tasks!$E$18+1)*N(Tasks!$G$18),2,IF(Tasks!$M$18=4,3,1))) | I20: =IF(OR(Tasks!$M$18=0,Tasks!$E$18>=I$7+7,Tasks!$F$18<I$7),0,IF(I$7+3.5<Tasks!$E$18+(Tasks!$F$18-Tasks!$E$18+1)*N(Tasks!$G$18),2,IF(Tasks!$M$18=4,3,1))) | J20: =IF(OR(Tasks!$M$18=0,Tasks!$E$18>=J$7+7,Tasks!$F$18<J$7),0,IF(J$7+3.5<Tasks!$E$18+(Tasks!$F$18-Tasks!$E$18+1)*N(Tasks!$G$18),2,IF(Tasks!$M$18=4,3,1))) | K20: =IF(OR(Tasks!$M$18=0,Tasks!$E$18>=K$7+7,Tasks!$F$18<K$7),0,IF(K$7+3.5<Tasks!$E$18+(Tasks!$F$18-Tasks!$E$18+1)*N(Tasks!$G$18),2,IF(Tasks!$M$18=4,3,1))) | L20: =IF(OR(Tasks!$M$18=0,Tasks!$E$18>=L$7+7,Tasks!$F$18<L$7),0,IF(L$7+3.5<Tasks!$E$18+(Tasks!$F$18-Tasks!$E$18+1)*N(Tasks!$G$18),2,IF(Tasks!$M$18=4,3,1))) | M20: =IF(OR(Tasks!$M$18=0,Tasks!$E$18>=M$7+7,Tasks!$F$18<M$7),0,IF(M$7+3.5<Tasks!$E$18+(Tasks!$F$18-Tasks!$E$18+1)*N(Tasks!$G$18),2,IF(Tasks!$M$18=4,3,1))) | N20: =IF(OR(Tasks!$M$18=0,Tasks!$E$18>=N$7+7,Tasks!$F$18<N$7),0,IF(N$7+3.5<Tasks!$E$18+(Tasks!$F$18-Tasks!$E$18+1)*N(Tasks!$G$18),2,IF(Tasks!$M$18=4,3,1))) | O20: =IF(OR(Tasks!$M$18=0,Tasks!$E$18>=O$7+7,Tasks!$F$18<O$7),0,IF(O$7+3.5<Tasks!$E$18+(Tasks!$F$18-Tasks!$E$18+1)*N(Tasks!$G$18),2,IF(Tasks!$M$18=4,3,1))) | ... AG20: =IF(OR(Tasks!$M$18=0,Tasks!$E$18>=AG$7+7,Tasks!$F$18<AG$7),0,IF(AG$7+3.5<Tasks!$E$18+(Tasks!$F$18-Tasks!$E$18+1)*N(Tasks!$G$18),2,IF(Tasks!$M$18=4,3,1)))
B21: =IF(Tasks!$C$19="","",Tasks!$A$19) | C21: =IF(Tasks!$C$19="","",Tasks!$C$19) | D21: =IF(Tasks!$C$19="","",Tasks!$D$19&"") | E21: =IF(N(Tasks!$E$19)=0,"",Tasks!$E$19) | F21: =IF(N(Tasks!$F$19)=0,"",Tasks!$F$19) | G21: =IF(Tasks!$C$19="","",N(Tasks!$G$19)) | H21: =IF(OR(Tasks!$M$19=0,Tasks!$E$19>=H$7+7,Tasks!$F$19<H$7),0,IF(H$7+3.5<Tasks!$E$19+(Tasks!$F$19-Tasks!$E$19+1)*N(Tasks!$G$19),2,IF(Tasks!$M$19=4,3,1))) | I21: =IF(OR(Tasks!$M$19=0,Tasks!$E$19>=I$7+7,Tasks!$F$19<I$7),0,IF(I$7+3.5<Tasks!$E$19+(Tasks!$F$19-Tasks!$E$19+1)*N(Tasks!$G$19),2,IF(Tasks!$M$19=4,3,1))) | J21: =IF(OR(Tasks!$M$19=0,Tasks!$E$19>=J$7+7,Tasks!$F$19<J$7),0,IF(J$7+3.5<Tasks!$E$19+(Tasks!$F$19-Tasks!$E$19+1)*N(Tasks!$G$19),2,IF(Tasks!$M$19=4,3,1))) | K21: =IF(OR(Tasks!$M$19=0,Tasks!$E$19>=K$7+7,Tasks!$F$19<K$7),0,IF(K$7+3.5<Tasks!$E$19+(Tasks!$F$19-Tasks!$E$19+1)*N(Tasks!$G$19),2,IF(Tasks!$M$19=4,3,1))) | L21: =IF(OR(Tasks!$M$19=0,Tasks!$E$19>=L$7+7,Tasks!$F$19<L$7),0,IF(L$7+3.5<Tasks!$E$19+(Tasks!$F$19-Tasks!$E$19+1)*N(Tasks!$G$19),2,IF(Tasks!$M$19=4,3,1))) | M21: =IF(OR(Tasks!$M$19=0,Tasks!$E$19>=M$7+7,Tasks!$F$19<M$7),0,IF(M$7+3.5<Tasks!$E$19+(Tasks!$F$19-Tasks!$E$19+1)*N(Tasks!$G$19),2,IF(Tasks!$M$19=4,3,1))) | N21: =IF(OR(Tasks!$M$19=0,Tasks!$E$19>=N$7+7,Tasks!$F$19<N$7),0,IF(N$7+3.5<Tasks!$E$19+(Tasks!$F$19-Tasks!$E$19+1)*N(Tasks!$G$19),2,IF(Tasks!$M$19=4,3,1))) | O21: =IF(OR(Tasks!$M$19=0,Tasks!$E$19>=O$7+7,Tasks!$F$19<O$7),0,IF(O$7+3.5<Tasks!$E$19+(Tasks!$F$19-Tasks!$E$19+1)*N(Tasks!$G$19),2,IF(Tasks!$M$19=4,3,1))) | ... AG21: =IF(OR(Tasks!$M$19=0,Tasks!$E$19>=AG$7+7,Tasks!$F$19<AG$7),0,IF(AG$7+3.5<Tasks!$E$19+(Tasks!$F$19-Tasks!$E$19+1)*N(Tasks!$G$19),2,IF(Tasks!$M$19=4,3,1)))
B22: =IF(Tasks!$C$20="","",Tasks!$A$20) | C22: =IF(Tasks!$C$20="","",Tasks!$C$20) | D22: =IF(Tasks!$C$20="","",Tasks!$D$20&"") | E22: =IF(N(Tasks!$E$20)=0,"",Tasks!$E$20) | F22: =IF(N(Tasks!$F$20)=0,"",Tasks!$F$20) | G22: =IF(Tasks!$C$20="","",N(Tasks!$G$20)) | H22: =IF(OR(Tasks!$M$20=0,Tasks!$E$20>=H$7+7,Tasks!$F$20<H$7),0,IF(H$7+3.5<Tasks!$E$20+(Tasks!$F$20-Tasks!$E$20+1)*N(Tasks!$G$20),2,IF(Tasks!$M$20=4,3,1))) | I22: =IF(OR(Tasks!$M$20=0,Tasks!$E$20>=I$7+7,Tasks!$F$20<I$7),0,IF(I$7+3.5<Tasks!$E$20+(Tasks!$F$20-Tasks!$E$20+1)*N(Tasks!$G$20),2,IF(Tasks!$M$20=4,3,1))) | J22: =IF(OR(Tasks!$M$20=0,Tasks!$E$20>=J$7+7,Tasks!$F$20<J$7),0,IF(J$7+3.5<Tasks!$E$20+(Tasks!$F$20-Tasks!$E$20+1)*N(Tasks!$G$20),2,IF(Tasks!$M$20=4,3,1))) | K22: =IF(OR(Tasks!$M$20=0,Tasks!$E$20>=K$7+7,Tasks!$F$20<K$7),0,IF(K$7+3.5<Tasks!$E$20+(Tasks!$F$20-Tasks!$E$20+1)*N(Tasks!$G$20),2,IF(Tasks!$M$20=4,3,1))) | L22: =IF(OR(Tasks!$M$20=0,Tasks!$E$20>=L$7+7,Tasks!$F$20<L$7),0,IF(L$7+3.5<Tasks!$E$20+(Tasks!$F$20-Tasks!$E$20+1)*N(Tasks!$G$20),2,IF(Tasks!$M$20=4,3,1))) | M22: =IF(OR(Tasks!$M$20=0,Tasks!$E$20>=M$7+7,Tasks!$F$20<M$7),0,IF(M$7+3.5<Tasks!$E$20+(Tasks!$F$20-Tasks!$E$20+1)*N(Tasks!$G$20),2,IF(Tasks!$M$20=4,3,1))) | N22: =IF(OR(Tasks!$M$20=0,Tasks!$E$20>=N$7+7,Tasks!$F$20<N$7),0,IF(N$7+3.5<Tasks!$E$20+(Tasks!$F$20-Tasks!$E$20+1)*N(Tasks!$G$20),2,IF(Tasks!$M$20=4,3,1))) | O22: =IF(OR(Tasks!$M$20=0,Tasks!$E$20>=O$7+7,Tasks!$F$20<O$7),0,IF(O$7+3.5<Tasks!$E$20+(Tasks!$F$20-Tasks!$E$20+1)*N(Tasks!$G$20),2,IF(Tasks!$M$20=4,3,1))) | ... AG22: =IF(OR(Tasks!$M$20=0,Tasks!$E$20>=AG$7+7,Tasks!$F$20<AG$7),0,IF(AG$7+3.5<Tasks!$E$20+(Tasks!$F$20-Tasks!$E$20+1)*N(Tasks!$G$20),2,IF(Tasks!$M$20=4,3,1)))
B23: =IF(Tasks!$C$21="","",Tasks!$A$21) | C23: =IF(Tasks!$C$21="","",Tasks!$C$21) | D23: =IF(Tasks!$C$21="","",Tasks!$D$21&"") | E23: =IF(N(Tasks!$E$21)=0,"",Tasks!$E$21) | F23: =IF(N(Tasks!$F$21)=0,"",Tasks!$F$21) | G23: =IF(Tasks!$C$21="","",N(Tasks!$G$21)) | H23: =IF(OR(Tasks!$M$21=0,Tasks!$E$21>=H$7+7,Tasks!$F$21<H$7),0,IF(H$7+3.5<Tasks!$E$21+(Tasks!$F$21-Tasks!$E$21+1)*N(Tasks!$G$21),2,IF(Tasks!$M$21=4,3,1))) | I23: =IF(OR(Tasks!$M$21=0,Tasks!$E$21>=I$7+7,Tasks!$F$21<I$7),0,IF(I$7+3.5<Tasks!$E$21+(Tasks!$F$21-Tasks!$E$21+1)*N(Tasks!$G$21),2,IF(Tasks!$M$21=4,3,1))) | J23: =IF(OR(Tasks!$M$21=0,Tasks!$E$21>=J$7+7,Tasks!$F$21<J$7),0,IF(J$7+3.5<Tasks!$E$21+(Tasks!$F$21-Tasks!$E$21+1)*N(Tasks!$G$21),2,IF(Tasks!$M$21=4,3,1))) | K23: =IF(OR(Tasks!$M$21=0,Tasks!$E$21>=K$7+7,Tasks!$F$21<K$7),0,IF(K$7+3.5<Tasks!$E$21+(Tasks!$F$21-Tasks!$E$21+1)*N(Tasks!$G$21),2,IF(Tasks!$M$21=4,3,1))) | L23: =IF(OR(Tasks!$M$21=0,Tasks!$E$21>=L$7+7,Tasks!$F$21<L$7),0,IF(L$7+3.5<Tasks!$E$21+(Tasks!$F$21-Tasks!$E$21+1)*N(Tasks!$G$21),2,IF(Tasks!$M$21=4,3,1))) | M23: =IF(OR(Tasks!$M$21=0,Tasks!$E$21>=M$7+7,Tasks!$F$21<M$7),0,IF(M$7+3.5<Tasks!$E$21+(Tasks!$F$21-Tasks!$E$21+1)*N(Tasks!$G$21),2,IF(Tasks!$M$21=4,3,1))) | N23: =IF(OR(Tasks!$M$21=0,Tasks!$E$21>=N$7+7,Tasks!$F$21<N$7),0,IF(N$7+3.5<Tasks!$E$21+(Tasks!$F$21-Tasks!$E$21+1)*N(Tasks!$G$21),2,IF(Tasks!$M$21=4,3,1))) | O23: =IF(OR(Tasks!$M$21=0,Tasks!$E$21>=O$7+7,Tasks!$F$21<O$7),0,IF(O$7+3.5<Tasks!$E$21+(Tasks!$F$21-Tasks!$E$21+1)*N(Tasks!$G$21),2,IF(Tasks!$M$21=4,3,1))) | ... AG23: =IF(OR(Tasks!$M$21=0,Tasks!$E$21>=AG$7+7,Tasks!$F$21<AG$7),0,IF(AG$7+3.5<Tasks!$E$21+(Tasks!$F$21-Tasks!$E$21+1)*N(Tasks!$G$21),2,IF(Tasks!$M$21=4,3,1)))
B24: =IF(Tasks!$C$22="","",Tasks!$A$22) | C24: =IF(Tasks!$C$22="","",Tasks!$C$22) | D24: =IF(Tasks!$C$22="","",Tasks!$D$22&"") | E24: =IF(N(Tasks!$E$22)=0,"",Tasks!$E$22) | F24: =IF(N(Tasks!$F$22)=0,"",Tasks!$F$22) | G24: =IF(Tasks!$C$22="","",N(Tasks!$G$22)) | H24: =IF(OR(Tasks!$M$22=0,Tasks!$E$22>=H$7+7,Tasks!$F$22<H$7),0,IF(H$7+3.5<Tasks!$E$22+(Tasks!$F$22-Tasks!$E$22+1)*N(Tasks!$G$22),2,IF(Tasks!$M$22=4,3,1))) | I24: =IF(OR(Tasks!$M$22=0,Tasks!$E$22>=I$7+7,Tasks!$F$22<I$7),0,IF(I$7+3.5<Tasks!$E$22+(Tasks!$F$22-Tasks!$E$22+1)*N(Tasks!$G$22),2,IF(Tasks!$M$22=4,3,1))) | J24: =IF(OR(Tasks!$M$22=0,Tasks!$E$22>=J$7+7,Tasks!$F$22<J$7),0,IF(J$7+3.5<Tasks!$E$22+(Tasks!$F$22-Tasks!$E$22+1)*N(Tasks!$G$22),2,IF(Tasks!$M$22=4,3,1))) | K24: =IF(OR(Tasks!$M$22=0,Tasks!$E$22>=K$7+7,Tasks!$F$22<K$7),0,IF(K$7+3.5<Tasks!$E$22+(Tasks!$F$22-Tasks!$E$22+1)*N(Tasks!$G$22),2,IF(Tasks!$M$22=4,3,1))) | L24: =IF(OR(Tasks!$M$22=0,Tasks!$E$22>=L$7+7,Tasks!$F$22<L$7),0,IF(L$7+3.5<Tasks!$E$22+(Tasks!$F$22-Tasks!$E$22+1)*N(Tasks!$G$22),2,IF(Tasks!$M$22=4,3,1))) | M24: =IF(OR(Tasks!$M$22=0,Tasks!$E$22>=M$7+7,Tasks!$F$22<M$7),0,IF(M$7+3.5<Tasks!$E$22+(Tasks!$F$22-Tasks!$E$22+1)*N(Tasks!$G$22),2,IF(Tasks!$M$22=4,3,1))) | N24: =IF(OR(Tasks!$M$22=0,Tasks!$E$22>=N$7+7,Tasks!$F$22<N$7),0,IF(N$7+3.5<Tasks!$E$22+(Tasks!$F$22-Tasks!$E$22+1)*N(Tasks!$G$22),2,IF(Tasks!$M$22=4,3,1))) | O24: =IF(OR(Tasks!$M$22=0,Tasks!$E$22>=O$7+7,Tasks!$F$22<O$7),0,IF(O$7+3.5<Tasks!$E$22+(Tasks!$F$22-Tasks!$E$22+1)*N(Tasks!$G$22),2,IF(Tasks!$M$22=4,3,1))) | ... AG24: =IF(OR(Tasks!$M$22=0,Tasks!$E$22>=AG$7+7,Tasks!$F$22<AG$7),0,IF(AG$7+3.5<Tasks!$E$22+(Tasks!$F$22-Tasks!$E$22+1)*N(Tasks!$G$22),2,IF(Tasks!$M$22=4,3,1)))
B25: =IF(Tasks!$C$23="","",Tasks!$A$23) | C25: =IF(Tasks!$C$23="","",Tasks!$C$23) | D25: =IF(Tasks!$C$23="","",Tasks!$D$23&"") | E25: =IF(N(Tasks!$E$23)=0,"",Tasks!$E$23) | F25: =IF(N(Tasks!$F$23)=0,"",Tasks!$F$23) | G25: =IF(Tasks!$C$23="","",N(Tasks!$G$23)) | H25: =IF(OR(Tasks!$M$23=0,Tasks!$E$23>=H$7+7,Tasks!$F$23<H$7),0,IF(H$7+3.5<Tasks!$E$23+(Tasks!$F$23-Tasks!$E$23+1)*N(Tasks!$G$23),2,IF(Tasks!$M$23=4,3,1))) | I25: =IF(OR(Tasks!$M$23=0,Tasks!$E$23>=I$7+7,Tasks!$F$23<I$7),0,IF(I$7+3.5<Tasks!$E$23+(Tasks!$F$23-Tasks!$E$23+1)*N(Tasks!$G$23),2,IF(Tasks!$M$23=4,3,1))) | J25: =IF(OR(Tasks!$M$23=0,Tasks!$E$23>=J$7+7,Tasks!$F$23<J$7),0,IF(J$7+3.5<Tasks!$E$23+(Tasks!$F$23-Tasks!$E$23+1)*N(Tasks!$G$23),2,IF(Tasks!$M$23=4,3,1))) | K25: =IF(OR(Tasks!$M$23=0,Tasks!$E$23>=K$7+7,Tasks!$F$23<K$7),0,IF(K$7+3.5<Tasks!$E$23+(Tasks!$F$23-Tasks!$E$23+1)*N(Tasks!$G$23),2,IF(Tasks!$M$23=4,3,1))) | L25: =IF(OR(Tasks!$M$23=0,Tasks!$E$23>=L$7+7,Tasks!$F$23<L$7),0,IF(L$7+3.5<Tasks!$E$23+(Tasks!$F$23-Tasks!$E$23+1)*N(Tasks!$G$23),2,IF(Tasks!$M$23=4,3,1))) | M25: =IF(OR(Tasks!$M$23=0,Tasks!$E$23>=M$7+7,Tasks!$F$23<M$7),0,IF(M$7+3.5<Tasks!$E$23+(Tasks!$F$23-Tasks!$E$23+1)*N(Tasks!$G$23),2,IF(Tasks!$M$23=4,3,1))) | N25: =IF(OR(Tasks!$M$23=0,Tasks!$E$23>=N$7+7,Tasks!$F$23<N$7),0,IF(N$7+3.5<Tasks!$E$23+(Tasks!$F$23-Tasks!$E$23+1)*N(Tasks!$G$23),2,IF(Tasks!$M$23=4,3,1))) | O25: =IF(OR(Tasks!$M$23=0,Tasks!$E$23>=O$7+7,Tasks!$F$23<O$7),0,IF(O$7+3.5<Tasks!$E$23+(Tasks!$F$23-Tasks!$E$23+1)*N(Tasks!$G$23),2,IF(Tasks!$M$23=4,3,1))) | ... AG25: =IF(OR(Tasks!$M$23=0,Tasks!$E$23>=AG$7+7,Tasks!$F$23<AG$7),0,IF(AG$7+3.5<Tasks!$E$23+(Tasks!$F$23-Tasks!$E$23+1)*N(Tasks!$G$23),2,IF(Tasks!$M$23=4,3,1)))
B26: =IF(Tasks!$C$24="","",Tasks!$A$24) | C26: =IF(Tasks!$C$24="","",Tasks!$C$24) | D26: =IF(Tasks!$C$24="","",Tasks!$D$24&"") | E26: =IF(N(Tasks!$E$24)=0,"",Tasks!$E$24) | F26: =IF(N(Tasks!$F$24)=0,"",Tasks!$F$24) | G26: =IF(Tasks!$C$24="","",N(Tasks!$G$24)) | H26: =IF(OR(Tasks!$M$24=0,Tasks!$E$24>=H$7+7,Tasks!$F$24<H$7),0,IF(H$7+3.5<Tasks!$E$24+(Tasks!$F$24-Tasks!$E$24+1)*N(Tasks!$G$24),2,IF(Tasks!$M$24=4,3,1))) | I26: =IF(OR(Tasks!$M$24=0,Tasks!$E$24>=I$7+7,Tasks!$F$24<I$7),0,IF(I$7+3.5<Tasks!$E$24+(Tasks!$F$24-Tasks!$E$24+1)*N(Tasks!$G$24),2,IF(Tasks!$M$24=4,3,1))) | J26: =IF(OR(Tasks!$M$24=0,Tasks!$E$24>=J$7+7,Tasks!$F$24<J$7),0,IF(J$7+3.5<Tasks!$E$24+(Tasks!$F$24-Tasks!$E$24+1)*N(Tasks!$G$24),2,IF(Tasks!$M$24=4,3,1))) | K26: =IF(OR(Tasks!$M$24=0,Tasks!$E$24>=K$7+7,Tasks!$F$24<K$7),0,IF(K$7+3.5<Tasks!$E$24+(Tasks!$F$24-Tasks!$E$24+1)*N(Tasks!$G$24),2,IF(Tasks!$M$24=4,3,1))) | L26: =IF(OR(Tasks!$M$24=0,Tasks!$E$24>=L$7+7,Tasks!$F$24<L$7),0,IF(L$7+3.5<Tasks!$E$24+(Tasks!$F$24-Tasks!$E$24+1)*N(Tasks!$G$24),2,IF(Tasks!$M$24=4,3,1))) | M26: =IF(OR(Tasks!$M$24=0,Tasks!$E$24>=M$7+7,Tasks!$F$24<M$7),0,IF(M$7+3.5<Tasks!$E$24+(Tasks!$F$24-Tasks!$E$24+1)*N(Tasks!$G$24),2,IF(Tasks!$M$24=4,3,1))) | N26: =IF(OR(Tasks!$M$24=0,Tasks!$E$24>=N$7+7,Tasks!$F$24<N$7),0,IF(N$7+3.5<Tasks!$E$24+(Tasks!$F$24-Tasks!$E$24+1)*N(Tasks!$G$24),2,IF(Tasks!$M$24=4,3,1))) | O26: =IF(OR(Tasks!$M$24=0,Tasks!$E$24>=O$7+7,Tasks!$F$24<O$7),0,IF(O$7+3.5<Tasks!$E$24+(Tasks!$F$24-Tasks!$E$24+1)*N(Tasks!$G$24),2,IF(Tasks!$M$24=4,3,1))) | ... AG26: =IF(OR(Tasks!$M$24=0,Tasks!$E$24>=AG$7+7,Tasks!$F$24<AG$7),0,IF(AG$7+3.5<Tasks!$E$24+(Tasks!$F$24-Tasks!$E$24+1)*N(Tasks!$G$24),2,IF(Tasks!$M$24=4,3,1)))
B27: =IF(Tasks!$C$25="","",Tasks!$A$25) | C27: =IF(Tasks!$C$25="","",Tasks!$C$25) | D27: =IF(Tasks!$C$25="","",Tasks!$D$25&"") | E27: =IF(N(Tasks!$E$25)=0,"",Tasks!$E$25) | F27: =IF(N(Tasks!$F$25)=0,"",Tasks!$F$25) | G27: =IF(Tasks!$C$25="","",N(Tasks!$G$25)) | H27: =IF(OR(Tasks!$M$25=0,Tasks!$E$25>=H$7+7,Tasks!$F$25<H$7),0,IF(H$7+3.5<Tasks!$E$25+(Tasks!$F$25-Tasks!$E$25+1)*N(Tasks!$G$25),2,IF(Tasks!$M$25=4,3,1))) | I27: =IF(OR(Tasks!$M$25=0,Tasks!$E$25>=I$7+7,Tasks!$F$25<I$7),0,IF(I$7+3.5<Tasks!$E$25+(Tasks!$F$25-Tasks!$E$25+1)*N(Tasks!$G$25),2,IF(Tasks!$M$25=4,3,1))) | J27: =IF(OR(Tasks!$M$25=0,Tasks!$E$25>=J$7+7,Tasks!$F$25<J$7),0,IF(J$7+3.5<Tasks!$E$25+(Tasks!$F$25-Tasks!$E$25+1)*N(Tasks!$G$25),2,IF(Tasks!$M$25=4,3,1))) | K27: =IF(OR(Tasks!$M$25=0,Tasks!$E$25>=K$7+7,Tasks!$F$25<K$7),0,IF(K$7+3.5<Tasks!$E$25+(Tasks!$F$25-Tasks!$E$25+1)*N(Tasks!$G$25),2,IF(Tasks!$M$25=4,3,1))) | L27: =IF(OR(Tasks!$M$25=0,Tasks!$E$25>=L$7+7,Tasks!$F$25<L$7),0,IF(L$7+3.5<Tasks!$E$25+(Tasks!$F$25-Tasks!$E$25+1)*N(Tasks!$G$25),2,IF(Tasks!$M$25=4,3,1))) | M27: =IF(OR(Tasks!$M$25=0,Tasks!$E$25>=M$7+7,Tasks!$F$25<M$7),0,IF(M$7+3.5<Tasks!$E$25+(Tasks!$F$25-Tasks!$E$25+1)*N(Tasks!$G$25),2,IF(Tasks!$M$25=4,3,1))) | N27: =IF(OR(Tasks!$M$25=0,Tasks!$E$25>=N$7+7,Tasks!$F$25<N$7),0,IF(N$7+3.5<Tasks!$E$25+(Tasks!$F$25-Tasks!$E$25+1)*N(Tasks!$G$25),2,IF(Tasks!$M$25=4,3,1))) | O27: =IF(OR(Tasks!$M$25=0,Tasks!$E$25>=O$7+7,Tasks!$F$25<O$7),0,IF(O$7+3.5<Tasks!$E$25+(Tasks!$F$25-Tasks!$E$25+1)*N(Tasks!$G$25),2,IF(Tasks!$M$25=4,3,1))) | ... AG27: =IF(OR(Tasks!$M$25=0,Tasks!$E$25>=AG$7+7,Tasks!$F$25<AG$7),0,IF(AG$7+3.5<Tasks!$E$25+(Tasks!$F$25-Tasks!$E$25+1)*N(Tasks!$G$25),2,IF(Tasks!$M$25=4,3,1)))
B28: =IF(Tasks!$C$26="","",Tasks!$A$26) | C28: =IF(Tasks!$C$26="","",Tasks!$C$26) | D28: =IF(Tasks!$C$26="","",Tasks!$D$26&"") | E28: =IF(N(Tasks!$E$26)=0,"",Tasks!$E$26) | F28: =IF(N(Tasks!$F$26)=0,"",Tasks!$F$26) | G28: =IF(Tasks!$C$26="","",N(Tasks!$G$26)) | H28: =IF(OR(Tasks!$M$26=0,Tasks!$E$26>=H$7+7,Tasks!$F$26<H$7),0,IF(H$7+3.5<Tasks!$E$26+(Tasks!$F$26-Tasks!$E$26+1)*N(Tasks!$G$26),2,IF(Tasks!$M$26=4,3,1))) | I28: =IF(OR(Tasks!$M$26=0,Tasks!$E$26>=I$7+7,Tasks!$F$26<I$7),0,IF(I$7+3.5<Tasks!$E$26+(Tasks!$F$26-Tasks!$E$26+1)*N(Tasks!$G$26),2,IF(Tasks!$M$26=4,3,1))) | J28: =IF(OR(Tasks!$M$26=0,Tasks!$E$26>=J$7+7,Tasks!$F$26<J$7),0,IF(J$7+3.5<Tasks!$E$26+(Tasks!$F$26-Tasks!$E$26+1)*N(Tasks!$G$26),2,IF(Tasks!$M$26=4,3,1))) | K28: =IF(OR(Tasks!$M$26=0,Tasks!$E$26>=K$7+7,Tasks!$F$26<K$7),0,IF(K$7+3.5<Tasks!$E$26+(Tasks!$F$26-Tasks!$E$26+1)*N(Tasks!$G$26),2,IF(Tasks!$M$26=4,3,1))) | L28: =IF(OR(Tasks!$M$26=0,Tasks!$E$26>=L$7+7,Tasks!$F$26<L$7),0,IF(L$7+3.5<Tasks!$E$26+(Tasks!$F$26-Tasks!$E$26+1)*N(Tasks!$G$26),2,IF(Tasks!$M$26=4,3,1))) | M28: =IF(OR(Tasks!$M$26=0,Tasks!$E$26>=M$7+7,Tasks!$F$26<M$7),0,IF(M$7+3.5<Tasks!$E$26+(Tasks!$F$26-Tasks!$E$26+1)*N(Tasks!$G$26),2,IF(Tasks!$M$26=4,3,1))) | N28: =IF(OR(Tasks!$M$26=0,Tasks!$E$26>=N$7+7,Tasks!$F$26<N$7),0,IF(N$7+3.5<Tasks!$E$26+(Tasks!$F$26-Tasks!$E$26+1)*N(Tasks!$G$26),2,IF(Tasks!$M$26=4,3,1))) | O28: =IF(OR(Tasks!$M$26=0,Tasks!$E$26>=O$7+7,Tasks!$F$26<O$7),0,IF(O$7+3.5<Tasks!$E$26+(Tasks!$F$26-Tasks!$E$26+1)*N(Tasks!$G$26),2,IF(Tasks!$M$26=4,3,1))) | ... AG28: =IF(OR(Tasks!$M$26=0,Tasks!$E$26>=AG$7+7,Tasks!$F$26<AG$7),0,IF(AG$7+3.5<Tasks!$E$26+(Tasks!$F$26-Tasks!$E$26+1)*N(Tasks!$G$26),2,IF(Tasks!$M$26=4,3,1)))
B29: =IF(Tasks!$C$27="","",Tasks!$A$27) | C29: =IF(Tasks!$C$27="","",Tasks!$C$27) | D29: =IF(Tasks!$C$27="","",Tasks!$D$27&"") | E29: =IF(N(Tasks!$E$27)=0,"",Tasks!$E$27) | F29: =IF(N(Tasks!$F$27)=0,"",Tasks!$F$27) | G29: =IF(Tasks!$C$27="","",N(Tasks!$G$27)) | H29: =IF(OR(Tasks!$M$27=0,Tasks!$E$27>=H$7+7,Tasks!$F$27<H$7),0,IF(H$7+3.5<Tasks!$E$27+(Tasks!$F$27-Tasks!$E$27+1)*N(Tasks!$G$27),2,IF(Tasks!$M$27=4,3,1))) | I29: =IF(OR(Tasks!$M$27=0,Tasks!$E$27>=I$7+7,Tasks!$F$27<I$7),0,IF(I$7+3.5<Tasks!$E$27+(Tasks!$F$27-Tasks!$E$27+1)*N(Tasks!$G$27),2,IF(Tasks!$M$27=4,3,1))) | J29: =IF(OR(Tasks!$M$27=0,Tasks!$E$27>=J$7+7,Tasks!$F$27<J$7),0,IF(J$7+3.5<Tasks!$E$27+(Tasks!$F$27-Tasks!$E$27+1)*N(Tasks!$G$27),2,IF(Tasks!$M$27=4,3,1))) | K29: =IF(OR(Tasks!$M$27=0,Tasks!$E$27>=K$7+7,Tasks!$F$27<K$7),0,IF(K$7+3.5<Tasks!$E$27+(Tasks!$F$27-Tasks!$E$27+1)*N(Tasks!$G$27),2,IF(Tasks!$M$27=4,3,1))) | L29: =IF(OR(Tasks!$M$27=0,Tasks!$E$27>=L$7+7,Tasks!$F$27<L$7),0,IF(L$7+3.5<Tasks!$E$27+(Tasks!$F$27-Tasks!$E$27+1)*N(Tasks!$G$27),2,IF(Tasks!$M$27=4,3,1))) | M29: =IF(OR(Tasks!$M$27=0,Tasks!$E$27>=M$7+7,Tasks!$F$27<M$7),0,IF(M$7+3.5<Tasks!$E$27+(Tasks!$F$27-Tasks!$E$27+1)*N(Tasks!$G$27),2,IF(Tasks!$M$27=4,3,1))) | N29: =IF(OR(Tasks!$M$27=0,Tasks!$E$27>=N$7+7,Tasks!$F$27<N$7),0,IF(N$7+3.5<Tasks!$E$27+(Tasks!$F$27-Tasks!$E$27+1)*N(Tasks!$G$27),2,IF(Tasks!$M$27=4,3,1))) | O29: =IF(OR(Tasks!$M$27=0,Tasks!$E$27>=O$7+7,Tasks!$F$27<O$7),0,IF(O$7+3.5<Tasks!$E$27+(Tasks!$F$27-Tasks!$E$27+1)*N(Tasks!$G$27),2,IF(Tasks!$M$27=4,3,1))) | ... AG29: =IF(OR(Tasks!$M$27=0,Tasks!$E$27>=AG$7+7,Tasks!$F$27<AG$7),0,IF(AG$7+3.5<Tasks!$E$27+(Tasks!$F$27-Tasks!$E$27+1)*N(Tasks!$G$27),2,IF(Tasks!$M$27=4,3,1)))
B30: =IF(Tasks!$C$28="","",Tasks!$A$28) | C30: =IF(Tasks!$C$28="","",Tasks!$C$28) | D30: =IF(Tasks!$C$28="","",Tasks!$D$28&"") | E30: =IF(N(Tasks!$E$28)=0,"",Tasks!$E$28) | F30: =IF(N(Tasks!$F$28)=0,"",Tasks!$F$28) | G30: =IF(Tasks!$C$28="","",N(Tasks!$G$28)) | H30: =IF(OR(Tasks!$M$28=0,Tasks!$E$28>=H$7+7,Tasks!$F$28<H$7),0,IF(H$7+3.5<Tasks!$E$28+(Tasks!$F$28-Tasks!$E$28+1)*N(Tasks!$G$28),2,IF(Tasks!$M$28=4,3,1))) | I30: =IF(OR(Tasks!$M$28=0,Tasks!$E$28>=I$7+7,Tasks!$F$28<I$7),0,IF(I$7+3.5<Tasks!$E$28+(Tasks!$F$28-Tasks!$E$28+1)*N(Tasks!$G$28),2,IF(Tasks!$M$28=4,3,1))) | J30: =IF(OR(Tasks!$M$28=0,Tasks!$E$28>=J$7+7,Tasks!$F$28<J$7),0,IF(J$7+3.5<Tasks!$E$28+(Tasks!$F$28-Tasks!$E$28+1)*N(Tasks!$G$28),2,IF(Tasks!$M$28=4,3,1))) | K30: =IF(OR(Tasks!$M$28=0,Tasks!$E$28>=K$7+7,Tasks!$F$28<K$7),0,IF(K$7+3.5<Tasks!$E$28+(Tasks!$F$28-Tasks!$E$28+1)*N(Tasks!$G$28),2,IF(Tasks!$M$28=4,3,1))) | L30: =IF(OR(Tasks!$M$28=0,Tasks!$E$28>=L$7+7,Tasks!$F$28<L$7),0,IF(L$7+3.5<Tasks!$E$28+(Tasks!$F$28-Tasks!$E$28+1)*N(Tasks!$G$28),2,IF(Tasks!$M$28=4,3,1))) | M30: =IF(OR(Tasks!$M$28=0,Tasks!$E$28>=M$7+7,Tasks!$F$28<M$7),0,IF(M$7+3.5<Tasks!$E$28+(Tasks!$F$28-Tasks!$E$28+1)*N(Tasks!$G$28),2,IF(Tasks!$M$28=4,3,1))) | N30: =IF(OR(Tasks!$M$28=0,Tasks!$E$28>=N$7+7,Tasks!$F$28<N$7),0,IF(N$7+3.5<Tasks!$E$28+(Tasks!$F$28-Tasks!$E$28+1)*N(Tasks!$G$28),2,IF(Tasks!$M$28=4,3,1))) | O30: =IF(OR(Tasks!$M$28=0,Tasks!$E$28>=O$7+7,Tasks!$F$28<O$7),0,IF(O$7+3.5<Tasks!$E$28+(Tasks!$F$28-Tasks!$E$28+1)*N(Tasks!$G$28),2,IF(Tasks!$M$28=4,3,1))) | ... AG30: =IF(OR(Tasks!$M$28=0,Tasks!$E$28>=AG$7+7,Tasks!$F$28<AG$7),0,IF(AG$7+3.5<Tasks!$E$28+(Tasks!$F$28-Tasks!$E$28+1)*N(Tasks!$G$28),2,IF(Tasks!$M$28=4,3,1)))
B31: =IF(Tasks!$C$29="","",Tasks!$A$29) | C31: =IF(Tasks!$C$29="","",Tasks!$C$29) | D31: =IF(Tasks!$C$29="","",Tasks!$D$29&"") | E31: =IF(N(Tasks!$E$29)=0,"",Tasks!$E$29) | F31: =IF(N(Tasks!$F$29)=0,"",Tasks!$F$29) | G31: =IF(Tasks!$C$29="","",N(Tasks!$G$29)) | H31: =IF(OR(Tasks!$M$29=0,Tasks!$E$29>=H$7+7,Tasks!$F$29<H$7),0,IF(H$7+3.5<Tasks!$E$29+(Tasks!$F$29-Tasks!$E$29+1)*N(Tasks!$G$29),2,IF(Tasks!$M$29=4,3,1))) | I31: =IF(OR(Tasks!$M$29=0,Tasks!$E$29>=I$7+7,Tasks!$F$29<I$7),0,IF(I$7+3.5<Tasks!$E$29+(Tasks!$F$29-Tasks!$E$29+1)*N(Tasks!$G$29),2,IF(Tasks!$M$29=4,3,1))) | J31: =IF(OR(Tasks!$M$29=0,Tasks!$E$29>=J$7+7,Tasks!$F$29<J$7),0,IF(J$7+3.5<Tasks!$E$29+(Tasks!$F$29-Tasks!$E$29+1)*N(Tasks!$G$29),2,IF(Tasks!$M$29=4,3,1))) | K31: =IF(OR(Tasks!$M$29=0,Tasks!$E$29>=K$7+7,Tasks!$F$29<K$7),0,IF(K$7+3.5<Tasks!$E$29+(Tasks!$F$29-Tasks!$E$29+1)*N(Tasks!$G$29),2,IF(Tasks!$M$29=4,3,1))) | L31: =IF(OR(Tasks!$M$29=0,Tasks!$E$29>=L$7+7,Tasks!$F$29<L$7),0,IF(L$7+3.5<Tasks!$E$29+(Tasks!$F$29-Tasks!$E$29+1)*N(Tasks!$G$29),2,IF(Tasks!$M$29=4,3,1))) | M31: =IF(OR(Tasks!$M$29=0,Tasks!$E$29>=M$7+7,Tasks!$F$29<M$7),0,IF(M$7+3.5<Tasks!$E$29+(Tasks!$F$29-Tasks!$E$29+1)*N(Tasks!$G$29),2,IF(Tasks!$M$29=4,3,1))) | N31: =IF(OR(Tasks!$M$29=0,Tasks!$E$29>=N$7+7,Tasks!$F$29<N$7),0,IF(N$7+3.5<Tasks!$E$29+(Tasks!$F$29-Tasks!$E$29+1)*N(Tasks!$G$29),2,IF(Tasks!$M$29=4,3,1))) | O31: =IF(OR(Tasks!$M$29=0,Tasks!$E$29>=O$7+7,Tasks!$F$29<O$7),0,IF(O$7+3.5<Tasks!$E$29+(Tasks!$F$29-Tasks!$E$29+1)*N(Tasks!$G$29),2,IF(Tasks!$M$29=4,3,1))) | ... AG31: =IF(OR(Tasks!$M$29=0,Tasks!$E$29>=AG$7+7,Tasks!$F$29<AG$7),0,IF(AG$7+3.5<Tasks!$E$29+(Tasks!$F$29-Tasks!$E$29+1)*N(Tasks!$G$29),2,IF(Tasks!$M$29=4,3,1)))
B32: =IF(Tasks!$C$30="","",Tasks!$A$30) | C32: =IF(Tasks!$C$30="","",Tasks!$C$30) | D32: =IF(Tasks!$C$30="","",Tasks!$D$30&"") | E32: =IF(N(Tasks!$E$30)=0,"",Tasks!$E$30) | F32: =IF(N(Tasks!$F$30)=0,"",Tasks!$F$30) | G32: =IF(Tasks!$C$30="","",N(Tasks!$G$30)) | H32: =IF(OR(Tasks!$M$30=0,Tasks!$E$30>=H$7+7,Tasks!$F$30<H$7),0,IF(H$7+3.5<Tasks!$E$30+(Tasks!$F$30-Tasks!$E$30+1)*N(Tasks!$G$30),2,IF(Tasks!$M$30=4,3,1))) | I32: =IF(OR(Tasks!$M$30=0,Tasks!$E$30>=I$7+7,Tasks!$F$30<I$7),0,IF(I$7+3.5<Tasks!$E$30+(Tasks!$F$30-Tasks!$E$30+1)*N(Tasks!$G$30),2,IF(Tasks!$M$30=4,3,1))) | J32: =IF(OR(Tasks!$M$30=0,Tasks!$E$30>=J$7+7,Tasks!$F$30<J$7),0,IF(J$7+3.5<Tasks!$E$30+(Tasks!$F$30-Tasks!$E$30+1)*N(Tasks!$G$30),2,IF(Tasks!$M$30=4,3,1))) | K32: =IF(OR(Tasks!$M$30=0,Tasks!$E$30>=K$7+7,Tasks!$F$30<K$7),0,IF(K$7+3.5<Tasks!$E$30+(Tasks!$F$30-Tasks!$E$30+1)*N(Tasks!$G$30),2,IF(Tasks!$M$30=4,3,1))) | L32: =IF(OR(Tasks!$M$30=0,Tasks!$E$30>=L$7+7,Tasks!$F$30<L$7),0,IF(L$7+3.5<Tasks!$E$30+(Tasks!$F$30-Tasks!$E$30+1)*N(Tasks!$G$30),2,IF(Tasks!$M$30=4,3,1))) | M32: =IF(OR(Tasks!$M$30=0,Tasks!$E$30>=M$7+7,Tasks!$F$30<M$7),0,IF(M$7+3.5<Tasks!$E$30+(Tasks!$F$30-Tasks!$E$30+1)*N(Tasks!$G$30),2,IF(Tasks!$M$30=4,3,1))) | N32: =IF(OR(Tasks!$M$30=0,Tasks!$E$30>=N$7+7,Tasks!$F$30<N$7),0,IF(N$7+3.5<Tasks!$E$30+(Tasks!$F$30-Tasks!$E$30+1)*N(Tasks!$G$30),2,IF(Tasks!$M$30=4,3,1))) | O32: =IF(OR(Tasks!$M$30=0,Tasks!$E$30>=O$7+7,Tasks!$F$30<O$7),0,IF(O$7+3.5<Tasks!$E$30+(Tasks!$F$30-Tasks!$E$30+1)*N(Tasks!$G$30),2,IF(Tasks!$M$30=4,3,1))) | ... AG32: =IF(OR(Tasks!$M$30=0,Tasks!$E$30>=AG$7+7,Tasks!$F$30<AG$7),0,IF(AG$7+3.5<Tasks!$E$30+(Tasks!$F$30-Tasks!$E$30+1)*N(Tasks!$G$30),2,IF(Tasks!$M$30=4,3,1)))
B33: =IF(Tasks!$C$31="","",Tasks!$A$31) | C33: =IF(Tasks!$C$31="","",Tasks!$C$31) | D33: =IF(Tasks!$C$31="","",Tasks!$D$31&"") | E33: =IF(N(Tasks!$E$31)=0,"",Tasks!$E$31) | F33: =IF(N(Tasks!$F$31)=0,"",Tasks!$F$31) | G33: =IF(Tasks!$C$31="","",N(Tasks!$G$31)) | H33: =IF(OR(Tasks!$M$31=0,Tasks!$E$31>=H$7+7,Tasks!$F$31<H$7),0,IF(H$7+3.5<Tasks!$E$31+(Tasks!$F$31-Tasks!$E$31+1)*N(Tasks!$G$31),2,IF(Tasks!$M$31=4,3,1))) | I33: =IF(OR(Tasks!$M$31=0,Tasks!$E$31>=I$7+7,Tasks!$F$31<I$7),0,IF(I$7+3.5<Tasks!$E$31+(Tasks!$F$31-Tasks!$E$31+1)*N(Tasks!$G$31),2,IF(Tasks!$M$31=4,3,1))) | J33: =IF(OR(Tasks!$M$31=0,Tasks!$E$31>=J$7+7,Tasks!$F$31<J$7),0,IF(J$7+3.5<Tasks!$E$31+(Tasks!$F$31-Tasks!$E$31+1)*N(Tasks!$G$31),2,IF(Tasks!$M$31=4,3,1))) | K33: =IF(OR(Tasks!$M$31=0,Tasks!$E$31>=K$7+7,Tasks!$F$31<K$7),0,IF(K$7+3.5<Tasks!$E$31+(Tasks!$F$31-Tasks!$E$31+1)*N(Tasks!$G$31),2,IF(Tasks!$M$31=4,3,1))) | L33: =IF(OR(Tasks!$M$31=0,Tasks!$E$31>=L$7+7,Tasks!$F$31<L$7),0,IF(L$7+3.5<Tasks!$E$31+(Tasks!$F$31-Tasks!$E$31+1)*N(Tasks!$G$31),2,IF(Tasks!$M$31=4,3,1))) | M33: =IF(OR(Tasks!$M$31=0,Tasks!$E$31>=M$7+7,Tasks!$F$31<M$7),0,IF(M$7+3.5<Tasks!$E$31+(Tasks!$F$31-Tasks!$E$31+1)*N(Tasks!$G$31),2,IF(Tasks!$M$31=4,3,1))) | N33: =IF(OR(Tasks!$M$31=0,Tasks!$E$31>=N$7+7,Tasks!$F$31<N$7),0,IF(N$7+3.5<Tasks!$E$31+(Tasks!$F$31-Tasks!$E$31+1)*N(Tasks!$G$31),2,IF(Tasks!$M$31=4,3,1))) | O33: =IF(OR(Tasks!$M$31=0,Tasks!$E$31>=O$7+7,Tasks!$F$31<O$7),0,IF(O$7+3.5<Tasks!$E$31+(Tasks!$F$31-Tasks!$E$31+1)*N(Tasks!$G$31),2,IF(Tasks!$M$31=4,3,1))) | ... AG33: =IF(OR(Tasks!$M$31=0,Tasks!$E$31>=AG$7+7,Tasks!$F$31<AG$7),0,IF(AG$7+3.5<Tasks!$E$31+(Tasks!$F$31-Tasks!$E$31+1)*N(Tasks!$G$31),2,IF(Tasks!$M$31=4,3,1)))
B34: =IF(Tasks!$C$32="","",Tasks!$A$32) | C34: =IF(Tasks!$C$32="","",Tasks!$C$32) | D34: =IF(Tasks!$C$32="","",Tasks!$D$32&"") | E34: =IF(N(Tasks!$E$32)=0,"",Tasks!$E$32) | F34: =IF(N(Tasks!$F$32)=0,"",Tasks!$F$32) | G34: =IF(Tasks!$C$32="","",N(Tasks!$G$32)) | H34: =IF(OR(Tasks!$M$32=0,Tasks!$E$32>=H$7+7,Tasks!$F$32<H$7),0,IF(H$7+3.5<Tasks!$E$32+(Tasks!$F$32-Tasks!$E$32+1)*N(Tasks!$G$32),2,IF(Tasks!$M$32=4,3,1))) | I34: =IF(OR(Tasks!$M$32=0,Tasks!$E$32>=I$7+7,Tasks!$F$32<I$7),0,IF(I$7+3.5<Tasks!$E$32+(Tasks!$F$32-Tasks!$E$32+1)*N(Tasks!$G$32),2,IF(Tasks!$M$32=4,3,1))) | J34: =IF(OR(Tasks!$M$32=0,Tasks!$E$32>=J$7+7,Tasks!$F$32<J$7),0,IF(J$7+3.5<Tasks!$E$32+(Tasks!$F$32-Tasks!$E$32+1)*N(Tasks!$G$32),2,IF(Tasks!$M$32=4,3,1))) | K34: =IF(OR(Tasks!$M$32=0,Tasks!$E$32>=K$7+7,Tasks!$F$32<K$7),0,IF(K$7+3.5<Tasks!$E$32+(Tasks!$F$32-Tasks!$E$32+1)*N(Tasks!$G$32),2,IF(Tasks!$M$32=4,3,1))) | L34: =IF(OR(Tasks!$M$32=0,Tasks!$E$32>=L$7+7,Tasks!$F$32<L$7),0,IF(L$7+3.5<Tasks!$E$32+(Tasks!$F$32-Tasks!$E$32+1)*N(Tasks!$G$32),2,IF(Tasks!$M$32=4,3,1))) | M34: =IF(OR(Tasks!$M$32=0,Tasks!$E$32>=M$7+7,Tasks!$F$32<M$7),0,IF(M$7+3.5<Tasks!$E$32+(Tasks!$F$32-Tasks!$E$32+1)*N(Tasks!$G$32),2,IF(Tasks!$M$32=4,3,1))) | N34: =IF(OR(Tasks!$M$32=0,Tasks!$E$32>=N$7+7,Tasks!$F$32<N$7),0,IF(N$7+3.5<Tasks!$E$32+(Tasks!$F$32-Tasks!$E$32+1)*N(Tasks!$G$32),2,IF(Tasks!$M$32=4,3,1))) | O34: =IF(OR(Tasks!$M$32=0,Tasks!$E$32>=O$7+7,Tasks!$F$32<O$7),0,IF(O$7+3.5<Tasks!$E$32+(Tasks!$F$32-Tasks!$E$32+1)*N(Tasks!$G$32),2,IF(Tasks!$M$32=4,3,1))) | ... AG34: =IF(OR(Tasks!$M$32=0,Tasks!$E$32>=AG$7+7,Tasks!$F$32<AG$7),0,IF(AG$7+3.5<Tasks!$E$32+(Tasks!$F$32-Tasks!$E$32+1)*N(Tasks!$G$32),2,IF(Tasks!$M$32=4,3,1)))
B35: =IF(Tasks!$C$33="","",Tasks!$A$33) | C35: =IF(Tasks!$C$33="","",Tasks!$C$33) | D35: =IF(Tasks!$C$33="","",Tasks!$D$33&"") | E35: =IF(N(Tasks!$E$33)=0,"",Tasks!$E$33) | F35: =IF(N(Tasks!$F$33)=0,"",Tasks!$F$33) | G35: =IF(Tasks!$C$33="","",N(Tasks!$G$33)) | H35: =IF(OR(Tasks!$M$33=0,Tasks!$E$33>=H$7+7,Tasks!$F$33<H$7),0,IF(H$7+3.5<Tasks!$E$33+(Tasks!$F$33-Tasks!$E$33+1)*N(Tasks!$G$33),2,IF(Tasks!$M$33=4,3,1))) | I35: =IF(OR(Tasks!$M$33=0,Tasks!$E$33>=I$7+7,Tasks!$F$33<I$7),0,IF(I$7+3.5<Tasks!$E$33+(Tasks!$F$33-Tasks!$E$33+1)*N(Tasks!$G$33),2,IF(Tasks!$M$33=4,3,1))) | J35: =IF(OR(Tasks!$M$33=0,Tasks!$E$33>=J$7+7,Tasks!$F$33<J$7),0,IF(J$7+3.5<Tasks!$E$33+(Tasks!$F$33-Tasks!$E$33+1)*N(Tasks!$G$33),2,IF(Tasks!$M$33=4,3,1))) | K35: =IF(OR(Tasks!$M$33=0,Tasks!$E$33>=K$7+7,Tasks!$F$33<K$7),0,IF(K$7+3.5<Tasks!$E$33+(Tasks!$F$33-Tasks!$E$33+1)*N(Tasks!$G$33),2,IF(Tasks!$M$33=4,3,1))) | L35: =IF(OR(Tasks!$M$33=0,Tasks!$E$33>=L$7+7,Tasks!$F$33<L$7),0,IF(L$7+3.5<Tasks!$E$33+(Tasks!$F$33-Tasks!$E$33+1)*N(Tasks!$G$33),2,IF(Tasks!$M$33=4,3,1))) | M35: =IF(OR(Tasks!$M$33=0,Tasks!$E$33>=M$7+7,Tasks!$F$33<M$7),0,IF(M$7+3.5<Tasks!$E$33+(Tasks!$F$33-Tasks!$E$33+1)*N(Tasks!$G$33),2,IF(Tasks!$M$33=4,3,1))) | N35: =IF(OR(Tasks!$M$33=0,Tasks!$E$33>=N$7+7,Tasks!$F$33<N$7),0,IF(N$7+3.5<Tasks!$E$33+(Tasks!$F$33-Tasks!$E$33+1)*N(Tasks!$G$33),2,IF(Tasks!$M$33=4,3,1))) | O35: =IF(OR(Tasks!$M$33=0,Tasks!$E$33>=O$7+7,Tasks!$F$33<O$7),0,IF(O$7+3.5<Tasks!$E$33+(Tasks!$F$33-Tasks!$E$33+1)*N(Tasks!$G$33),2,IF(Tasks!$M$33=4,3,1))) | ... AG35: =IF(OR(Tasks!$M$33=0,Tasks!$E$33>=AG$7+7,Tasks!$F$33<AG$7),0,IF(AG$7+3.5<Tasks!$E$33+(Tasks!$F$33-Tasks!$E$33+1)*N(Tasks!$G$33),2,IF(Tasks!$M$33=4,3,1)))
B36: =IF(Tasks!$C$34="","",Tasks!$A$34) | C36: =IF(Tasks!$C$34="","",Tasks!$C$34) | D36: =IF(Tasks!$C$34="","",Tasks!$D$34&"") | E36: =IF(N(Tasks!$E$34)=0,"",Tasks!$E$34) | F36: =IF(N(Tasks!$F$34)=0,"",Tasks!$F$34) | G36: =IF(Tasks!$C$34="","",N(Tasks!$G$34)) | H36: =IF(OR(Tasks!$M$34=0,Tasks!$E$34>=H$7+7,Tasks!$F$34<H$7),0,IF(H$7+3.5<Tasks!$E$34+(Tasks!$F$34-Tasks!$E$34+1)*N(Tasks!$G$34),2,IF(Tasks!$M$34=4,3,1))) | I36: =IF(OR(Tasks!$M$34=0,Tasks!$E$34>=I$7+7,Tasks!$F$34<I$7),0,IF(I$7+3.5<Tasks!$E$34+(Tasks!$F$34-Tasks!$E$34+1)*N(Tasks!$G$34),2,IF(Tasks!$M$34=4,3,1))) | J36: =IF(OR(Tasks!$M$34=0,Tasks!$E$34>=J$7+7,Tasks!$F$34<J$7),0,IF(J$7+3.5<Tasks!$E$34+(Tasks!$F$34-Tasks!$E$34+1)*N(Tasks!$G$34),2,IF(Tasks!$M$34=4,3,1))) | K36: =IF(OR(Tasks!$M$34=0,Tasks!$E$34>=K$7+7,Tasks!$F$34<K$7),0,IF(K$7+3.5<Tasks!$E$34+(Tasks!$F$34-Tasks!$E$34+1)*N(Tasks!$G$34),2,IF(Tasks!$M$34=4,3,1))) | L36: =IF(OR(Tasks!$M$34=0,Tasks!$E$34>=L$7+7,Tasks!$F$34<L$7),0,IF(L$7+3.5<Tasks!$E$34+(Tasks!$F$34-Tasks!$E$34+1)*N(Tasks!$G$34),2,IF(Tasks!$M$34=4,3,1))) | M36: =IF(OR(Tasks!$M$34=0,Tasks!$E$34>=M$7+7,Tasks!$F$34<M$7),0,IF(M$7+3.5<Tasks!$E$34+(Tasks!$F$34-Tasks!$E$34+1)*N(Tasks!$G$34),2,IF(Tasks!$M$34=4,3,1))) | N36: =IF(OR(Tasks!$M$34=0,Tasks!$E$34>=N$7+7,Tasks!$F$34<N$7),0,IF(N$7+3.5<Tasks!$E$34+(Tasks!$F$34-Tasks!$E$34+1)*N(Tasks!$G$34),2,IF(Tasks!$M$34=4,3,1))) | O36: =IF(OR(Tasks!$M$34=0,Tasks!$E$34>=O$7+7,Tasks!$F$34<O$7),0,IF(O$7+3.5<Tasks!$E$34+(Tasks!$F$34-Tasks!$E$34+1)*N(Tasks!$G$34),2,IF(Tasks!$M$34=4,3,1))) | ... AG36: =IF(OR(Tasks!$M$34=0,Tasks!$E$34>=AG$7+7,Tasks!$F$34<AG$7),0,IF(AG$7+3.5<Tasks!$E$34+(Tasks!$F$34-Tasks!$E$34+1)*N(Tasks!$G$34),2,IF(Tasks!$M$34=4,3,1)))
B37: =IF(Tasks!$C$35="","",Tasks!$A$35) | C37: =IF(Tasks!$C$35="","",Tasks!$C$35) | D37: =IF(Tasks!$C$35="","",Tasks!$D$35&"") | E37: =IF(N(Tasks!$E$35)=0,"",Tasks!$E$35) | F37: =IF(N(Tasks!$F$35)=0,"",Tasks!$F$35) | G37: =IF(Tasks!$C$35="","",N(Tasks!$G$35)) | H37: =IF(OR(Tasks!$M$35=0,Tasks!$E$35>=H$7+7,Tasks!$F$35<H$7),0,IF(H$7+3.5<Tasks!$E$35+(Tasks!$F$35-Tasks!$E$35+1)*N(Tasks!$G$35),2,IF(Tasks!$M$35=4,3,1))) | I37: =IF(OR(Tasks!$M$35=0,Tasks!$E$35>=I$7+7,Tasks!$F$35<I$7),0,IF(I$7+3.5<Tasks!$E$35+(Tasks!$F$35-Tasks!$E$35+1)*N(Tasks!$G$35),2,IF(Tasks!$M$35=4,3,1))) | J37: =IF(OR(Tasks!$M$35=0,Tasks!$E$35>=J$7+7,Tasks!$F$35<J$7),0,IF(J$7+3.5<Tasks!$E$35+(Tasks!$F$35-Tasks!$E$35+1)*N(Tasks!$G$35),2,IF(Tasks!$M$35=4,3,1))) | K37: =IF(OR(Tasks!$M$35=0,Tasks!$E$35>=K$7+7,Tasks!$F$35<K$7),0,IF(K$7+3.5<Tasks!$E$35+(Tasks!$F$35-Tasks!$E$35+1)*N(Tasks!$G$35),2,IF(Tasks!$M$35=4,3,1))) | L37: =IF(OR(Tasks!$M$35=0,Tasks!$E$35>=L$7+7,Tasks!$F$35<L$7),0,IF(L$7+3.5<Tasks!$E$35+(Tasks!$F$35-Tasks!$E$35+1)*N(Tasks!$G$35),2,IF(Tasks!$M$35=4,3,1))) | M37: =IF(OR(Tasks!$M$35=0,Tasks!$E$35>=M$7+7,Tasks!$F$35<M$7),0,IF(M$7+3.5<Tasks!$E$35+(Tasks!$F$35-Tasks!$E$35+1)*N(Tasks!$G$35),2,IF(Tasks!$M$35=4,3,1))) | N37: =IF(OR(Tasks!$M$35=0,Tasks!$E$35>=N$7+7,Tasks!$F$35<N$7),0,IF(N$7+3.5<Tasks!$E$35+(Tasks!$F$35-Tasks!$E$35+1)*N(Tasks!$G$35),2,IF(Tasks!$M$35=4,3,1))) | O37: =IF(OR(Tasks!$M$35=0,Tasks!$E$35>=O$7+7,Tasks!$F$35<O$7),0,IF(O$7+3.5<Tasks!$E$35+(Tasks!$F$35-Tasks!$E$35+1)*N(Tasks!$G$35),2,IF(Tasks!$M$35=4,3,1))) | ... AG37: =IF(OR(Tasks!$M$35=0,Tasks!$E$35>=AG$7+7,Tasks!$F$35<AG$7),0,IF(AG$7+3.5<Tasks!$E$35+(Tasks!$F$35-Tasks!$E$35+1)*N(Tasks!$G$35),2,IF(Tasks!$M$35=4,3,1)))
B38: =IF(Tasks!$C$36="","",Tasks!$A$36) | C38: =IF(Tasks!$C$36="","",Tasks!$C$36) | D38: =IF(Tasks!$C$36="","",Tasks!$D$36&"") | E38: =IF(N(Tasks!$E$36)=0,"",Tasks!$E$36) | F38: =IF(N(Tasks!$F$36)=0,"",Tasks!$F$36) | G38: =IF(Tasks!$C$36="","",N(Tasks!$G$36)) | H38: =IF(OR(Tasks!$M$36=0,Tasks!$E$36>=H$7+7,Tasks!$F$36<H$7),0,IF(H$7+3.5<Tasks!$E$36+(Tasks!$F$36-Tasks!$E$36+1)*N(Tasks!$G$36),2,IF(Tasks!$M$36=4,3,1))) | I38: =IF(OR(Tasks!$M$36=0,Tasks!$E$36>=I$7+7,Tasks!$F$36<I$7),0,IF(I$7+3.5<Tasks!$E$36+(Tasks!$F$36-Tasks!$E$36+1)*N(Tasks!$G$36),2,IF(Tasks!$M$36=4,3,1))) | J38: =IF(OR(Tasks!$M$36=0,Tasks!$E$36>=J$7+7,Tasks!$F$36<J$7),0,IF(J$7+3.5<Tasks!$E$36+(Tasks!$F$36-Tasks!$E$36+1)*N(Tasks!$G$36),2,IF(Tasks!$M$36=4,3,1))) | K38: =IF(OR(Tasks!$M$36=0,Tasks!$E$36>=K$7+7,Tasks!$F$36<K$7),0,IF(K$7+3.5<Tasks!$E$36+(Tasks!$F$36-Tasks!$E$36+1)*N(Tasks!$G$36),2,IF(Tasks!$M$36=4,3,1))) | L38: =IF(OR(Tasks!$M$36=0,Tasks!$E$36>=L$7+7,Tasks!$F$36<L$7),0,IF(L$7+3.5<Tasks!$E$36+(Tasks!$F$36-Tasks!$E$36+1)*N(Tasks!$G$36),2,IF(Tasks!$M$36=4,3,1))) | M38: =IF(OR(Tasks!$M$36=0,Tasks!$E$36>=M$7+7,Tasks!$F$36<M$7),0,IF(M$7+3.5<Tasks!$E$36+(Tasks!$F$36-Tasks!$E$36+1)*N(Tasks!$G$36),2,IF(Tasks!$M$36=4,3,1))) | N38: =IF(OR(Tasks!$M$36=0,Tasks!$E$36>=N$7+7,Tasks!$F$36<N$7),0,IF(N$7+3.5<Tasks!$E$36+(Tasks!$F$36-Tasks!$E$36+1)*N(Tasks!$G$36),2,IF(Tasks!$M$36=4,3,1))) | O38: =IF(OR(Tasks!$M$36=0,Tasks!$E$36>=O$7+7,Tasks!$F$36<O$7),0,IF(O$7+3.5<Tasks!$E$36+(Tasks!$F$36-Tasks!$E$36+1)*N(Tasks!$G$36),2,IF(Tasks!$M$36=4,3,1))) | ... AG38: =IF(OR(Tasks!$M$36=0,Tasks!$E$36>=AG$7+7,Tasks!$F$36<AG$7),0,IF(AG$7+3.5<Tasks!$E$36+(Tasks!$F$36-Tasks!$E$36+1)*N(Tasks!$G$36),2,IF(Tasks!$M$36=4,3,1)))
B39: =IF(Tasks!$C$37="","",Tasks!$A$37) | C39: =IF(Tasks!$C$37="","",Tasks!$C$37) | D39: =IF(Tasks!$C$37="","",Tasks!$D$37&"") | E39: =IF(N(Tasks!$E$37)=0,"",Tasks!$E$37) | F39: =IF(N(Tasks!$F$37)=0,"",Tasks!$F$37) | G39: =IF(Tasks!$C$37="","",N(Tasks!$G$37)) | H39: =IF(OR(Tasks!$M$37=0,Tasks!$E$37>=H$7+7,Tasks!$F$37<H$7),0,IF(H$7+3.5<Tasks!$E$37+(Tasks!$F$37-Tasks!$E$37+1)*N(Tasks!$G$37),2,IF(Tasks!$M$37=4,3,1))) | I39: =IF(OR(Tasks!$M$37=0,Tasks!$E$37>=I$7+7,Tasks!$F$37<I$7),0,IF(I$7+3.5<Tasks!$E$37+(Tasks!$F$37-Tasks!$E$37+1)*N(Tasks!$G$37),2,IF(Tasks!$M$37=4,3,1))) | J39: =IF(OR(Tasks!$M$37=0,Tasks!$E$37>=J$7+7,Tasks!$F$37<J$7),0,IF(J$7+3.5<Tasks!$E$37+(Tasks!$F$37-Tasks!$E$37+1)*N(Tasks!$G$37),2,IF(Tasks!$M$37=4,3,1))) | K39: =IF(OR(Tasks!$M$37=0,Tasks!$E$37>=K$7+7,Tasks!$F$37<K$7),0,IF(K$7+3.5<Tasks!$E$37+(Tasks!$F$37-Tasks!$E$37+1)*N(Tasks!$G$37),2,IF(Tasks!$M$37=4,3,1))) | L39: =IF(OR(Tasks!$M$37=0,Tasks!$E$37>=L$7+7,Tasks!$F$37<L$7),0,IF(L$7+3.5<Tasks!$E$37+(Tasks!$F$37-Tasks!$E$37+1)*N(Tasks!$G$37),2,IF(Tasks!$M$37=4,3,1))) | M39: =IF(OR(Tasks!$M$37=0,Tasks!$E$37>=M$7+7,Tasks!$F$37<M$7),0,IF(M$7+3.5<Tasks!$E$37+(Tasks!$F$37-Tasks!$E$37+1)*N(Tasks!$G$37),2,IF(Tasks!$M$37=4,3,1))) | N39: =IF(OR(Tasks!$M$37=0,Tasks!$E$37>=N$7+7,Tasks!$F$37<N$7),0,IF(N$7+3.5<Tasks!$E$37+(Tasks!$F$37-Tasks!$E$37+1)*N(Tasks!$G$37),2,IF(Tasks!$M$37=4,3,1))) | O39: =IF(OR(Tasks!$M$37=0,Tasks!$E$37>=O$7+7,Tasks!$F$37<O$7),0,IF(O$7+3.5<Tasks!$E$37+(Tasks!$F$37-Tasks!$E$37+1)*N(Tasks!$G$37),2,IF(Tasks!$M$37=4,3,1))) | ... AG39: =IF(OR(Tasks!$M$37=0,Tasks!$E$37>=AG$7+7,Tasks!$F$37<AG$7),0,IF(AG$7+3.5<Tasks!$E$37+(Tasks!$F$37-Tasks!$E$37+1)*N(Tasks!$G$37),2,IF(Tasks!$M$37=4,3,1)))
B40: =IF(Tasks!$C$38="","",Tasks!$A$38) | C40: =IF(Tasks!$C$38="","",Tasks!$C$38) | D40: =IF(Tasks!$C$38="","",Tasks!$D$38&"") | E40: =IF(N(Tasks!$E$38)=0,"",Tasks!$E$38) | F40: =IF(N(Tasks!$F$38)=0,"",Tasks!$F$38) | G40: =IF(Tasks!$C$38="","",N(Tasks!$G$38)) | H40: =IF(OR(Tasks!$M$38=0,Tasks!$E$38>=H$7+7,Tasks!$F$38<H$7),0,IF(H$7+3.5<Tasks!$E$38+(Tasks!$F$38-Tasks!$E$38+1)*N(Tasks!$G$38),2,IF(Tasks!$M$38=4,3,1))) | I40: =IF(OR(Tasks!$M$38=0,Tasks!$E$38>=I$7+7,Tasks!$F$38<I$7),0,IF(I$7+3.5<Tasks!$E$38+(Tasks!$F$38-Tasks!$E$38+1)*N(Tasks!$G$38),2,IF(Tasks!$M$38=4,3,1))) | J40: =IF(OR(Tasks!$M$38=0,Tasks!$E$38>=J$7+7,Tasks!$F$38<J$7),0,IF(J$7+3.5<Tasks!$E$38+(Tasks!$F$38-Tasks!$E$38+1)*N(Tasks!$G$38),2,IF(Tasks!$M$38=4,3,1))) | K40: =IF(OR(Tasks!$M$38=0,Tasks!$E$38>=K$7+7,Tasks!$F$38<K$7),0,IF(K$7+3.5<Tasks!$E$38+(Tasks!$F$38-Tasks!$E$38+1)*N(Tasks!$G$38),2,IF(Tasks!$M$38=4,3,1))) | L40: =IF(OR(Tasks!$M$38=0,Tasks!$E$38>=L$7+7,Tasks!$F$38<L$7),0,IF(L$7+3.5<Tasks!$E$38+(Tasks!$F$38-Tasks!$E$38+1)*N(Tasks!$G$38),2,IF(Tasks!$M$38=4,3,1))) | M40: =IF(OR(Tasks!$M$38=0,Tasks!$E$38>=M$7+7,Tasks!$F$38<M$7),0,IF(M$7+3.5<Tasks!$E$38+(Tasks!$F$38-Tasks!$E$38+1)*N(Tasks!$G$38),2,IF(Tasks!$M$38=4,3,1))) | N40: =IF(OR(Tasks!$M$38=0,Tasks!$E$38>=N$7+7,Tasks!$F$38<N$7),0,IF(N$7+3.5<Tasks!$E$38+(Tasks!$F$38-Tasks!$E$38+1)*N(Tasks!$G$38),2,IF(Tasks!$M$38=4,3,1))) | O40: =IF(OR(Tasks!$M$38=0,Tasks!$E$38>=O$7+7,Tasks!$F$38<O$7),0,IF(O$7+3.5<Tasks!$E$38+(Tasks!$F$38-Tasks!$E$38+1)*N(Tasks!$G$38),2,IF(Tasks!$M$38=4,3,1))) | ... AG40: =IF(OR(Tasks!$M$38=0,Tasks!$E$38>=AG$7+7,Tasks!$F$38<AG$7),0,IF(AG$7+3.5<Tasks!$E$38+(Tasks!$F$38-Tasks!$E$38+1)*N(Tasks!$G$38),2,IF(Tasks!$M$38=4,3,1)))
