Workbook
Name iName: Ingredients!$B$8:$B$157
Name iUnit: Ingredients!$C$8:$C$157
Name iEff: Ingredients!$F$8:$F$157
Name mName: Menu!$B$8:$B$47
Name mCat: Menu!$C$8:$C$47
Name mPrice: Menu!$D$8:$D$47
Name mCost: Menu!$E$8:$E$47
Name rDish: Recipes!$B$8:$B$607
Name rCost: Recipes!$G$8:$G$607
Name sDate: Sales!$A$8:$A$20007
Name sItem: Sales!$B$8:$B$20007
Name sPort: Sales!$C$8:$C$20007

Sheet START
B2: K1 | F2: ="KEYONE / "&Lang!$B$14
F4: =Lang!$B$15
B7: =HYPERLINK("#'START'!A1",Lang!$B$2) | D7: =HYPERLINK("#'Dashboard'!A1",Lang!$B$3) | F7: =HYPERLINK("#'Report'!A1",Lang!$B$4) | H7: =HYPERLINK("#'Menu'!A1",Lang!$B$10) | J7: =HYPERLINK("#'Recipes'!A1",Lang!$B$11) | L7: =HYPERLINK("#'Ingredients'!A1",Lang!$B$12) | N7: =HYPERLINK("#'Sales'!A1",Lang!$B$13) | P7: =HYPERLINK("#'Settings'!A1",Lang!$B$5)
B9: =Lang!$B$16
B13: 01 | E13: =Lang!$B$17
E14: =Lang!$B$18
B17: 02 | E17: =Lang!$B$19
E18: =Lang!$B$20
B21: 03 | E21: =Lang!$B$21
E22: =Lang!$B$22
B25: 04 | E25: =Lang!$B$23
E26: =Lang!$B$24
B30: =Lang!$B$25
B32: =Lang!$B$6
B35: =Lang!$B$7
B36: Keywan Fakhri | I36: =Lang!$B$8
B38: =Lang!$B$9
B39: =HYPERLINK("https://keywanfakhri.com","keywanfakhri.com") | F39: =HYPERLINK("mailto:keywanfakhri1@gmail.com","keywanfakhri1@gmail.com") | L39: =HYPERLINK("https://www.linkedin.com/in/rahmatallah-keywan-fakhri/","LinkedIn: rahmatallah-keywan-fakhri")

Sheet Dashboard
B2: K1 | E2: ="KEYONE / "&Lang!$B$34
E3: =Lang!$B$35
B4: =HYPERLINK("#'START'!A1",Lang!$B$2) | D4: =HYPERLINK("#'Dashboard'!A1",Lang!$B$3) | F4: =HYPERLINK("#'Report'!A1",Lang!$B$4) | H4: =HYPERLINK("#'Menu'!A1",Lang!$B$10) | J4: =HYPERLINK("#'Recipes'!A1",Lang!$B$11) | L4: =HYPERLINK("#'Ingredients'!A1",Lang!$B$12) | N4: =HYPERLINK("#'Sales'!A1",Lang!$B$13) | P4: =HYPERLINK("#'Settings'!A1",Lang!$B$5)
B6: =Lang!$B$36 | E6: =Lang!$B$37 | H6: =Lang!$B$38 | K6: =Lang!$B$39 | N6: =Lang!$B$106
B7: 2026 | E7: 2025 | H7: All | K7: Full year | N7: =Settings!$D$8
B8: =Lang!$B$40
B10: =Lang!$B$62 | E10: =Lang!$B$63 | H10: =Lang!$B$64 | K10: =Lang!$B$65 | N10: =Lang!$B$66 | Q10: =Lang!$B$67
B11: =SUM(Calc!$I$21:$I$60) | E11: =IFERROR(SUM(Calc!$J$21:$J$60)/SUM(Calc!$I$21:$I$60),"") | H11: =SUM(Calc!$K$21:$K$60) | K11: =SUM(Calc!$G$21:$G$60) | N11: =IF(AND(N(B11)>0,N(D13)>0),B11/D13-1,"") | Q11: =COUNTIF(Calc!$T$21:$T$60,1)
B13: =Lang!$B$68 | D13: =SUM(Calc!$L$21:$L$60) | E13: =Lang!$B$69 | G13: =Settings!$D$10 | H13: =Lang!$B$70 | J13: =IFERROR(H11/B11,"") | K13: =Lang!$B$71 | M13: =IFERROR(B11/K11,"") | N13: =Lang!$B$68 | P13: =Calc!$B$3 | Q13: =Lang!$B$72 | S13: =COUNTIF(Calc!$T$21:$T$60,4)
B16: =Lang!$B$73 | M16: =Lang!$B$74
B35: =Lang!$B$75 | M35: =Lang!$B$76
M37: =Lang!$B$87 | R37: =COUNTIF(Calc!$T$21:$T$60,1)
M38: =Lang!$B$91
M41: =Lang!$B$88 | R41: =COUNTIF(Calc!$T$21:$T$60,2)
M42: =Lang!$B$92
M45: =Lang!$B$89 | R45: =COUNTIF(Calc!$T$21:$T$60,3)
M46: =Lang!$B$93
M49: =Lang!$B$90 | R49: =COUNTIF(Calc!$T$21:$T$60,4)
M50: =Lang!$B$94
B54: =Lang!$B$96
B57: =Lang!$B$77 | I57: =Lang!$B$78 | O57: =Lang!$B$79
O58: =Lang!$B$97
O59: =IFERROR(IF(MAX(Calc!$G$21:$G$60)>0,INDEX(Calc!$B$21:$B$60,MATCH(MAX(Calc!$G$21:$G$60),Calc!$G$21:$G$60,0)),"–"),"–") | R59: =MAX(Calc!$G$21:$G$60)
O61: =Lang!$B$98
O62: =IF(Calc!$D$100="","–",Calc!$D$100) | R62: =IF(Calc!$G$100="","",Calc!$G$100)
O64: =Lang!$B$99
O65: =IF(E11="","–",IF(E11<=Settings!$D$10,Lang!$B$100,Lang!$B$101)) | R65: =E11
O67: =Lang!$B$102
O68: =IF(MAX(Calc!$E$90:$E$96)=0,"–",INDEX(Calc!$B$90:$B$96,MATCH(MAX(Calc!$E$90:$E$96),Calc!$E$90:$E$96,0))) | R68: =MAX(Calc!$E$90:$E$96)
O70: =Lang!$B$103
O71: =IFERROR(INDEX(Calc!$B$21:$B$60,MATCH(MIN(Calc!$X$21:$X$60),Calc!$X$21:$X$60,0)),"–") | R71: =COUNTIF(Calc!$T$21:$T$60,4)
B75: =Lang!$B$25
B76: =Lang!$B$6

Sheet Report
B2: K1 | E2: ="KEYONE / "&Lang!$B$104
E3: =Lang!$B$105
B4: =HYPERLINK("#'START'!A1",Lang!$B$2) | D4: =HYPERLINK("#'Dashboard'!A1",Lang!$B$3) | F4: =HYPERLINK("#'Report'!A1",Lang!$B$4) | H4: =HYPERLINK("#'Menu'!A1",Lang!$B$10) | J4: =HYPERLINK("#'Recipes'!A1",Lang!$B$11) | L4: =HYPERLINK("#'Ingredients'!A1",Lang!$B$12) | N4: =HYPERLINK("#'Sales'!A1",Lang!$B$13) | P4: =HYPERLINK("#'Settings'!A1",Lang!$B$5)
B6: =Lang!$B$106 | F6: =Lang!$B$36 | H6: =Lang!$B$37 | J6: =Lang!$B$38 | M6: =Lang!$B$39
B7: =Settings!$D$8 | F7: =Calc!$B$2 | H7: =Calc!$B$3 | J7: =Dashboard!H7 | M7: =Dashboard!K7
B9: =Lang!$B$62 | E9: =Lang!$B$63 | H9: =Lang!$B$64 | K9: =Lang!$B$65 | N9: =Lang!$B$66 | Q9: =Lang!$B$67
B10: =Dashboard!B11 | E10: =Dashboard!E11 | H10: =Dashboard!H11 | K10: =Dashboard!K11 | N10: =Dashboard!N11 | Q10: =Dashboard!Q11
B12: =Lang!$B$107 | C12: =Lang!$B$108 | D12: =Lang!$B$109 | E12: =Lang!$B$110 | F12: =Lang!$B$111 | G12: =Lang!$B$112 | H12: =Lang!$B$113 | I12: =Lang!$B$114 | K12: =Lang!$B$115 | N12: =Lang!$B$116 | P12: =Lang!$B$114 | Q12: =Lang!$B$113 | R12: =Lang!$B$117
B13: =Calc!B70 | C13: =IF(Calc!F70>0,Calc!F70,"") | D13: =Calc!T70 | E13: =Calc!O70 | F13: =IF(Calc!F70>0,Calc!G70,"") | G13: =Calc!H70 | H13: =IF(Calc!F70>0,Calc!I70,"") | I13: =IF(Calc!F70>0,Calc!J70,"") | K13: =IF(Calc!D100="","",Calc!A100&". "&Calc!D100) | N13: =Calc!E100 | P13: =Calc!F100 | Q13: =Calc!G100 | R13: =Calc!H100
B14: =Calc!B71 | C14: =IF(Calc!F71>0,Calc!F71,"") | D14: =Calc!T71 | E14: =Calc!O71 | F14: =IF(Calc!F71>0,Calc!G71,"") | G14: =Calc!H71 | H14: =IF(Calc!F71>0,Calc!I71,"") | I14: =IF(Calc!F71>0,Calc!J71,"") | K14: =IF(Calc!D101="","",Calc!A101&". "&Calc!D101) | N14: =Calc!E101 | P14: =Calc!F101 | Q14: =Calc!G101 | R14: =Calc!H101
B15: =Calc!B72 | C15: =IF(Calc!F72>0,Calc!F72,"") | D15: =Calc!T72 | E15: =Calc!O72 | F15: =IF(Calc!F72>0,Calc!G72,"") | G15: =Calc!H72 | H15: =IF(Calc!F72>0,Calc!I72,"") | I15: =IF(Calc!F72>0,Calc!J72,"") | K15: =IF(Calc!D102="","",Calc!A102&". "&Calc!D102) | N15: =Calc!E102 | P15: =Calc!F102 | Q15: =Calc!G102 | R15: =Calc!H102
B16: =Calc!B73 | C16: =IF(Calc!F73>0,Calc!F73,"") | D16: =Calc!T73 | E16: =Calc!O73 | F16: =IF(Calc!F73>0,Calc!G73,"") | G16: =Calc!H73 | H16: =IF(Calc!F73>0,Calc!I73,"") | I16: =IF(Calc!F73>0,Calc!J73,"") | K16: =IF(Calc!D103="","",Calc!A103&". "&Calc!D103) | N16: =Calc!E103 | P16: =Calc!F103 | Q16: =Calc!G103 | R16: =Calc!H103
B17: =Calc!B74 | C17: =IF(Calc!F74>0,Calc!F74,"") | D17: =Calc!T74 | E17: =Calc!O74 | F17: =IF(Calc!F74>0,Calc!G74,"") | G17: =Calc!H74 | H17: =IF(Calc!F74>0,Calc!I74,"") | I17: =IF(Calc!F74>0,Calc!J74,"") | K17: =IF(Calc!D104="","",Calc!A104&". "&Calc!D104) | N17: =Calc!E104 | P17: =Calc!F104 | Q17: =Calc!G104 | R17: =Calc!H104
B18: =Calc!B75 | C18: =IF(Calc!F75>0,Calc!F75,"") | D18: =Calc!T75 | E18: =Calc!O75 | F18: =IF(Calc!F75>0,Calc!G75,"") | G18: =Calc!H75 | H18: =IF(Calc!F75>0,Calc!I75,"") | I18: =IF(Calc!F75>0,Calc!J75,"") | K18: =IF(Calc!D105="","",Calc!A105&". "&Calc!D105) | N18: =Calc!E105 | P18: =Calc!F105 | Q18: =Calc!G105 | R18: =Calc!H105
B19: =Calc!B76 | C19: =IF(Calc!F76>0,Calc!F76,"") | D19: =Calc!T76 | E19: =Calc!O76 | F19: =IF(Calc!F76>0,Calc!G76,"") | G19: =Calc!H76 | H19: =IF(Calc!F76>0,Calc!I76,"") | I19: =IF(Calc!F76>0,Calc!J76,"") | K19: =IF(Calc!D106="","",Calc!A106&". "&Calc!D106) | N19: =Calc!E106 | P19: =Calc!F106 | Q19: =Calc!G106 | R19: =Calc!H106
B20: =Calc!B77 | C20: =IF(Calc!F77>0,Calc!F77,"") | D20: =Calc!T77 | E20: =Calc!O77 | F20: =IF(Calc!F77>0,Calc!G77,"") | G20: =Calc!H77 | H20: =IF(Calc!F77>0,Calc!I77,"") | I20: =IF(Calc!F77>0,Calc!J77,"") | K20: =IF(Calc!D107="","",Calc!A107&". "&Calc!D107) | N20: =Calc!E107 | P20: =Calc!F107 | Q20: =Calc!G107 | R20: =Calc!H107
B21: =Calc!B78 | C21: =IF(Calc!F78>0,Calc!F78,"") | D21: =Calc!T78 | E21: =Calc!O78 | F21: =IF(Calc!F78>0,Calc!G78,"") | G21: =Calc!H78 | H21: =IF(Calc!F78>0,Calc!I78,"") | I21: =IF(Calc!F78>0,Calc!J78,"") | K21: =IF(Calc!D108="","",Calc!A108&". "&Calc!D108) | N21: =Calc!E108 | P21: =Calc!F108 | Q21: =Calc!G108 | R21: =Calc!H108
B22: =Calc!B79 | C22: =IF(Calc!F79>0,Calc!F79,"") | D22: =Calc!T79 | E22: =Calc!O79 | F22: =IF(Calc!F79>0,Calc!G79,"") | G22: =Calc!H79 | H22: =IF(Calc!F79>0,Calc!I79,"") | I22: =IF(Calc!F79>0,Calc!J79,"") | K22: =IF(Calc!D109="","",Calc!A109&". "&Calc!D109) | N22: =Calc!E109 | P22: =Calc!F109 | Q22: =Calc!G109 | R22: =Calc!H109
B23: =Calc!B80 | C23: =IF(Calc!F80>0,Calc!F80,"") | D23: =Calc!T80 | E23: =Calc!O80 | F23: =IF(Calc!F80>0,Calc!G80,"") | G23: =Calc!H80 | H23: =IF(Calc!F80>0,Calc!I80,"") | I23: =IF(Calc!F80>0,Calc!J80,"")
B24: =Calc!B81 | C24: =IF(Calc!F81>0,Calc!F81,"") | D24: =Calc!T81 | E24: =Calc!O81 | F24: =IF(Calc!F81>0,Calc!G81,"") | G24: =Calc!H81 | H24: =IF(Calc!F81>0,Calc!I81,"") | I24: =IF(Calc!F81>0,Calc!J81,"") | K24: =Lang!$B$79
B25: =Lang!$B$118 | C25: =SUM(C13:C24) | D25: =SUM(D13:D24) | E25: =IF(AND(C25>0,D25>0),C25/D25-1,"") | F25: =SUM(F13:F24) | G25: =IF(C25>0,F25/C25,"") | H25: =SUM(H13:H24) | I25: =SUM(I13:I24) | K25: =Lang!$B$97 | O25: =Dashboard!O59 | R25: =Dashboard!R59
K26: =Lang!$B$99 | O26: =Dashboard!O65 | R26: =Dashboard!R65
B27: =Lang!$B$73 | K27: =Lang!$B$102 | O27: =Dashboard!O68 | R27: =Dashboard!R68
K28: =Lang!$B$103 | O28: =Dashboard!O71 | R28: =Dashboard!R71
K30: =Lang!$B$75
K31: =Lang!$B$87 | N31: =COUNTIF(Calc!$T$21:$T$60,1) | O31: =Lang!$B$91
K33: =Lang!$B$88 | N33: =COUNTIF(Calc!$T$21:$T$60,2) | O33: =Lang!$B$92
K35: =Lang!$B$89 | N35: =COUNTIF(Calc!$T$21:$T$60,3) | O35: =Lang!$B$93
K37: =Lang!$B$90 | N37: =COUNTIF(Calc!$T$21:$T$60,4) | O37: =Lang!$B$94
B43: =Lang!$B$119
B44: =Lang!$B$6

Sheet Menu
B1: ="KEYONE / "&Lang!$B$120 | O1: =Settings!$D$10
B3: =Lang!$B$121
B5: =HYPERLINK("#'START'!A1",Lang!$B$2) | C5: =HYPERLINK("#'Dashboard'!A1",Lang!$B$3) | D5: =HYPERLINK("#'Report'!A1",Lang!$B$4) | E5: =HYPERLINK("#'Recipes'!A1",Lang!$B$11) | F5: =HYPERLINK("#'Ingredients'!A1",Lang!$B$12) | G5: =HYPERLINK("#'Sales'!A1",Lang!$B$13) | H5: =HYPERLINK("#'Settings'!A1",Lang!$B$5)
H6: =Dashboard!B7&" • "&Dashboard!K7&" • "&Dashboard!H7
B7: =Lang!$B$122 | C7: =Lang!$B$123 | D7: =Lang!$B$124 | E7: =Lang!$B$125 | F7: =Lang!$B$126 | G7: =Lang!$B$127 | H7: =Lang!$B$128 | I7: =Lang!$B$129 | J7: =Lang!$B$130 | K7: =Lang!$B$131 | L7: =Lang!$B$132 | M7: =Lang!$B$133
B8: Bruschetta | C8: Starters | D8: 6.9 | E8: =IF(B8="","",SUMIF(rDish,B8,rCost)) | F8: =IF(OR(B8="",N(D8)=0),"",E8/D8) | G8: =IF(B8="","",N(D8)-N(E8)) | H8: =IF(B8="","",Calc!G21) | I8: =IF(B8="","",Calc!I21) | J8: =IF(B8="","",Calc!K21) | K8: =IF(B8="","",Calc!W21) | L8: =IF(B8="","",Calc!U21) | M8: =IF(B8="","",Calc!V21) | N8: =IF(B8="","",Calc!T21)
B9: Caesar Salad | C9: Starters | D9: 10.9 | E9: =IF(B9="","",SUMIF(rDish,B9,rCost)) | F9: =IF(OR(B9="",N(D9)=0),"",E9/D9) | G9: =IF(B9="","",N(D9)-N(E9)) | H9: =IF(B9="","",Calc!G22) | I9: =IF(B9="","",Calc!I22) | J9: =IF(B9="","",Calc!K22) | K9: =IF(B9="","",Calc!W22) | L9: =IF(B9="","",Calc!U22) | M9: =IF(B9="","",Calc!V22) | N9: =IF(B9="","",Calc!T22)
B10: Tomato Soup | C10: Starters | D10: 6.5 | E10: =IF(B10="","",SUMIF(rDish,B10,rCost)) | F10: =IF(OR(B10="",N(D10)=0),"",E10/D10) | G10: =IF(B10="","",N(D10)-N(E10)) | H10: =IF(B10="","",Calc!G23) | I10: =IF(B10="","",Calc!I23) | J10: =IF(B10="","",Calc!K23) | K10: =IF(B10="","",Calc!W23) | L10: =IF(B10="","",Calc!U23) | M10: =IF(B10="","",Calc!V23) | N10: =IF(B10="","",Calc!T23)
B11: Spaghetti Carbonara | C11: Mains | D11: 13.9 | E11: =IF(B11="","",SUMIF(rDish,B11,rCost)) | F11: =IF(OR(B11="",N(D11)=0),"",E11/D11) | G11: =IF(B11="","",N(D11)-N(E11)) | H11: =IF(B11="","",Calc!G24) | I11: =IF(B11="","",Calc!I24) | J11: =IF(B11="","",Calc!K24) | K11: =IF(B11="","",Calc!W24) | L11: =IF(B11="","",Calc!U24) | M11: =IF(B11="","",Calc!V24) | N11: =IF(B11="","",Calc!T24)
B12: Pizza Margherita | C12: Mains | D12: 10.9 | E12: =IF(B12="","",SUMIF(rDish,B12,rCost)) | F12: =IF(OR(B12="",N(D12)=0),"",E12/D12) | G12: =IF(B12="","",N(D12)-N(E12)) | H12: =IF(B12="","",Calc!G25) | I12: =IF(B12="","",Calc!I25) | J12: =IF(B12="","",Calc!K25) | K12: =IF(B12="","",Calc!W25) | L12: =IF(B12="","",Calc!U25) | M12: =IF(B12="","",Calc!V25) | N12: =IF(B12="","",Calc!T25)
B13: Wiener Schnitzel | C13: Mains | D13: 21.9 | E13: =IF(B13="","",SUMIF(rDish,B13,rCost)) | F13: =IF(OR(B13="",N(D13)=0),"",E13/D13) | G13: =IF(B13="","",N(D13)-N(E13)) | H13: =IF(B13="","",Calc!G26) | I13: =IF(B13="","",Calc!I26) | J13: =IF(B13="","",Calc!K26) | K13: =IF(B13="","",Calc!W26) | L13: =IF(B13="","",Calc!U26) | M13: =IF(B13="","",Calc!V26) | N13: =IF(B13="","",Calc!T26)
B14: Salmon Fillet | C14: Mains | D14: 22.5 | E14: =IF(B14="","",SUMIF(rDish,B14,rCost)) | F14: =IF(OR(B14="",N(D14)=0),"",E14/D14) | G14: =IF(B14="","",N(D14)-N(E14)) | H14: =IF(B14="","",Calc!G27) | I14: =IF(B14="","",Calc!I27) | J14: =IF(B14="","",Calc!K27) | K14: =IF(B14="","",Calc!W27) | L14: =IF(B14="","",Calc!U27) | M14: =IF(B14="","",Calc!V27) | N14: =IF(B14="","",Calc!T27)
B15: Mushroom Risotto | C15: Mains | D15: 15.9 | E15: =IF(B15="","",SUMIF(rDish,B15,rCost)) | F15: =IF(OR(B15="",N(D15)=0),"",E15/D15) | G15: =IF(B15="","",N(D15)-N(E15)) | H15: =IF(B15="","",Calc!G28) | I15: =IF(B15="","",Calc!I28) | J15: =IF(B15="","",Calc!K28) | K15: =IF(B15="","",Calc!W28) | L15: =IF(B15="","",Calc!U28) | M15: =IF(B15="","",Calc!V28) | N15: =IF(B15="","",Calc!T28)
B16: Cheeseburger | C16: Mains | D16: 14.5 | E16: =IF(B16="","",SUMIF(rDish,B16,rCost)) | F16: =IF(OR(B16="",N(D16)=0),"",E16/D16) | G16: =IF(B16="","",N(D16)-N(E16)) | H16: =IF(B16="","",Calc!G29) | I16: =IF(B16="","",Calc!I29) | J16: =IF(B16="","",Calc!K29) | K16: =IF(B16="","",Calc!W29) | L16: =IF(B16="","",Calc!U29) | M16: =IF(B16="","",Calc!V29) | N16: =IF(B16="","",Calc!T29)
B17: Tiramisu | C17: Desserts | D17: 7.2 | E17: =IF(B17="","",SUMIF(rDish,B17,rCost)) | F17: =IF(OR(B17="",N(D17)=0),"",E17/D17) | G17: =IF(B17="","",N(D17)-N(E17)) | H17: =IF(B17="","",Calc!G30) | I17: =IF(B17="","",Calc!I30) | J17: =IF(B17="","",Calc!K30) | K17: =IF(B17="","",Calc!W30) | L17: =IF(B17="","",Calc!U30) | M17: =IF(B17="","",Calc!V30) | N17: =IF(B17="","",Calc!T30)
B18: Chocolate Fondant | C18: Desserts | D18: 7.9 | E18: =IF(B18="","",SUMIF(rDish,B18,rCost)) | F18: =IF(OR(B18="",N(D18)=0),"",E18/D18) | G18: =IF(B18="","",N(D18)-N(E18)) | H18: =IF(B18="","",Calc!G31) | I18: =IF(B18="","",Calc!I31) | J18: =IF(B18="","",Calc!K31) | K18: =IF(B18="","",Calc!W31) | L18: =IF(B18="","",Calc!U31) | M18: =IF(B18="","",Calc!V31) | N18: =IF(B18="","",Calc!T31)
B19: Lemon Sorbet | C19: Desserts | D19: 5.5 | E19: =IF(B19="","",SUMIF(rDish,B19,rCost)) | F19: =IF(OR(B19="",N(D19)=0),"",E19/D19) | G19: =IF(B19="","",N(D19)-N(E19)) | H19: =IF(B19="","",Calc!G32) | I19: =IF(B19="","",Calc!I32) | J19: =IF(B19="","",Calc!K32) | K19: =IF(B19="","",Calc!W32) | L19: =IF(B19="","",Calc!U32) | M19: =IF(B19="","",Calc!V32) | N19: =IF(B19="","",Calc!T32)
... B22: Homemade Lemonade | C22: Drinks | D22: 4.2 | E22: =IF(B22="","",SUMIF(rDish,B22,rCost)) | F22: =IF(OR(B22="",N(D22)=0),"",E22/D22) | G22: =IF(B22="","",N(D22)-N(E22)) | H22: =IF(B22="","",Calc!G35) | I22: =IF(B22="","",Calc!I35) | J22: =IF(B22="","",Calc!K35) | K22: =IF(B22="","",Calc!W35) | L22: =IF(B22="","",Calc!U35) | M22: =IF(B22="","",Calc!V35) | N22: =IF(B22="","",Calc!T35)
E23: =IF(B23="","",SUMIF(rDish,B23,rCost)) | F23: =IF(OR(B23="",N(D23)=0),"",E23/D23) | G23: =IF(B23="","",N(D23)-N(E23)) | H23: =IF(B23="","",Calc!G36) | I23: =IF(B23="","",Calc!I36) | J23: =IF(B23="","",Calc!K36) | K23: =IF(B23="","",Calc!W36) | L23: =IF(B23="","",Calc!U36) | M23: =IF(B23="","",Calc!V36) | N23: =IF(B23="","",Calc!T36)
E24: =IF(B24="","",SUMIF(rDish,B24,rCost)) | F24: =IF(OR(B24="",N(D24)=0),"",E24/D24) | G24: =IF(B24="","",N(D24)-N(E24)) | H24: =IF(B24="","",Calc!G37) | I24: =IF(B24="","",Calc!I37) | J24: =IF(B24="","",Calc!K37) | K24: =IF(B24="","",Calc!W37) | L24: =IF(B24="","",Calc!U37) | M24: =IF(B24="","",Calc!V37) | N24: =IF(B24="","",Calc!T37)
E25: =IF(B25="","",SUMIF(rDish,B25,rCost)) | F25: =IF(OR(B25="",N(D25)=0),"",E25/D25) | G25: =IF(B25="","",N(D25)-N(E25)) | H25: =IF(B25="","",Calc!G38) | I25: =IF(B25="","",Calc!I38) | J25: =IF(B25="","",Calc!K38) | K25: =IF(B25="","",Calc!W38) | L25: =IF(B25="","",Calc!U38) | M25: =IF(B25="","",Calc!V38) | N25: =IF(B25="","",Calc!T38)
E26: =IF(B26="","",SUMIF(rDish,B26,rCost)) | F26: =IF(OR(B26="",N(D26)=0),"",E26/D26) | G26: =IF(B26="","",N(D26)-N(E26)) | H26: =IF(B26="","",Calc!G39) | I26: =IF(B26="","",Calc!I39) | J26: =IF(B26="","",Calc!K39) | K26: =IF(B26="","",Calc!W39) | L26: =IF(B26="","",Calc!U39) | M26: =IF(B26="","",Calc!V39) | N26: =IF(B26="","",Calc!T39)
E27: =IF(B27="","",SUMIF(rDish,B27,rCost)) | F27: =IF(OR(B27="",N(D27)=0),"",E27/D27) | G27: =IF(B27="","",N(D27)-N(E27)) | H27: =IF(B27="","",Calc!G40) | I27: =IF(B27="","",Calc!I40) | J27: =IF(B27="","",Calc!K40) | K27: =IF(B27="","",Calc!W40) | L27: =IF(B27="","",Calc!U40) | M27: =IF(B27="","",Calc!V40) | N27: =IF(B27="","",Calc!T40)
E28: =IF(B28="","",SUMIF(rDish,B28,rCost)) | F28: =IF(OR(B28="",N(D28)=0),"",E28/D28) | G28: =IF(B28="","",N(D28)-N(E28)) | H28: =IF(B28="","",Calc!G41) | I28: =IF(B28="","",Calc!I41) | J28: =IF(B28="","",Calc!K41) | K28: =IF(B28="","",Calc!W41) | L28: =IF(B28="","",Calc!U41) | M28: =IF(B28="","",Calc!V41) | N28: =IF(B28="","",Calc!T41)
E29: =IF(B29="","",SUMIF(rDish,B29,rCost)) | F29: =IF(OR(B29="",N(D29)=0),"",E29/D29) | G29: =IF(B29="","",N(D29)-N(E29)) | H29: =IF(B29="","",Calc!G42) | I29: =IF(B29="","",Calc!I42) | J29: =IF(B29="","",Calc!K42) | K29: =IF(B29="","",Calc!W42) | L29: =IF(B29="","",Calc!U42) | M29: =IF(B29="","",Calc!V42) | N29: =IF(B29="","",Calc!T42)
E30: =IF(B30="","",SUMIF(rDish,B30,rCost)) | F30: =IF(OR(B30="",N(D30)=0),"",E30/D30) | G30: =IF(B30="","",N(D30)-N(E30)) | H30: =IF(B30="","",Calc!G43) | I30: =IF(B30="","",Calc!I43) | J30: =IF(B30="","",Calc!K43) | K30: =IF(B30="","",Calc!W43) | L30: =IF(B30="","",Calc!U43) | M30: =IF(B30="","",Calc!V43) | N30: =IF(B30="","",Calc!T43)
E31: =IF(B31="","",SUMIF(rDish,B31,rCost)) | F31: =IF(OR(B31="",N(D31)=0),"",E31/D31) | G31: =IF(B31="","",N(D31)-N(E31)) | H31: =IF(B31="","",Calc!G44) | I31: =IF(B31="","",Calc!I44) | J31: =IF(B31="","",Calc!K44) | K31: =IF(B31="","",Calc!W44) | L31: =IF(B31="","",Calc!U44) | M31: =IF(B31="","",Calc!V44) | N31: =IF(B31="","",Calc!T44)
E32: =IF(B32="","",SUMIF(rDish,B32,rCost)) | F32: =IF(OR(B32="",N(D32)=0),"",E32/D32) | G32: =IF(B32="","",N(D32)-N(E32)) | H32: =IF(B32="","",Calc!G45) | I32: =IF(B32="","",Calc!I45) | J32: =IF(B32="","",Calc!K45) | K32: =IF(B32="","",Calc!W45) | L32: =IF(B32="","",Calc!U45) | M32: =IF(B32="","",Calc!V45) | N32: =IF(B32="","",Calc!T45)
E33: =IF(B33="","",SUMIF(rDish,B33,rCost)) | F33: =IF(OR(B33="",N(D33)=0),"",E33/D33) | G33: =IF(B33="","",N(D33)-N(E33)) | H33: =IF(B33="","",Calc!G46) | I33: =IF(B33="","",Calc!I46) | J33: =IF(B33="","",Calc!K46) | K33: =IF(B33="","",Calc!W46) | L33: =IF(B33="","",Calc!U46) | M33: =IF(B33="","",Calc!V46) | N33: =IF(B33="","",Calc!T46)
E34: =IF(B34="","",SUMIF(rDish,B34,rCost)) | F34: =IF(OR(B34="",N(D34)=0),"",E34/D34) | G34: =IF(B34="","",N(D34)-N(E34)) | H34: =IF(B34="","",Calc!G47) | I34: =IF(B34="","",Calc!I47) | J34: =IF(B34="","",Calc!K47) | K34: =IF(B34="","",Calc!W47) | L34: =IF(B34="","",Calc!U47) | M34: =IF(B34="","",Calc!V47) | N34: =IF(B34="","",Calc!T47)
... E47: =IF(B47="","",SUMIF(rDish,B47,rCost)) | F47: =IF(OR(B47="",N(D47)=0),"",E47/D47) | G47: =IF(B47="","",N(D47)-N(E47)) | H47: =IF(B47="","",Calc!G60) | I47: =IF(B47="","",Calc!I60) | J47: =IF(B47="","",Calc!K60) | K47: =IF(B47="","",Calc!W60) | L47: =IF(B47="","",Calc!U60) | M47: =IF(B47="","",Calc!V60) | N47: =IF(B47="","",Calc!T60)
B49: =Lang!$B$6

Sheet Recipes
B1: ="KEYONE / "&Lang!$B$134
B3: =Lang!$B$135
B5: =HYPERLINK("#'START'!A1",Lang!$B$2) | C5: =HYPERLINK("#'Dashboard'!A1",Lang!$B$3) | D5: =HYPERLINK("#'Menu'!A1",Lang!$B$10) | E5: =HYPERLINK("#'Ingredients'!A1",Lang!$B$12) | F5: =HYPERLINK("#'Settings'!A1",Lang!$B$5)
B7: =Lang!$B$136 | C7: =Lang!$B$137 | D7: =Lang!$B$138 | E7: =Lang!$B$139 | F7: =Lang!$B$140 | G7: =Lang!$B$141
B8: Bruschetta | C8: Baguette | D8: 0.5 | E8: =IF(C8="","",IFERROR(INDEX(iUnit,MATCH(C8,iName,0)),"?")) | F8: =IF(C8="","",IFERROR(INDEX(iEff,MATCH(C8,iName,0)),0)) | G8: =IF(OR(B8="",C8=""),"",N(D8)*N(F8))
B9: Bruschetta | C9: Tomatoes | D9: 0.14 | E9: =IF(C9="","",IFERROR(INDEX(iUnit,MATCH(C9,iName,0)),"?")) | F9: =IF(C9="","",IFERROR(INDEX(iEff,MATCH(C9,iName,0)),0)) | G9: =IF(OR(B9="",C9=""),"",N(D9)*N(F9))
B10: Bruschetta | C10: Basil | D10: 0.006 | E10: =IF(C10="","",IFERROR(INDEX(iUnit,MATCH(C10,iName,0)),"?")) | F10: =IF(C10="","",IFERROR(INDEX(iEff,MATCH(C10,iName,0)),0)) | G10: =IF(OR(B10="",C10=""),"",N(D10)*N(F10))
B11: Bruschetta | C11: Olive oil | D11: 0.025 | E11: =IF(C11="","",IFERROR(INDEX(iUnit,MATCH(C11,iName,0)),"?")) | F11: =IF(C11="","",IFERROR(INDEX(iEff,MATCH(C11,iName,0)),0)) | G11: =IF(OR(B11="",C11=""),"",N(D11)*N(F11))
B12: Bruschetta | C12: Parmesan | D12: 0.012 | E12: =IF(C12="","",IFERROR(INDEX(iUnit,MATCH(C12,iName,0)),"?")) | F12: =IF(C12="","",IFERROR(INDEX(iEff,MATCH(C12,iName,0)),0)) | G12: =IF(OR(B12="",C12=""),"",N(D12)*N(F12))
B13: Caesar Salad | C13: Romaine lettuce | D13: 0.22 | E13: =IF(C13="","",IFERROR(INDEX(iUnit,MATCH(C13,iName,0)),"?")) | F13: =IF(C13="","",IFERROR(INDEX(iEff,MATCH(C13,iName,0)),0)) | G13: =IF(OR(B13="",C13=""),"",N(D13)*N(F13))
B14: Caesar Salad | C14: Chicken breast | D14: 0.12 | E14: =IF(C14="","",IFERROR(INDEX(iUnit,MATCH(C14,iName,0)),"?")) | F14: =IF(C14="","",IFERROR(INDEX(iEff,MATCH(C14,iName,0)),0)) | G14: =IF(OR(B14="",C14=""),"",N(D14)*N(F14))
B15: Caesar Salad | C15: Parmesan | D15: 0.03 | E15: =IF(C15="","",IFERROR(INDEX(iUnit,MATCH(C15,iName,0)),"?")) | F15: =IF(C15="","",IFERROR(INDEX(iEff,MATCH(C15,iName,0)),0)) | G15: =IF(OR(B15="",C15=""),"",N(D15)*N(F15))
B16: Caesar Salad | C16: Baguette | D16: 0.3 | E16: =IF(C16="","",IFERROR(INDEX(iUnit,MATCH(C16,iName,0)),"?")) | F16: =IF(C16="","",IFERROR(INDEX(iEff,MATCH(C16,iName,0)),0)) | G16: =IF(OR(B16="",C16=""),"",N(D16)*N(F16))
B17: Caesar Salad | C17: Olive oil | D17: 0.03 | E17: =IF(C17="","",IFERROR(INDEX(iUnit,MATCH(C17,iName,0)),"?")) | F17: =IF(C17="","",IFERROR(INDEX(iEff,MATCH(C17,iName,0)),0)) | G17: =IF(OR(B17="",C17=""),"",N(D17)*N(F17))
B18: Caesar Salad | C18: Eggs | D18: 1 | E18: =IF(C18="","",IFERROR(INDEX(iUnit,MATCH(C18,iName,0)),"?")) | F18: =IF(C18="","",IFERROR(INDEX(iEff,MATCH(C18,iName,0)),0)) | G18: =IF(OR(B18="",C18=""),"",N(D18)*N(F18))
B19: Tomato Soup | C19: Tomatoes | D19: 0.38 | E19: =IF(C19="","",IFERROR(INDEX(iUnit,MATCH(C19,iName,0)),"?")) | F19: =IF(C19="","",IFERROR(INDEX(iEff,MATCH(C19,iName,0)),0)) | G19: =IF(OR(B19="",C19=""),"",N(D19)*N(F19))
... B77: Homemade Lemonade | C77: Sugar | D77: 0.035 | E77: =IF(C77="","",IFERROR(INDEX(iUnit,MATCH(C77,iName,0)),"?")) | F77: =IF(C77="","",IFERROR(INDEX(iEff,MATCH(C77,iName,0)),0)) | G77: =IF(OR(B77="",C77=""),"",N(D77)*N(F77))
E78: =IF(C78="","",IFERROR(INDEX(iUnit,MATCH(C78,iName,0)),"?")) | F78: =IF(C78="","",IFERROR(INDEX(iEff,MATCH(C78,iName,0)),0)) | G78: =IF(OR(B78="",C78=""),"",N(D78)*N(F78))
E79: =IF(C79="","",IFERROR(INDEX(iUnit,MATCH(C79,iName,0)),"?")) | F79: =IF(C79="","",IFERROR(INDEX(iEff,MATCH(C79,iName,0)),0)) | G79: =IF(OR(B79="",C79=""),"",N(D79)*N(F79))
E80: =IF(C80="","",IFERROR(INDEX(iUnit,MATCH(C80,iName,0)),"?")) | F80: =IF(C80="","",IFERROR(INDEX(iEff,MATCH(C80,iName,0)),0)) | G80: =IF(OR(B80="",C80=""),"",N(D80)*N(F80))
E81: =IF(C81="","",IFERROR(INDEX(iUnit,MATCH(C81,iName,0)),"?")) | F81: =IF(C81="","",IFERROR(INDEX(iEff,MATCH(C81,iName,0)),0)) | G81: =IF(OR(B81="",C81=""),"",N(D81)*N(F81))
E82: =IF(C82="","",IFERROR(INDEX(iUnit,MATCH(C82,iName,0)),"?")) | F82: =IF(C82="","",IFERROR(INDEX(iEff,MATCH(C82,iName,0)),0)) | G82: =IF(OR(B82="",C82=""),"",N(D82)*N(F82))
E83: =IF(C83="","",IFERROR(INDEX(iUnit,MATCH(C83,iName,0)),"?")) | F83: =IF(C83="","",IFERROR(INDEX(iEff,MATCH(C83,iName,0)),0)) | G83: =IF(OR(B83="",C83=""),"",N(D83)*N(F83))
E84: =IF(C84="","",IFERROR(INDEX(iUnit,MATCH(C84,iName,0)),"?")) | F84: =IF(C84="","",IFERROR(INDEX(iEff,MATCH(C84,iName,0)),0)) | G84: =IF(OR(B84="",C84=""),"",N(D84)*N(F84))
E85: =IF(C85="","",IFERROR(INDEX(iUnit,MATCH(C85,iName,0)),"?")) | F85: =IF(C85="","",IFERROR(INDEX(iEff,MATCH(C85,iName,0)),0)) | G85: =IF(OR(B85="",C85=""),"",N(D85)*N(F85))
E86: =IF(C86="","",IFERROR(INDEX(iUnit,MATCH(C86,iName,0)),"?")) | F86: =IF(C86="","",IFERROR(INDEX(iEff,MATCH(C86,iName,0)),0)) | G86: =IF(OR(B86="",C86=""),"",N(D86)*N(F86))
E87: =IF(C87="","",IFERROR(INDEX(iUnit,MATCH(C87,iName,0)),"?")) | F87: =IF(C87="","",IFERROR(INDEX(iEff,MATCH(C87,iName,0)),0)) | G87: =IF(OR(B87="",C87=""),"",N(D87)*N(F87))
E88: =IF(C88="","",IFERROR(INDEX(iUnit,MATCH(C88,iName,0)),"?")) | F88: =IF(C88="","",IFERROR(INDEX(iEff,MATCH(C88,iName,0)),0)) | G88: =IF(OR(B88="",C88=""),"",N(D88)*N(F88))
E89: =IF(C89="","",IFERROR(INDEX(iUnit,MATCH(C89,iName,0)),"?")) | F89: =IF(C89="","",IFERROR(INDEX(iEff,MATCH(C89,iName,0)),0)) | G89: =IF(OR(B89="",C89=""),"",N(D89)*N(F89))
... E607: =IF(C607="","",IFERROR(INDEX(iUnit,MATCH(C607,iName,0)),"?")) | F607: =IF(C607="","",IFERROR(INDEX(iEff,MATCH(C607,iName,0)),0)) | G607: =IF(OR(B607="",C607=""),"",N(D607)*N(F607))

Sheet Ingredients
B1: ="KEYONE / "&Lang!$B$142
B3: =Lang!$B$143
B5: =HYPERLINK("#'START'!A1",Lang!$B$2) | C5: =HYPERLINK("#'Dashboard'!A1",Lang!$B$3) | D5: =HYPERLINK("#'Menu'!A1",Lang!$B$10) | E5: =HYPERLINK("#'Recipes'!A1",Lang!$B$11) | F5: =HYPERLINK("#'Settings'!A1",Lang!$B$5)
B7: =Lang!$B$144 | C7: =Lang!$B$145 | D7: =Lang!$B$146 | E7: =Lang!$B$147 | F7: =Lang!$B$148 | G7: =Lang!$B$149
B8: Flour | C8: kg | D8: 0.95 | E8: 1 | F8: =IF(OR(B8="",N(D8)=0),"",D8/IF(N(E8)>0,E8,1)) | G8: Metro
B9: Spaghetti | C9: kg | D9: 2.6 | E9: 1 | F9: =IF(OR(B9="",N(D9)=0),"",D9/IF(N(E9)>0,E9,1)) | G9: Metro
B10: Arborio rice | C10: kg | D10: 3.9 | E10: 1 | F10: =IF(OR(B10="",N(D10)=0),"",D10/IF(N(E10)>0,E10,1)) | G10: Metro
B11: Eggs | C11: pc | D11: 0.32 | E11: 1 | F11: =IF(OR(B11="",N(D11)=0),"",D11/IF(N(E11)>0,E11,1)) | G11: Farm Huber
B12: Guanciale | C12: kg | D12: 18.5 | E12: 0.95 | F12: =IF(OR(B12="",N(D12)=0),"",D12/IF(N(E12)>0,E12,1)) | G12: Italfood
B13: Parmesan | C13: kg | D13: 21 | E13: 0.97 | F13: =IF(OR(B13="",N(D13)=0),"",D13/IF(N(E13)>0,E13,1)) | G13: Italfood
B14: Mozzarella | C14: kg | D14: 9.4 | E14: 1 | F14: =IF(OR(B14="",N(D14)=0),"",D14/IF(N(E14)>0,E14,1)) | G14: Italfood
B15: Tomatoes | C15: kg | D15: 3.2 | E15: 0.9 | F15: =IF(OR(B15="",N(D15)=0),"",D15/IF(N(E15)>0,E15,1)) | G15: Market
B16: Basil | C16: kg | D16: 22 | E16: 0.7 | F16: =IF(OR(B16="",N(D16)=0),"",D16/IF(N(E16)>0,E16,1)) | G16: Market
B17: Olive oil | C17: l | D17: 10.5 | E17: 1 | F17: =IF(OR(B17="",N(D17)=0),"",D17/IF(N(E17)>0,E17,1)) | G17: Italfood
B18: Baguette | C18: pc | D18: 1.2 | E18: 1 | F18: =IF(OR(B18="",N(D18)=0),"",D18/IF(N(E18)>0,E18,1)) | G18: Bakery Maier
B19: Romaine lettuce | C19: kg | D19: 3.6 | E19: 0.75 | F19: =IF(OR(B19="",N(D19)=0),"",D19/IF(N(E19)>0,E19,1)) | G19: Market
... B37: Frying oil | C37: l | D37: 2.4 | E37: 1 | F37: =IF(OR(B37="",N(D37)=0),"",D37/IF(N(E37)>0,E37,1)) | G37: Metro
F38: =IF(OR(B38="",N(D38)=0),"",D38/IF(N(E38)>0,E38,1))
F39: =IF(OR(B39="",N(D39)=0),"",D39/IF(N(E39)>0,E39,1))
F40: =IF(OR(B40="",N(D40)=0),"",D40/IF(N(E40)>0,E40,1))
F41: =IF(OR(B41="",N(D41)=0),"",D41/IF(N(E41)>0,E41,1))
F42: =IF(OR(B42="",N(D42)=0),"",D42/IF(N(E42)>0,E42,1))
F43: =IF(OR(B43="",N(D43)=0),"",D43/IF(N(E43)>0,E43,1))
F44: =IF(OR(B44="",N(D44)=0),"",D44/IF(N(E44)>0,E44,1))
F45: =IF(OR(B45="",N(D45)=0),"",D45/IF(N(E45)>0,E45,1))
F46: =IF(OR(B46="",N(D46)=0),"",D46/IF(N(E46)>0,E46,1))
F47: =IF(OR(B47="",N(D47)=0),"",D47/IF(N(E47)>0,E47,1))
F48: =IF(OR(B48="",N(D48)=0),"",D48/IF(N(E48)>0,E48,1))
F49: =IF(OR(B49="",N(D49)=0),"",D49/IF(N(E49)>0,E49,1))
... F157: =IF(OR(B157="",N(D157)=0),"",D157/IF(N(E157)>0,E157,1))

Sheet Sales
A1: ="KEYONE / "&Lang!$B$150
A3: =Lang!$B$151
A5: =HYPERLINK("#'START'!A1",Lang!$B$2) | B5: =HYPERLINK("#'Dashboard'!A1",Lang!$B$3) | C5: =HYPERLINK("#'Menu'!A1",Lang!$B$10) | D5: =HYPERLINK("#'Settings'!A1",Lang!$B$5)
A7: =Lang!$B$152 | B7: =Lang!$B$153 | C7: =Lang!$B$154 | D7: =Lang!$B$155
A8: 45659 | B8: Bruschetta | C8: 10
A9: 45659 | B9: Caesar Salad | C9: 9
A10: 45659 | B10: Tomato Soup | C10: 7
A11: 45659 | B11: Spaghetti Carbonara | C11: 18
A12: 45659 | B12: Pizza Margherita | C12: 19
A13: 45659 | B13: Wiener Schnitzel | C13: 13
A14: 45659 | B14: Salmon Fillet | C14: 6
A15: 45659 | B15: Mushroom Risotto | C15: 4
A16: 45659 | B16: Cheeseburger | C16: 19
A17: 45659 | B17: Tiramisu | C17: 12
A18: 45659 | B18: Chocolate Fondant | C18: 5
A19: 45659 | B19: Lemon Sorbet | C19: 2
... A8318: 46309 | B8318: Homemade Lemonade | C8318: 18

Sheet Settings
B2: K1 | E2: ="KEYONE / "&Lang!$B$26
B4: =HYPERLINK("#'START'!A1",Lang!$B$2) | D4: =HYPERLINK("#'Dashboard'!A1",Lang!$B$3) | F4: =HYPERLINK("#'Report'!A1",Lang!$B$4) | H4: =HYPERLINK("#'Menu'!A1",Lang!$B$10) | J4: =HYPERLINK("#'Recipes'!A1",Lang!$B$11) | L4: =HYPERLINK("#'Ingredients'!A1",Lang!$B$12) | N4: =HYPERLINK("#'Sales'!A1",Lang!$B$13) | P4: =HYPERLINK("#'Settings'!A1",Lang!$B$5)
B6: =Lang!$B$27 | D6: English | F6: =Lang!$B$32
B8: =Lang!$B$28 | D8: Demo Restaurant
B10: =Lang!$B$29 | D10: 0.3
F11: =Lang!$B$33
B12: =Lang!$B$30 | D12: 2025
B14: =Lang!$B$31 | D14: Starters
D15: Mains
D16: Desserts
D17: Drinks
D18: Sides
B22: =Lang!$B$6

Sheet Lang
A1: key | B1: =IFERROR(MATCH(Settings!$D$6,$C$1:$N$1,0),1) | C1: English | D1: Deutsch | E1: فارسی | F1: العربية | G1: Español | H1: Français | I1: Italiano | J1: 日本語 | K1: 한국어 | L1: Shqip | M1: Türkçe | N1: 中文
A2: nav_start | B2: =INDEX($C2:$N2,1,$B$1) | C2: ⌂ START | D2: ⌂ START | E2: ⌂ شروع | F2: ⌂ البداية | G2: ⌂ INICIO | H2: ⌂ ACCUEIL | I2: ⌂ INIZIO | J2: ⌂ スタート | K2: ⌂ 시작 | L2: ⌂ FILLIMI | M2: ⌂ BAŞLANGIÇ | N2: ⌂ 开始
A3: nav_dash | B3: =INDEX($C3:$N3,1,$B$1) | C3: ▣ DASHBOARD | D3: ▣ DASHBOARD | E3: ▣ داشبورد | F3: ▣ لوحة التحكم | G3: ▣ PANEL | H3: ▣ TABLEAU DE BORD | I3: ▣ DASHBOARD | J3: ▣ ダッシュボード | K3: ▣ 대시보드 | L3: ▣ PANELI | M3: ▣ PANO | N3: ▣ 仪表板
A4: nav_report | B4: =INDEX($C4:$N4,1,$B$1) | C4: ▤ REPORT | D4: ▤ BERICHT | E4: ▤ گزارش | F4: ▤ التقرير | G4: ▤ INFORME | H4: ▤ RAPPORT | I4: ▤ REPORT | J4: ▤ レポート | K4: ▤ 보고서 | L4: ▤ RAPORTI | M4: ▤ RAPOR | N4: ▤ 报告
A5: nav_set | B5: =INDEX($C5:$N5,1,$B$1) | C5: ⚙ SETTINGS | D5: ⚙ EINSTELLUNGEN | E5: ⚙ تنظیمات | F5: ⚙ الإعدادات | G5: ⚙ AJUSTES | H5: ⚙ PARAMÈTRES | I5: ⚙ IMPOSTAZIONI | J5: ⚙ 設定 | K5: ⚙ 설정 | L5: ⚙ CILËSIMET | M5: ⚙ AYARLAR | N5: ⚙ 设置
A6: license | B6: =INDEX($C6:$N6,1,$B$1) | C6: © 2026 KeyOne – Keywan Fakhri • keywanfakhri.com • Free for internal use. No resale, redistribution or removal of attribution. | D6: © 2026 KeyOne – Keywan Fakhri • keywanfakhri.com • Kostenlos für interne Nutzung. Kein Weiterverkauf, keine Weitergabe, Urhebervermerk nicht entfernen. | E6: © ۲۰۲۶ KeyOne – کیوان فخری • keywanfakhri.com • رایگان برای استفاده داخلی. فروش مجدد، توزیع یا حذف نام سازنده ممنوع است. | F6: © 2026 KeyOne – كيوان فخري • keywanfakhri.com • مجاني للاستخدام الداخلي. يُمنع إعادة البيع أو التوزيع أو حذف الإسناد. | G6: © 2026 KeyOne – Keywan Fakhri • keywanfakhri.com • Gratis para uso interno. Sin reventa, redistribución ni eliminar la atribución. | H6: © 2026 KeyOne – Keywan Fakhri • keywanfakhri.com • Gratuit pour un usage interne. Ni revente, ni redistribution, ni suppression de l’attribution. | I6: © 2026 KeyOne – Keywan Fakhri • keywanfakhri.com • Gratuito per uso interno. Vietati rivendita, ridistribuzione e rimozione dell’attribuzione. | J6: © 2026 KeyOne – Keywan Fakhri • keywanfakhri.com • 社内利用は無料。再販売・再配布・クレジット削除は禁止。 | K6: © 2026 KeyOne – Keywan Fakhri • keywanfakhri.com • 내부 사용 무료. 재판매·재배포·저작자 표시 삭제 금지. | L6: © 2026 KeyOne – Keywan Fakhri • keywanfakhri.com • Falas për përdorim të brendshëm. Ndalohen rishitja, rishpërndarja dhe heqja e atribuimit. | M6: © 2026 KeyOne – Keywan Fakhri • keywanfakhri.com • Dahili kullanım ücretsiz. Yeniden satış, dağıtım ve atıfın kaldırılması yasaktır. | N6: © 2026 KeyOne – Keywan Fakhri • keywanfakhri.com • 内部使用免费。禁止转售、再分发或删除署名。
A7: created | B7: =INDEX($C7:$N7,1,$B$1) | C7: CREATED BY | D7: ERSTELLT VON | E7: ساخته شده توسط | F7: من إعداد | G7: CREADO POR | H7: CRÉÉ PAR | I7: CREATO DA | J7: 作成者 | K7: 제작자 | L7: KRIJUAR NGA | M7: HAZIRLAYAN | N7: 作者
A8: role | B8: =INDEX($C8:$N8,1,$B$1) | C8: Industrial Engineer (M.Sc.) • Logistics, Warehouse & Data Analytics • Konstanz, Germany | D8: Wirtschaftsingenieur (M.Sc.) • Logistik, Lager & Datenanalyse • Konstanz | E8: مهندس صنایع (کارشناسی ارشد) • لجستیک، انبار و تحلیل داده • کنستانس، آلمان | F8: مهندس صناعي (ماجستير) • اللوجستيات والمستودعات وتحليل البيانات • كونستانس، ألمانيا | G8: Ingeniero industrial (M.Sc.) • Logística, almacén y análisis de datos • Constanza, Alemania | H8: Ingénieur industriel (M.Sc.) • Logistique, entrepôt et analyse de données • Constance, Allemagne | I8: Ingegnere gestionale (M.Sc.) • Logistica, magazzino e analisi dati • Costanza, Germania | J8: インダストリアル・エンジニア（修士） • 物流・倉庫・データ分析 • ドイツ・コンスタンツ | K8: 산업공학 석사 • 물류·창고·데이터 분석 • 독일 콘스탄츠 | L8: Inxhinier industrial (M.Sc.) • Logjistikë, magazinë dhe analizë të dhënash • Konstanz, Gjermani | M8: Endüstri Mühendisi (Y.L.) • Lojistik, depo ve veri analitiği • Konstanz, Almanya | N8: 工业工程硕士 • 物流、仓储与数据分析 • 德国康斯坦茨
A9: custom_v | B9: =INDEX($C9:$N9,1,$B$1) | C9: Need a version for your company? Get in touch: | D9: Eigene Version für Ihr Unternehmen? Kontakt: | E9: نسخه اختصاصی برای شرکت خود می‌خواهید؟ تماس: | F9: تحتاج نسخة لشركتك؟ تواصل معي: | G9: ¿Necesitas una versión para tu empresa? Contacto: | H9: Besoin d’une version pour votre entreprise ? Contact : | I9: Ti serve una versione per la tua azienda? Contatti: | J9: 自社向けバージョンのご相談： | K9: 회사 맞춤 버전이 필요하신가요? 연락처: | L9: Ju duhet një version për kompaninë tuaj? Kontakt: | M9: Şirketinize özel sürüm mü lazım? İletişim: | N9: 需要为贵公司定制？联系：
A10: nav_menu | B10: =INDEX($C10:$N10,1,$B$1) | C10: ☰ MENU | D10: ☰ SPEISEKARTE | E10: ☰ منو | F10: ☰ القائمة | G10: ☰ CARTA | H10: ☰ CARTE | I10: ☰ MENÙ | J10: ☰ メニュー | K10: ☰ 메뉴 | L10: ☰ MENUJA | M10: ☰ MENÜ | N10: ☰ 菜单
A11: nav_rec | B11: =INDEX($C11:$N11,1,$B$1) | C11: ✂ RECIPES | D11: ✂ REZEPTE | E11: ✂ دستور پخت | F11: ✂ الوصفات | G11: ✂ RECETAS | H11: ✂ RECETTES | I11: ✂ RICETTE | J11: ✂ レシピ | K11: ✂ 레시피 | L11: ✂ RECETAT | M11: ✂ REÇETELER | N11: ✂ 配方
A12: nav_ing | B12: =INDEX($C12:$N12,1,$B$1) | C12: ◉ INGREDIENTS | D12: ◉ ZUTATEN | E12: ◉ مواد اولیه | F12: ◉ المكونات | G12: ◉ INGREDIENTES | H12: ◉ INGRÉDIENTS | I12: ◉ INGREDIENTI | J12: ◉ 食材 | K12: ◉ 식재료 | L12: ◉ PËRBËRËSIT | M12: ◉ MALZEMELER | N12: ◉ 食材
A13: nav_sales | B13: =INDEX($C13:$N13,1,$B$1) | C13: ✎ SALES | D13: ✎ VERKÄUFE | E13: ✎ فروش | F13: ✎ المبيعات | G13: ✎ VENTAS | H13: ✎ VENTES | I13: ✎ VENDITE | J13: ✎ 売上 | K13: ✎ 판매 | L13: ✎ SHITJET | M13: ✎ SATIŞLAR | N13: ✎ 销售
... A155: sh_notes | B155: =INDEX($C155:$N155,1,$B$1) | C155: Notes (optional) | D155: Notizen (optional) | E155: یادداشت (اختیاری) | F155: ملاحظات (اختياري) | G155: Notas (opcional) | H155: Notes (facultatif) | I155: Note (facoltativo) | J155: メモ（任意） | K155: 메모(선택) | L155: Shënime (opsionale) | M155: Notlar (isteğe bağlı) | N155: 备注（可选）

Sheet Calc
A1: CALCULATION ENGINE – DO NOT EDIT | H1: years | J1: cats | L1: months
A2: year | B2: =Dashboard!B7 | H2: =$B$14+0 | J2: =Lang!$B$41 | L2: =Lang!$B$42
A3: base | B3: =Dashboard!E7 | H3: =$B$14+1 | J3: =IF(Settings!$D$14="","",Settings!$D$14) | L3: =Lang!$B$43
A4: isAll | B4: =OR(COUNTIF(Lang!$C$41:$N$41,Dashboard!H7)>0,Dashboard!H7="") | H4: =$B$14+2 | J4: =IF(Settings!$D$15="","",Settings!$D$15) | L4: =Lang!$B$44
A5: cat | B5: =Dashboard!H7 | H5: =$B$14+3 | J5: =IF(Settings!$D$16="","",Settings!$D$16) | L5: =Lang!$B$45
A6: month | B6: =ROUND(SUMPRODUCT((Lang!$C$43:$N$54=Dashboard!K7)*(ROW(Lang!$C$43:$N$54)-42))/MAX(1,COUNTIF(Lang!$C$43:$N$54,Dashboard!K7)),0) | H6: =$B$14+4 | J6: =IF(Settings!$D$17="","",Settings!$D$17) | L6: =Lang!$B$46
A7: lastDate | B7: =MAX(sDate) | H7: =$B$14+5 | J7: =IF(Settings!$D$18="","",Settings!$D$18) | L7: =Lang!$B$47
A8: pStart | B8: =DATE(B2,MAX(1,MIN(12,B6)),1) | H8: =$B$14+6 | J8: =IF(Settings!$D$19="","",Settings!$D$19) | L8: =Lang!$B$48
A9: pEnd | B9: =IF(B6=0,DATE(B2+1,1,1),EDATE(B8,1)) | H9: =$B$14+7 | L9: =Lang!$B$49
A10: effEnd | B10: =MAX(B8,MIN(B9,B7+1)) | H10: =$B$14+8 | L10: =Lang!$B$50
A11: shift | B11: =B2-B3 | H11: =$B$14+9 | L11: =Lang!$B$51
A12: bStart | B12: =EDATE(B8,-12*B11) | L12: =Lang!$B$52
A13: bEnd | B13: =EDATE(B10,-12*B11) | L13: =Lang!$B$53
A14: firstYear | B14: =Settings!$D$12 | L14: =Lang!$B$54
A15: totPort | B15: =SUM(G21:G60)
A16: nItems | B16: =COUNTIFS(F21:F60,1,G21:G60,">0")
A17: popThr | B17: =IF(B16=0,0,0.7*B15/B16)
A18: avgCM | B18: =IFERROR(SUM(K21:K60)/B15,0)
A20: k | B20: name | C20: cat | D20: price | E20: cost | F20: incl | G20: port | H20: bport | I20: sales | J20: fcost | K20: gp | L20: bsales | M20: bcost | N20: cm | O20: scX | P20: scY | Q20: rank | R20: priceM | S20: costM | T20: cls | U20: clsLbl | V20: act | W20: mix | X20: dogGP | Y20: cmM | AA20: lineX | AB20: lineY
A21: 1 | B21: =IF(Menu!B8="","",Menu!B8) | C21: =IF(Menu!C8="","",Menu!C8) | D21: =N(Menu!D8) | E21: =N(Menu!E8) | F21: =IF(AND(B21<>"",OR($B$4,C21=$B$5)),1,0) | G21: =IF(F21=1,SUMIFS(sPort,sItem,B21,sDate,">="&$B$8,sDate,"<"&$B$10),0) | H21: =IF(F21=1,SUMIFS(sPort,sItem,B21,sDate,">="&$B$12,sDate,"<"&$B$13),0) | I21: =G21*D21 | J21: =G21*E21 | K21: =I21-J21 | L21: =H21*D21 | M21: =H21*E21 | N21: =D21-E21 | O21: =IF(AND(F21=1,G21>0),G21,NA()) | P21: =IF(AND(F21=1,G21>0),N21,NA()) | Q21: =IF(AND(F21=1,K21>0),K21+ROW()/1000000,"") | R21: =IF(F21=1,D21,0) | S21: =IF(F21=1,E21,0) | T21: =IF(OR(F21=0,G21=0),"",IF(G21>=$B$17,IF(N21>=$B$18,1,2),IF(N21>=$B$18,3,4))) | U21: =IF(T21="","",CHOOSE(T21,Lang!$B$87,Lang!$B$88,Lang!$B$89,Lang!$B$90)) | V21: =IF(T21="","",CHOOSE(T21,Lang!$B$91,Lang!$B$92,Lang!$B$93,Lang!$B$94)) | W21: =IF(OR(F21=0,$B$15=0),"",G21/$B$15) | X21: =IF(T21=4,K21,"") | Y21: =IF(AND(F21=1,G21>0),N21,0) | AA21: =$B$17 | AB21: 0 | AD21: =IF(T21=1,N21,NA()) | AE21: =IF(T21=2,N21,NA()) | AF21: =IF(T21=3,N21,NA()) | AG21: =IF(T21=4,N21,NA())
A22: 2 | B22: =IF(Menu!B9="","",Menu!B9) | C22: =IF(Menu!C9="","",Menu!C9) | D22: =N(Menu!D9) | E22: =N(Menu!E9) | F22: =IF(AND(B22<>"",OR($B$4,C22=$B$5)),1,0) | G22: =IF(F22=1,SUMIFS(sPort,sItem,B22,sDate,">="&$B$8,sDate,"<"&$B$10),0) | H22: =IF(F22=1,SUMIFS(sPort,sItem,B22,sDate,">="&$B$12,sDate,"<"&$B$13),0) | I22: =G22*D22 | J22: =G22*E22 | K22: =I22-J22 | L22: =H22*D22 | M22: =H22*E22 | N22: =D22-E22 | O22: =IF(AND(F22=1,G22>0),G22,NA()) | P22: =IF(AND(F22=1,G22>0),N22,NA()) | Q22: =IF(AND(F22=1,K22>0),K22+ROW()/1000000,"") | R22: =IF(F22=1,D22,0) | S22: =IF(F22=1,E22,0) | T22: =IF(OR(F22=0,G22=0),"",IF(G22>=$B$17,IF(N22>=$B$18,1,2),IF(N22>=$B$18,3,4))) | U22: =IF(T22="","",CHOOSE(T22,Lang!$B$87,Lang!$B$88,Lang!$B$89,Lang!$B$90)) | V22: =IF(T22="","",CHOOSE(T22,Lang!$B$91,Lang!$B$92,Lang!$B$93,Lang!$B$94)) | W22: =IF(OR(F22=0,$B$15=0),"",G22/$B$15) | X22: =IF(T22=4,K22,"") | Y22: =IF(AND(F22=1,G22>0),N22,0) | AA22: =$B$17 | AB22: =MAX(1,MAX($Y$21:$Y$60)*1.1) | AD22: =IF(T22=1,N22,NA()) | AE22: =IF(T22=2,N22,NA()) | AF22: =IF(T22=3,N22,NA()) | AG22: =IF(T22=4,N22,NA())
A23: 3 | B23: =IF(Menu!B10="","",Menu!B10) | C23: =IF(Menu!C10="","",Menu!C10) | D23: =N(Menu!D10) | E23: =N(Menu!E10) | F23: =IF(AND(B23<>"",OR($B$4,C23=$B$5)),1,0) | G23: =IF(F23=1,SUMIFS(sPort,sItem,B23,sDate,">="&$B$8,sDate,"<"&$B$10),0) | H23: =IF(F23=1,SUMIFS(sPort,sItem,B23,sDate,">="&$B$12,sDate,"<"&$B$13),0) | I23: =G23*D23 | J23: =G23*E23 | K23: =I23-J23 | L23: =H23*D23 | M23: =H23*E23 | N23: =D23-E23 | O23: =IF(AND(F23=1,G23>0),G23,NA()) | P23: =IF(AND(F23=1,G23>0),N23,NA()) | Q23: =IF(AND(F23=1,K23>0),K23+ROW()/1000000,"") | R23: =IF(F23=1,D23,0) | S23: =IF(F23=1,E23,0) | T23: =IF(OR(F23=0,G23=0),"",IF(G23>=$B$17,IF(N23>=$B$18,1,2),IF(N23>=$B$18,3,4))) | U23: =IF(T23="","",CHOOSE(T23,Lang!$B$87,Lang!$B$88,Lang!$B$89,Lang!$B$90)) | V23: =IF(T23="","",CHOOSE(T23,Lang!$B$91,Lang!$B$92,Lang!$B$93,Lang!$B$94)) | W23: =IF(OR(F23=0,$B$15=0),"",G23/$B$15) | X23: =IF(T23=4,K23,"") | Y23: =IF(AND(F23=1,G23>0),N23,0) | AD23: =IF(T23=1,N23,NA()) | AE23: =IF(T23=2,N23,NA()) | AF23: =IF(T23=3,N23,NA()) | AG23: =IF(T23=4,N23,NA())
A24: 4 | B24: =IF(Menu!B11="","",Menu!B11) | C24: =IF(Menu!C11="","",Menu!C11) | D24: =N(Menu!D11) | E24: =N(Menu!E11) | F24: =IF(AND(B24<>"",OR($B$4,C24=$B$5)),1,0) | G24: =IF(F24=1,SUMIFS(sPort,sItem,B24,sDate,">="&$B$8,sDate,"<"&$B$10),0) | H24: =IF(F24=1,SUMIFS(sPort,sItem,B24,sDate,">="&$B$12,sDate,"<"&$B$13),0) | I24: =G24*D24 | J24: =G24*E24 | K24: =I24-J24 | L24: =H24*D24 | M24: =H24*E24 | N24: =D24-E24 | O24: =IF(AND(F24=1,G24>0),G24,NA()) | P24: =IF(AND(F24=1,G24>0),N24,NA()) | Q24: =IF(AND(F24=1,K24>0),K24+ROW()/1000000,"") | R24: =IF(F24=1,D24,0) | S24: =IF(F24=1,E24,0) | T24: =IF(OR(F24=0,G24=0),"",IF(G24>=$B$17,IF(N24>=$B$18,1,2),IF(N24>=$B$18,3,4))) | U24: =IF(T24="","",CHOOSE(T24,Lang!$B$87,Lang!$B$88,Lang!$B$89,Lang!$B$90)) | V24: =IF(T24="","",CHOOSE(T24,Lang!$B$91,Lang!$B$92,Lang!$B$93,Lang!$B$94)) | W24: =IF(OR(F24=0,$B$15=0),"",G24/$B$15) | X24: =IF(T24=4,K24,"") | Y24: =IF(AND(F24=1,G24>0),N24,0) | AA24: 0 | AB24: =$B$18 | AD24: =IF(T24=1,N24,NA()) | AE24: =IF(T24=2,N24,NA()) | AF24: =IF(T24=3,N24,NA()) | AG24: =IF(T24=4,N24,NA())
A25: 5 | B25: =IF(Menu!B12="","",Menu!B12) | C25: =IF(Menu!C12="","",Menu!C12) | D25: =N(Menu!D12) | E25: =N(Menu!E12) | F25: =IF(AND(B25<>"",OR($B$4,C25=$B$5)),1,0) | G25: =IF(F25=1,SUMIFS(sPort,sItem,B25,sDate,">="&$B$8,sDate,"<"&$B$10),0) | H25: =IF(F25=1,SUMIFS(sPort,sItem,B25,sDate,">="&$B$12,sDate,"<"&$B$13),0) | I25: =G25*D25 | J25: =G25*E25 | K25: =I25-J25 | L25: =H25*D25 | M25: =H25*E25 | N25: =D25-E25 | O25: =IF(AND(F25=1,G25>0),G25,NA()) | P25: =IF(AND(F25=1,G25>0),N25,NA()) | Q25: =IF(AND(F25=1,K25>0),K25+ROW()/1000000,"") | R25: =IF(F25=1,D25,0) | S25: =IF(F25=1,E25,0) | T25: =IF(OR(F25=0,G25=0),"",IF(G25>=$B$17,IF(N25>=$B$18,1,2),IF(N25>=$B$18,3,4))) | U25: =IF(T25="","",CHOOSE(T25,Lang!$B$87,Lang!$B$88,Lang!$B$89,Lang!$B$90)) | V25: =IF(T25="","",CHOOSE(T25,Lang!$B$91,Lang!$B$92,Lang!$B$93,Lang!$B$94)) | W25: =IF(OR(F25=0,$B$15=0),"",G25/$B$15) | X25: =IF(T25=4,K25,"") | Y25: =IF(AND(F25=1,G25>0),N25,0) | AA25: =MAX(1,MAX($G$21:$G$60)*1.05) | AB25: =$B$18 | AD25: =IF(T25=1,N25,NA()) | AE25: =IF(T25=2,N25,NA()) | AF25: =IF(T25=3,N25,NA()) | AG25: =IF(T25=4,N25,NA())
A26: 6 | B26: =IF(Menu!B13="","",Menu!B13) | C26: =IF(Menu!C13="","",Menu!C13) | D26: =N(Menu!D13) | E26: =N(Menu!E13) | F26: =IF(AND(B26<>"",OR($B$4,C26=$B$5)),1,0) | G26: =IF(F26=1,SUMIFS(sPort,sItem,B26,sDate,">="&$B$8,sDate,"<"&$B$10),0) | H26: =IF(F26=1,SUMIFS(sPort,sItem,B26,sDate,">="&$B$12,sDate,"<"&$B$13),0) | I26: =G26*D26 | J26: =G26*E26 | K26: =I26-J26 | L26: =H26*D26 | M26: =H26*E26 | N26: =D26-E26 | O26: =IF(AND(F26=1,G26>0),G26,NA()) | P26: =IF(AND(F26=1,G26>0),N26,NA()) | Q26: =IF(AND(F26=1,K26>0),K26+ROW()/1000000,"") | R26: =IF(F26=1,D26,0) | S26: =IF(F26=1,E26,0) | T26: =IF(OR(F26=0,G26=0),"",IF(G26>=$B$17,IF(N26>=$B$18,1,2),IF(N26>=$B$18,3,4))) | U26: =IF(T26="","",CHOOSE(T26,Lang!$B$87,Lang!$B$88,Lang!$B$89,Lang!$B$90)) | V26: =IF(T26="","",CHOOSE(T26,Lang!$B$91,Lang!$B$92,Lang!$B$93,Lang!$B$94)) | W26: =IF(OR(F26=0,$B$15=0),"",G26/$B$15) | X26: =IF(T26=4,K26,"") | Y26: =IF(AND(F26=1,G26>0),N26,0) | AD26: =IF(T26=1,N26,NA()) | AE26: =IF(T26=2,N26,NA()) | AF26: =IF(T26=3,N26,NA()) | AG26: =IF(T26=4,N26,NA())
A27: 7 | B27: =IF(Menu!B14="","",Menu!B14) | C27: =IF(Menu!C14="","",Menu!C14) | D27: =N(Menu!D14) | E27: =N(Menu!E14) | F27: =IF(AND(B27<>"",OR($B$4,C27=$B$5)),1,0) | G27: =IF(F27=1,SUMIFS(sPort,sItem,B27,sDate,">="&$B$8,sDate,"<"&$B$10),0) | H27: =IF(F27=1,SUMIFS(sPort,sItem,B27,sDate,">="&$B$12,sDate,"<"&$B$13),0) | I27: =G27*D27 | J27: =G27*E27 | K27: =I27-J27 | L27: =H27*D27 | M27: =H27*E27 | N27: =D27-E27 | O27: =IF(AND(F27=1,G27>0),G27,NA()) | P27: =IF(AND(F27=1,G27>0),N27,NA()) | Q27: =IF(AND(F27=1,K27>0),K27+ROW()/1000000,"") | R27: =IF(F27=1,D27,0) | S27: =IF(F27=1,E27,0) | T27: =IF(OR(F27=0,G27=0),"",IF(G27>=$B$17,IF(N27>=$B$18,1,2),IF(N27>=$B$18,3,4))) | U27: =IF(T27="","",CHOOSE(T27,Lang!$B$87,Lang!$B$88,Lang!$B$89,Lang!$B$90)) | V27: =IF(T27="","",CHOOSE(T27,Lang!$B$91,Lang!$B$92,Lang!$B$93,Lang!$B$94)) | W27: =IF(OR(F27=0,$B$15=0),"",G27/$B$15) | X27: =IF(T27=4,K27,"") | Y27: =IF(AND(F27=1,G27>0),N27,0) | AD27: =IF(T27=1,N27,NA()) | AE27: =IF(T27=2,N27,NA()) | AF27: =IF(T27=3,N27,NA()) | AG27: =IF(T27=4,N27,NA())
A28: 8 | B28: =IF(Menu!B15="","",Menu!B15) | C28: =IF(Menu!C15="","",Menu!C15) | D28: =N(Menu!D15) | E28: =N(Menu!E15) | F28: =IF(AND(B28<>"",OR($B$4,C28=$B$5)),1,0) | G28: =IF(F28=1,SUMIFS(sPort,sItem,B28,sDate,">="&$B$8,sDate,"<"&$B$10),0) | H28: =IF(F28=1,SUMIFS(sPort,sItem,B28,sDate,">="&$B$12,sDate,"<"&$B$13),0) | I28: =G28*D28 | J28: =G28*E28 | K28: =I28-J28 | L28: =H28*D28 | M28: =H28*E28 | N28: =D28-E28 | O28: =IF(AND(F28=1,G28>0),G28,NA()) | P28: =IF(AND(F28=1,G28>0),N28,NA()) | Q28: =IF(AND(F28=1,K28>0),K28+ROW()/1000000,"") | R28: =IF(F28=1,D28,0) | S28: =IF(F28=1,E28,0) | T28: =IF(OR(F28=0,G28=0),"",IF(G28>=$B$17,IF(N28>=$B$18,1,2),IF(N28>=$B$18,3,4))) | U28: =IF(T28="","",CHOOSE(T28,Lang!$B$87,Lang!$B$88,Lang!$B$89,Lang!$B$90)) | V28: =IF(T28="","",CHOOSE(T28,Lang!$B$91,Lang!$B$92,Lang!$B$93,Lang!$B$94)) | W28: =IF(OR(F28=0,$B$15=0),"",G28/$B$15) | X28: =IF(T28=4,K28,"") | Y28: =IF(AND(F28=1,G28>0),N28,0) | AD28: =IF(T28=1,N28,NA()) | AE28: =IF(T28=2,N28,NA()) | AF28: =IF(T28=3,N28,NA()) | AG28: =IF(T28=4,N28,NA())
A29: 9 | B29: =IF(Menu!B16="","",Menu!B16) | C29: =IF(Menu!C16="","",Menu!C16) | D29: =N(Menu!D16) | E29: =N(Menu!E16) | F29: =IF(AND(B29<>"",OR($B$4,C29=$B$5)),1,0) | G29: =IF(F29=1,SUMIFS(sPort,sItem,B29,sDate,">="&$B$8,sDate,"<"&$B$10),0) | H29: =IF(F29=1,SUMIFS(sPort,sItem,B29,sDate,">="&$B$12,sDate,"<"&$B$13),0) | I29: =G29*D29 | J29: =G29*E29 | K29: =I29-J29 | L29: =H29*D29 | M29: =H29*E29 | N29: =D29-E29 | O29: =IF(AND(F29=1,G29>0),G29,NA()) | P29: =IF(AND(F29=1,G29>0),N29,NA()) | Q29: =IF(AND(F29=1,K29>0),K29+ROW()/1000000,"") | R29: =IF(F29=1,D29,0) | S29: =IF(F29=1,E29,0) | T29: =IF(OR(F29=0,G29=0),"",IF(G29>=$B$17,IF(N29>=$B$18,1,2),IF(N29>=$B$18,3,4))) | U29: =IF(T29="","",CHOOSE(T29,Lang!$B$87,Lang!$B$88,Lang!$B$89,Lang!$B$90)) | V29: =IF(T29="","",CHOOSE(T29,Lang!$B$91,Lang!$B$92,Lang!$B$93,Lang!$B$94)) | W29: =IF(OR(F29=0,$B$15=0),"",G29/$B$15) | X29: =IF(T29=4,K29,"") | Y29: =IF(AND(F29=1,G29>0),N29,0) | AD29: =IF(T29=1,N29,NA()) | AE29: =IF(T29=2,N29,NA()) | AF29: =IF(T29=3,N29,NA()) | AG29: =IF(T29=4,N29,NA())
A30: 10 | B30: =IF(Menu!B17="","",Menu!B17) | C30: =IF(Menu!C17="","",Menu!C17) | D30: =N(Menu!D17) | E30: =N(Menu!E17) | F30: =IF(AND(B30<>"",OR($B$4,C30=$B$5)),1,0) | G30: =IF(F30=1,SUMIFS(sPort,sItem,B30,sDate,">="&$B$8,sDate,"<"&$B$10),0) | H30: =IF(F30=1,SUMIFS(sPort,sItem,B30,sDate,">="&$B$12,sDate,"<"&$B$13),0) | I30: =G30*D30 | J30: =G30*E30 | K30: =I30-J30 | L30: =H30*D30 | M30: =H30*E30 | N30: =D30-E30 | O30: =IF(AND(F30=1,G30>0),G30,NA()) | P30: =IF(AND(F30=1,G30>0),N30,NA()) | Q30: =IF(AND(F30=1,K30>0),K30+ROW()/1000000,"") | R30: =IF(F30=1,D30,0) | S30: =IF(F30=1,E30,0) | T30: =IF(OR(F30=0,G30=0),"",IF(G30>=$B$17,IF(N30>=$B$18,1,2),IF(N30>=$B$18,3,4))) | U30: =IF(T30="","",CHOOSE(T30,Lang!$B$87,Lang!$B$88,Lang!$B$89,Lang!$B$90)) | V30: =IF(T30="","",CHOOSE(T30,Lang!$B$91,Lang!$B$92,Lang!$B$93,Lang!$B$94)) | W30: =IF(OR(F30=0,$B$15=0),"",G30/$B$15) | X30: =IF(T30=4,K30,"") | Y30: =IF(AND(F30=1,G30>0),N30,0) | AD30: =IF(T30=1,N30,NA()) | AE30: =IF(T30=2,N30,NA()) | AF30: =IF(T30=3,N30,NA()) | AG30: =IF(T30=4,N30,NA())
A31: 11 | B31: =IF(Menu!B18="","",Menu!B18) | C31: =IF(Menu!C18="","",Menu!C18) | D31: =N(Menu!D18) | E31: =N(Menu!E18) | F31: =IF(AND(B31<>"",OR($B$4,C31=$B$5)),1,0) | G31: =IF(F31=1,SUMIFS(sPort,sItem,B31,sDate,">="&$B$8,sDate,"<"&$B$10),0) | H31: =IF(F31=1,SUMIFS(sPort,sItem,B31,sDate,">="&$B$12,sDate,"<"&$B$13),0) | I31: =G31*D31 | J31: =G31*E31 | K31: =I31-J31 | L31: =H31*D31 | M31: =H31*E31 | N31: =D31-E31 | O31: =IF(AND(F31=1,G31>0),G31,NA()) | P31: =IF(AND(F31=1,G31>0),N31,NA()) | Q31: =IF(AND(F31=1,K31>0),K31+ROW()/1000000,"") | R31: =IF(F31=1,D31,0) | S31: =IF(F31=1,E31,0) | T31: =IF(OR(F31=0,G31=0),"",IF(G31>=$B$17,IF(N31>=$B$18,1,2),IF(N31>=$B$18,3,4))) | U31: =IF(T31="","",CHOOSE(T31,Lang!$B$87,Lang!$B$88,Lang!$B$89,Lang!$B$90)) | V31: =IF(T31="","",CHOOSE(T31,Lang!$B$91,Lang!$B$92,Lang!$B$93,Lang!$B$94)) | W31: =IF(OR(F31=0,$B$15=0),"",G31/$B$15) | X31: =IF(T31=4,K31,"") | Y31: =IF(AND(F31=1,G31>0),N31,0) | AD31: =IF(T31=1,N31,NA()) | AE31: =IF(T31=2,N31,NA()) | AF31: =IF(T31=3,N31,NA()) | AG31: =IF(T31=4,N31,NA())
A32: 12 | B32: =IF(Menu!B19="","",Menu!B19) | C32: =IF(Menu!C19="","",Menu!C19) | D32: =N(Menu!D19) | E32: =N(Menu!E19) | F32: =IF(AND(B32<>"",OR($B$4,C32=$B$5)),1,0) | G32: =IF(F32=1,SUMIFS(sPort,sItem,B32,sDate,">="&$B$8,sDate,"<"&$B$10),0) | H32: =IF(F32=1,SUMIFS(sPort,sItem,B32,sDate,">="&$B$12,sDate,"<"&$B$13),0) | I32: =G32*D32 | J32: =G32*E32 | K32: =I32-J32 | L32: =H32*D32 | M32: =H32*E32 | N32: =D32-E32 | O32: =IF(AND(F32=1,G32>0),G32,NA()) | P32: =IF(AND(F32=1,G32>0),N32,NA()) | Q32: =IF(AND(F32=1,K32>0),K32+ROW()/1000000,"") | R32: =IF(F32=1,D32,0) | S32: =IF(F32=1,E32,0) | T32: =IF(OR(F32=0,G32=0),"",IF(G32>=$B$17,IF(N32>=$B$18,1,2),IF(N32>=$B$18,3,4))) | U32: =IF(T32="","",CHOOSE(T32,Lang!$B$87,Lang!$B$88,Lang!$B$89,Lang!$B$90)) | V32: =IF(T32="","",CHOOSE(T32,Lang!$B$91,Lang!$B$92,Lang!$B$93,Lang!$B$94)) | W32: =IF(OR(F32=0,$B$15=0),"",G32/$B$15) | X32: =IF(T32=4,K32,"") | Y32: =IF(AND(F32=1,G32>0),N32,0) | AD32: =IF(T32=1,N32,NA()) | AE32: =IF(T32=2,N32,NA()) | AF32: =IF(T32=3,N32,NA()) | AG32: =IF(T32=4,N32,NA())
A33: 13 | B33: =IF(Menu!B20="","",Menu!B20) | C33: =IF(Menu!C20="","",Menu!C20) | D33: =N(Menu!D20) | E33: =N(Menu!E20) | F33: =IF(AND(B33<>"",OR($B$4,C33=$B$5)),1,0) | G33: =IF(F33=1,SUMIFS(sPort,sItem,B33,sDate,">="&$B$8,sDate,"<"&$B$10),0) | H33: =IF(F33=1,SUMIFS(sPort,sItem,B33,sDate,">="&$B$12,sDate,"<"&$B$13),0) | I33: =G33*D33 | J33: =G33*E33 | K33: =I33-J33 | L33: =H33*D33 | M33: =H33*E33 | N33: =D33-E33 | O33: =IF(AND(F33=1,G33>0),G33,NA()) | P33: =IF(AND(F33=1,G33>0),N33,NA()) | Q33: =IF(AND(F33=1,K33>0),K33+ROW()/1000000,"") | R33: =IF(F33=1,D33,0) | S33: =IF(F33=1,E33,0) | T33: =IF(OR(F33=0,G33=0),"",IF(G33>=$B$17,IF(N33>=$B$18,1,2),IF(N33>=$B$18,3,4))) | U33: =IF(T33="","",CHOOSE(T33,Lang!$B$87,Lang!$B$88,Lang!$B$89,Lang!$B$90)) | V33: =IF(T33="","",CHOOSE(T33,Lang!$B$91,Lang!$B$92,Lang!$B$93,Lang!$B$94)) | W33: =IF(OR(F33=0,$B$15=0),"",G33/$B$15) | X33: =IF(T33=4,K33,"") | Y33: =IF(AND(F33=1,G33>0),N33,0) | AD33: =IF(T33=1,N33,NA()) | AE33: =IF(T33=2,N33,NA()) | AF33: =IF(T33=3,N33,NA()) | AG33: =IF(T33=4,N33,NA())
A34: 14 | B34: =IF(Menu!B21="","",Menu!B21) | C34: =IF(Menu!C21="","",Menu!C21) | D34: =N(Menu!D21) | E34: =N(Menu!E21) | F34: =IF(AND(B34<>"",OR($B$4,C34=$B$5)),1,0) | G34: =IF(F34=1,SUMIFS(sPort,sItem,B34,sDate,">="&$B$8,sDate,"<"&$B$10),0) | H34: =IF(F34=1,SUMIFS(sPort,sItem,B34,sDate,">="&$B$12,sDate,"<"&$B$13),0) | I34: =G34*D34 | J34: =G34*E34 | K34: =I34-J34 | L34: =H34*D34 | M34: =H34*E34 | N34: =D34-E34 | O34: =IF(AND(F34=1,G34>0),G34,NA()) | P34: =IF(AND(F34=1,G34>0),N34,NA()) | Q34: =IF(AND(F34=1,K34>0),K34+ROW()/1000000,"") | R34: =IF(F34=1,D34,0) | S34: =IF(F34=1,E34,0) | T34: =IF(OR(F34=0,G34=0),"",IF(G34>=$B$17,IF(N34>=$B$18,1,2),IF(N34>=$B$18,3,4))) | U34: =IF(T34="","",CHOOSE(T34,Lang!$B$87,Lang!$B$88,Lang!$B$89,Lang!$B$90)) | V34: =IF(T34="","",CHOOSE(T34,Lang!$B$91,Lang!$B$92,Lang!$B$93,Lang!$B$94)) | W34: =IF(OR(F34=0,$B$15=0),"",G34/$B$15) | X34: =IF(T34=4,K34,"") | Y34: =IF(AND(F34=1,G34>0),N34,0) | AD34: =IF(T34=1,N34,NA()) | AE34: =IF(T34=2,N34,NA()) | AF34: =IF(T34=3,N34,NA()) | AG34: =IF(T34=4,N34,NA())
A35: 15 | B35: =IF(Menu!B22="","",Menu!B22) | C35: =IF(Menu!C22="","",Menu!C22) | D35: =N(Menu!D22) | E35: =N(Menu!E22) | F35: =IF(AND(B35<>"",OR($B$4,C35=$B$5)),1,0) | G35: =IF(F35=1,SUMIFS(sPort,sItem,B35,sDate,">="&$B$8,sDate,"<"&$B$10),0) | H35: =IF(F35=1,SUMIFS(sPort,sItem,B35,sDate,">="&$B$12,sDate,"<"&$B$13),0) | I35: =G35*D35 | J35: =G35*E35 | K35: =I35-J35 | L35: =H35*D35 | M35: =H35*E35 | N35: =D35-E35 | O35: =IF(AND(F35=1,G35>0),G35,NA()) | P35: =IF(AND(F35=1,G35>0),N35,NA()) | Q35: =IF(AND(F35=1,K35>0),K35+ROW()/1000000,"") | R35: =IF(F35=1,D35,0) | S35: =IF(F35=1,E35,0) | T35: =IF(OR(F35=0,G35=0),"",IF(G35>=$B$17,IF(N35>=$B$18,1,2),IF(N35>=$B$18,3,4))) | U35: =IF(T35="","",CHOOSE(T35,Lang!$B$87,Lang!$B$88,Lang!$B$89,Lang!$B$90)) | V35: =IF(T35="","",CHOOSE(T35,Lang!$B$91,Lang!$B$92,Lang!$B$93,Lang!$B$94)) | W35: =IF(OR(F35=0,$B$15=0),"",G35/$B$15) | X35: =IF(T35=4,K35,"") | Y35: =IF(AND(F35=1,G35>0),N35,0) | AD35: =IF(T35=1,N35,NA()) | AE35: =IF(T35=2,N35,NA()) | AF35: =IF(T35=3,N35,NA()) | AG35: =IF(T35=4,N35,NA())
A36: 16 | B36: =IF(Menu!B23="","",Menu!B23) | C36: =IF(Menu!C23="","",Menu!C23) | D36: =N(Menu!D23) | E36: =N(Menu!E23) | F36: =IF(AND(B36<>"",OR($B$4,C36=$B$5)),1,0) | G36: =IF(F36=1,SUMIFS(sPort,sItem,B36,sDate,">="&$B$8,sDate,"<"&$B$10),0) | H36: =IF(F36=1,SUMIFS(sPort,sItem,B36,sDate,">="&$B$12,sDate,"<"&$B$13),0) | I36: =G36*D36 | J36: =G36*E36 | K36: =I36-J36 | L36: =H36*D36 | M36: =H36*E36 | N36: =D36-E36 | O36: =IF(AND(F36=1,G36>0),G36,NA()) | P36: =IF(AND(F36=1,G36>0),N36,NA()) | Q36: =IF(AND(F36=1,K36>0),K36+ROW()/1000000,"") | R36: =IF(F36=1,D36,0) | S36: =IF(F36=1,E36,0) | T36: =IF(OR(F36=0,G36=0),"",IF(G36>=$B$17,IF(N36>=$B$18,1,2),IF(N36>=$B$18,3,4))) | U36: =IF(T36="","",CHOOSE(T36,Lang!$B$87,Lang!$B$88,Lang!$B$89,Lang!$B$90)) | V36: =IF(T36="","",CHOOSE(T36,Lang!$B$91,Lang!$B$92,Lang!$B$93,Lang!$B$94)) | W36: =IF(OR(F36=0,$B$15=0),"",G36/$B$15) | X36: =IF(T36=4,K36,"") | Y36: =IF(AND(F36=1,G36>0),N36,0) | AD36: =IF(T36=1,N36,NA()) | AE36: =IF(T36=2,N36,NA()) | AF36: =IF(T36=3,N36,NA()) | AG36: =IF(T36=4,N36,NA())
A37: 17 | B37: =IF(Menu!B24="","",Menu!B24) | C37: =IF(Menu!C24="","",Menu!C24) | D37: =N(Menu!D24) | E37: =N(Menu!E24) | F37: =IF(AND(B37<>"",OR($B$4,C37=$B$5)),1,0) | G37: =IF(F37=1,SUMIFS(sPort,sItem,B37,sDate,">="&$B$8,sDate,"<"&$B$10),0) | H37: =IF(F37=1,SUMIFS(sPort,sItem,B37,sDate,">="&$B$12,sDate,"<"&$B$13),0) | I37: =G37*D37 | J37: =G37*E37 | K37: =I37-J37 | L37: =H37*D37 | M37: =H37*E37 | N37: =D37-E37 | O37: =IF(AND(F37=1,G37>0),G37,NA()) | P37: =IF(AND(F37=1,G37>0),N37,NA()) | Q37: =IF(AND(F37=1,K37>0),K37+ROW()/1000000,"") | R37: =IF(F37=1,D37,0) | S37: =IF(F37=1,E37,0) | T37: =IF(OR(F37=0,G37=0),"",IF(G37>=$B$17,IF(N37>=$B$18,1,2),IF(N37>=$B$18,3,4))) | U37: =IF(T37="","",CHOOSE(T37,Lang!$B$87,Lang!$B$88,Lang!$B$89,Lang!$B$90)) | V37: =IF(T37="","",CHOOSE(T37,Lang!$B$91,Lang!$B$92,Lang!$B$93,Lang!$B$94)) | W37: =IF(OR(F37=0,$B$15=0),"",G37/$B$15) | X37: =IF(T37=4,K37,"") | Y37: =IF(AND(F37=1,G37>0),N37,0) | AD37: =IF(T37=1,N37,NA()) | AE37: =IF(T37=2,N37,NA()) | AF37: =IF(T37=3,N37,NA()) | AG37: =IF(T37=4,N37,NA())
... A60: 40 | B60: =IF(Menu!B47="","",Menu!B47) | C60: =IF(Menu!C47="","",Menu!C47) | D60: =N(Menu!D47) | E60: =N(Menu!E47) | F60: =IF(AND(B60<>"",OR($B$4,C60=$B$5)),1,0) | G60: =IF(F60=1,SUMIFS(sPort,sItem,B60,sDate,">="&$B$8,sDate,"<"&$B$10),0) | H60: =IF(F60=1,SUMIFS(sPort,sItem,B60,sDate,">="&$B$12,sDate,"<"&$B$13),0) | I60: =G60*D60 | J60: =G60*E60 | K60: =I60-J60 | L60: =H60*D60 | M60: =H60*E60 | N60: =D60-E60 | O60: =IF(AND(F60=1,G60>0),G60,NA()) | P60: =IF(AND(F60=1,G60>0),N60,NA()) | Q60: =IF(AND(F60=1,K60>0),K60+ROW()/1000000,"") | R60: =IF(F60=1,D60,0) | S60: =IF(F60=1,E60,0) | T60: =IF(OR(F60=0,G60=0),"",IF(G60>=$B$17,IF(N60>=$B$18,1,2),IF(N60>=$B$18,3,4))) | U60: =IF(T60="","",CHOOSE(T60,Lang!$B$87,Lang!$B$88,Lang!$B$89,Lang!$B$90)) | V60: =IF(T60="","",CHOOSE(T60,Lang!$B$91,Lang!$B$92,Lang!$B$93,Lang!$B$94)) | W60: =IF(OR(F60=0,$B$15=0),"",G60/$B$15) | X60: =IF(T60=4,K60,"") | Y60: =IF(AND(F60=1,G60>0),N60,0) | AD60: =IF(T60=1,N60,NA()) | AE60: =IF(T60=2,N60,NA()) | AF60: =IF(T60=3,N60,NA()) | AG60: =IF(T60=4,N60,NA())
A69: m | B69: label | C69: start | D69: end | E69: has | F69: sales | G69: cost | H69: fc | I69: gp | J69: port | K69: bStart | L69: bEnd | M69: bSales | N69: bCost | O69: delta | P69: chS | Q69: chB | R69: chFC | S69: chT | T69: bShow
A70: 1 | B70: =Lang!$B$43 | C70: =DATE($B$2,A70,1) | D70: =MIN(EDATE(C70,1),$B$7+1) | E70: =D70>C70 | F70: =IF(E70,SUMPRODUCT($R$21:$R$60,SUMIFS(sPort,sItem,$B$21:$B$60,sDate,">="&C70,sDate,"<"&D70)),0) | G70: =IF(E70,SUMPRODUCT($S$21:$S$60,SUMIFS(sPort,sItem,$B$21:$B$60,sDate,">="&C70,sDate,"<"&D70)),0) | H70: =IF(F70>0,G70/F70,"") | I70: =F70-G70 | J70: =IF(E70,SUMPRODUCT($F$21:$F$60,SUMIFS(sPort,sItem,$B$21:$B$60,sDate,">="&C70,sDate,"<"&D70)),0) | K70: =DATE($B$3,A70,1) | L70: =IF(E70,EDATE(D70,-12*$B$11),EDATE(K70,1)) | M70: =SUMPRODUCT($R$21:$R$60,SUMIFS(sPort,sItem,$B$21:$B$60,sDate,">="&K70,sDate,"<"&L70)) | N70: =SUMPRODUCT($S$21:$S$60,SUMIFS(sPort,sItem,$B$21:$B$60,sDate,">="&K70,sDate,"<"&L70)) | O70: =IF(AND(F70>0,M70>0),F70/M70-1,"") | P70: =IF(F70>0,F70,NA()) | Q70: =IF(U70>0,U70,NA()) | R70: =IF(H70="",NA(),H70) | S70: =Settings!$D$10 | T70: =IF(F70>0,M70,"") | U70: =SUMPRODUCT($R$21:$R$60,SUMIFS(sPort,sItem,$B$21:$B$60,sDate,">="&K70,sDate,"<"&EDATE(K70,1)))
A71: 2 | B71: =Lang!$B$44 | C71: =DATE($B$2,A71,1) | D71: =MIN(EDATE(C71,1),$B$7+1) | E71: =D71>C71 | F71: =IF(E71,SUMPRODUCT($R$21:$R$60,SUMIFS(sPort,sItem,$B$21:$B$60,sDate,">="&C71,sDate,"<"&D71)),0) | G71: =IF(E71,SUMPRODUCT($S$21:$S$60,SUMIFS(sPort,sItem,$B$21:$B$60,sDate,">="&C71,sDate,"<"&D71)),0) | H71: =IF(F71>0,G71/F71,"") | I71: =F71-G71 | J71: =IF(E71,SUMPRODUCT($F$21:$F$60,SUMIFS(sPort,sItem,$B$21:$B$60,sDate,">="&C71,sDate,"<"&D71)),0) | K71: =DATE($B$3,A71,1) | L71: =IF(E71,EDATE(D71,-12*$B$11),EDATE(K71,1)) | M71: =SUMPRODUCT($R$21:$R$60,SUMIFS(sPort,sItem,$B$21:$B$60,sDate,">="&K71,sDate,"<"&L71)) | N71: =SUMPRODUCT($S$21:$S$60,SUMIFS(sPort,sItem,$B$21:$B$60,sDate,">="&K71,sDate,"<"&L71)) | O71: =IF(AND(F71>0,M71>0),F71/M71-1,"") | P71: =IF(F71>0,F71,NA()) | Q71: =IF(U71>0,U71,NA()) | R71: =IF(H71="",NA(),H71) | S71: =Settings!$D$10 | T71: =IF(F71>0,M71,"") | U71: =SUMPRODUCT($R$21:$R$60,SUMIFS(sPort,sItem,$B$21:$B$60,sDate,">="&K71,sDate,"<"&EDATE(K71,1)))
...
