Workbook

Sheet START
B2: K1 | F2: ="KEYONE / "&Lang!$B$43
F4: =Lang!$B$44
B7: =HYPERLINK("#'START'!A1",Lang!$B$2) | D7: =HYPERLINK("#'Dashboard'!A1",Lang!$B$3) | F7: =HYPERLINK("#'Roster'!A1",Lang!$B$39) | H7: =HYPERLINK("#'Shifts'!A1",Lang!$B$40) | J7: =HYPERLINK("#'Leave'!A1",Lang!$B$41) | L7: =HYPERLINK("#'Staff'!A1",Lang!$B$42) | N7: =HYPERLINK("#'Settings'!A1",Lang!$B$4)
B9: =Lang!$B$45
B13: 01 | E13: =Lang!$B$46
E14: =Lang!$B$47
B17: 02 | E17: =Lang!$B$48
E18: =Lang!$B$49
B21: 03 | E21: =Lang!$B$50
E22: =Lang!$B$51
B25: 04 | E25: =Lang!$B$52
E26: =Lang!$B$53
B30: =Lang!$B$54
B32: =Lang!$B$5
B35: =Lang!$B$6
B36: Keywan Fakhri | I36: =Lang!$B$7
B38: =Lang!$B$8
B39: =HYPERLINK("https://keywanfakhri.com","keywanfakhri.com") | F39: =HYPERLINK("mailto:keywanfakhri1@gmail.com","keywanfakhri1@gmail.com") | L39: =HYPERLINK("https://www.linkedin.com/in/rahmatallah-keywan-fakhri/","LinkedIn: rahmatallah-keywan-fakhri")

Sheet Dashboard
B2: K1 | E2: ="KEYONE / "&Lang!$B$58
E3: =Lang!$B$59
B4: =HYPERLINK("#'START'!A1",Lang!$B$2) | D4: =HYPERLINK("#'Dashboard'!A1",Lang!$B$3) | F4: =HYPERLINK("#'Roster'!A1",Lang!$B$39) | H4: =HYPERLINK("#'Shifts'!A1",Lang!$B$40) | J4: =HYPERLINK("#'Leave'!A1",Lang!$B$41) | L4: =HYPERLINK("#'Staff'!A1",Lang!$B$42) | N4: =HYPERLINK("#'Settings'!A1",Lang!$B$4)
B6: =Lang!$B$36 | H6: =Lang!$B$11 | K6: =Lang!$B$12
B7: =Settings!$D$8 | H7: 2026 | K7: Oct
B8: =Lang!$B$83
B10: =Lang!$B$60 | E10: =Lang!$B$61 | H10: =Lang!$B$62 | K10: =Lang!$B$63 | N10: =Lang!$B$64 | Q10: =Lang!$B$65
B11: =SUM(Calc!$B$20:$B$44) | E11: =SUM(Calc!$H$20:$H$44) | H11: =SUM(Calc!$G$20:$G$44) | K11: =SUM(Calc!$C$20:$C$44) | N11: =SUM(Calc!$D$20:$D$44) | Q11: =SUM(Calc!$E$60:$E$90)
B13: =Lang!$B$66 | D13: =IF(Calc!$B$9=0,0,B11/Calc!$B$9) | E13: =Lang!$B$67 | G13: =IF(B11=0,0,E11/B11) | H13: =Lang!$B$68 | J13: =SUM(Calc!$P$20:$P$44) | K13: =Lang!$B$78 | M13: =SUMIF(Calc!$A$20:$A$44,"?*",Calc!$K$20:$K$44) | N13: =Lang!$B$68 | P13: =SUM(Calc!$O$20:$O$44) | Q13: =Lang!$B$69 | S13: =Calc!$B$11
B16: =Lang!$B$70 | M16: =Lang!$B$37
M18: =Lang!$B$79
M19: =IFERROR(INDEX(Calc!$A$20:$A$44,MATCH(MAX(Calc!$B$20:$B$44),Calc!$B$20:$B$44,0)),"–") | Q19: =MAX(Calc!$B$20:$B$44)
M22: =Lang!$B$80
M23: =IF(MAX(Calc!$G$20:$G$44)=0,"–",INDEX(Calc!$A$20:$A$44,MATCH(MAX(Calc!$G$20:$G$44),Calc!$G$20:$G$44,0))) | Q23: =MAX(Calc!$G$20:$G$44)
M26: =Lang!$B$81
M27: =INDEX(Calc!$A$50:$A$56,MATCH(MAX(Calc!$B$50:$B$56),Calc!$B$50:$B$56,0)) | Q27: =MAX(Calc!$B$50:$B$56)
M30: =Lang!$B$82
M31: =IFERROR(INDEX(Calc!$A$20:$A$44,MATCH(MAX(Calc!$K$20:$K$44),Calc!$K$20:$K$44,0)),"–") | Q31: =MAX(Calc!$K$20:$K$44)
B35: =Lang!$B$71 | M35: =Lang!$B$72
M36: =Lang!$B$75 | P36: =Lang!$B$76 | Q36: =Lang!$B$77 | R36: =Lang!$B$78
M37: =Calc!$A$20 | P37: =IF(Calc!$A$20="","",Calc!$I$20) | Q37: =IF(Calc!$A$20="","",Calc!$J$20) | R37: =IF(Calc!$A$20="","",Calc!$K$20)
M38: =Calc!$A$21 | P38: =IF(Calc!$A$21="","",Calc!$I$21) | Q38: =IF(Calc!$A$21="","",Calc!$J$21) | R38: =IF(Calc!$A$21="","",Calc!$K$21)
M39: =Calc!$A$22 | P39: =IF(Calc!$A$22="","",Calc!$I$22) | Q39: =IF(Calc!$A$22="","",Calc!$J$22) | R39: =IF(Calc!$A$22="","",Calc!$K$22)
M40: =Calc!$A$23 | P40: =IF(Calc!$A$23="","",Calc!$I$23) | Q40: =IF(Calc!$A$23="","",Calc!$J$23) | R40: =IF(Calc!$A$23="","",Calc!$K$23)
M41: =Calc!$A$24 | P41: =IF(Calc!$A$24="","",Calc!$I$24) | Q41: =IF(Calc!$A$24="","",Calc!$J$24) | R41: =IF(Calc!$A$24="","",Calc!$K$24)
M42: =Calc!$A$25 | P42: =IF(Calc!$A$25="","",Calc!$I$25) | Q42: =IF(Calc!$A$25="","",Calc!$J$25) | R42: =IF(Calc!$A$25="","",Calc!$K$25)
M43: =Calc!$A$26 | P43: =IF(Calc!$A$26="","",Calc!$I$26) | Q43: =IF(Calc!$A$26="","",Calc!$J$26) | R43: =IF(Calc!$A$26="","",Calc!$K$26)
M44: =Calc!$A$27 | P44: =IF(Calc!$A$27="","",Calc!$I$27) | Q44: =IF(Calc!$A$27="","",Calc!$J$27) | R44: =IF(Calc!$A$27="","",Calc!$K$27)
M45: =Calc!$A$28 | P45: =IF(Calc!$A$28="","",Calc!$I$28) | Q45: =IF(Calc!$A$28="","",Calc!$J$28) | R45: =IF(Calc!$A$28="","",Calc!$K$28)
M46: =Calc!$A$29 | P46: =IF(Calc!$A$29="","",Calc!$I$29) | Q46: =IF(Calc!$A$29="","",Calc!$J$29) | R46: =IF(Calc!$A$29="","",Calc!$K$29)
M47: =Calc!$A$30 | P47: =IF(Calc!$A$30="","",Calc!$I$30) | Q47: =IF(Calc!$A$30="","",Calc!$J$30) | R47: =IF(Calc!$A$30="","",Calc!$K$30)
M48: =Calc!$A$31 | P48: =IF(Calc!$A$31="","",Calc!$I$31) | Q48: =IF(Calc!$A$31="","",Calc!$J$31) | R48: =IF(Calc!$A$31="","",Calc!$K$31)
B55: =Lang!$B$54
B56: =Lang!$B$5

Sheet Roster
B2: K1 | E2: ="KEYONE / "&Lang!$B$84
E3: =Lang!$B$85
B4: =HYPERLINK("#'START'!A1",Lang!$B$2) | C4: =HYPERLINK("#'Dashboard'!A1",Lang!$B$3) | D4: =HYPERLINK("#'Roster'!A1",Lang!$B$39) | E4: =HYPERLINK("#'Shifts'!A1",Lang!$B$40) | F4: =HYPERLINK("#'Leave'!A1",Lang!$B$41) | G4: =HYPERLINK("#'Staff'!A1",Lang!$B$42) | H4: =HYPERLINK("#'Settings'!A1",Lang!$B$4)
B6: =Lang!$B$86 | D6: 46314 | F6: =Settings!$D$8 | I6: =Lang!$B$38&WEEKNUM(Calc!$B$10,21)
M7: =Calc!$B$10+0 | N7: =Calc!$B$10+1 | O7: =Calc!$B$10+2 | P7: =Calc!$B$10+3 | Q7: =Calc!$B$10+4 | R7: =Calc!$B$10+5 | S7: =Calc!$B$10+6
B8: =Lang!$B$75 | C8: =Lang!$B$112 | D8: =Lang!$B$28&" "&DAY(M7)&"."&MONTH(M7)&"." | E8: =Lang!$B$29&" "&DAY(N7)&"."&MONTH(N7)&"." | F8: =Lang!$B$30&" "&DAY(O7)&"."&MONTH(O7)&"." | G8: =Lang!$B$31&" "&DAY(P7)&"."&MONTH(P7)&"." | H8: =Lang!$B$32&" "&DAY(Q7)&"."&MONTH(Q7)&"." | I8: =Lang!$B$33&" "&DAY(R7)&"."&MONTH(R7)&"." | J8: =Lang!$B$34&" "&DAY(S7)&"."&MONTH(S7)&"." | K8: =Lang!$B$89
B9: =Lang!$B$87 | D9: =COUNTIF(M13:M37,1) | E9: =COUNTIF(N13:N37,1) | F9: =COUNTIF(O13:O37,1) | G9: =COUNTIF(P13:P37,1) | H9: =COUNTIF(Q13:Q37,1) | I9: =COUNTIF(R13:R37,1) | J9: =COUNTIF(S13:S37,1)
B10: =Lang!$B$88 | D10: =INDEX(Settings!$D$21:$J$21,1) | E10: =INDEX(Settings!$D$21:$J$21,2) | F10: =INDEX(Settings!$D$21:$J$21,3) | G10: =INDEX(Settings!$D$21:$J$21,4) | H10: =INDEX(Settings!$D$21:$J$21,5) | I10: =INDEX(Settings!$D$21:$J$21,6) | J10: =INDEX(Settings!$D$21:$J$21,7)
B11: =Lang!$B$89 | D11: =SUMIFS(Shifts!$G$8:$G$5007,Shifts!$A$8:$A$5007,M$7) | E11: =SUMIFS(Shifts!$G$8:$G$5007,Shifts!$A$8:$A$5007,N$7) | F11: =SUMIFS(Shifts!$G$8:$G$5007,Shifts!$A$8:$A$5007,O$7) | G11: =SUMIFS(Shifts!$G$8:$G$5007,Shifts!$A$8:$A$5007,P$7) | H11: =SUMIFS(Shifts!$G$8:$G$5007,Shifts!$A$8:$A$5007,Q$7) | I11: =SUMIFS(Shifts!$G$8:$G$5007,Shifts!$A$8:$A$5007,R$7) | J11: =SUMIFS(Shifts!$G$8:$G$5007,Shifts!$A$8:$A$5007,S$7) | K11: =SUM(D11:J11)
B13: =IF(Staff!$A$8="","",Staff!$A$8) | C13: =IF(Staff!$A$8="","",Staff!$B$8&"") | D13: =IF(M13=0,"",IF(M13>1,INDEX(Lang!$B$90:$B$92,M13-1),INDEX(Shifts!$C$8:$C$5007,U13)&CHAR(10)&HOUR(INDEX(Shifts!$H$8:$H$5007,U13))&":"&RIGHT("0"&MINUTE(INDEX(Shifts!$H$8:$H$5007,U13)),2)&"–"&HOUR(INDEX(Shifts!$I$8:$I$5007,U13))&":"&RIGHT("0"&MINUTE(INDEX(Shifts!$I$8:$I$5007,U13)),2))) | E13: =IF(N13=0,"",IF(N13>1,INDEX(Lang!$B$90:$B$92,N13-1),INDEX(Shifts!$C$8:$C$5007,V13)&CHAR(10)&HOUR(INDEX(Shifts!$H$8:$H$5007,V13))&":"&RIGHT("0"&MINUTE(INDEX(Shifts!$H$8:$H$5007,V13)),2)&"–"&HOUR(INDEX(Shifts!$I$8:$I$5007,V13))&":"&RIGHT("0"&MINUTE(INDEX(Shifts!$I$8:$I$5007,V13)),2))) | F13: =IF(O13=0,"",IF(O13>1,INDEX(Lang!$B$90:$B$92,O13-1),INDEX(Shifts!$C$8:$C$5007,W13)&CHAR(10)&HOUR(INDEX(Shifts!$H$8:$H$5007,W13))&":"&RIGHT("0"&MINUTE(INDEX(Shifts!$H$8:$H$5007,W13)),2)&"–"&HOUR(INDEX(Shifts!$I$8:$I$5007,W13))&":"&RIGHT("0"&MINUTE(INDEX(Shifts!$I$8:$I$5007,W13)),2))) | G13: =IF(P13=0,"",IF(P13>1,INDEX(Lang!$B$90:$B$92,P13-1),INDEX(Shifts!$C$8:$C$5007,X13)&CHAR(10)&HOUR(INDEX(Shifts!$H$8:$H$5007,X13))&":"&RIGHT("0"&MINUTE(INDEX(Shifts!$H$8:$H$5007,X13)),2)&"–"&HOUR(INDEX(Shifts!$I$8:$I$5007,X13))&":"&RIGHT("0"&MINUTE(INDEX(Shifts!$I$8:$I$5007,X13)),2))) | H13: =IF(Q13=0,"",IF(Q13>1,INDEX(Lang!$B$90:$B$92,Q13-1),INDEX(Shifts!$C$8:$C$5007,Y13)&CHAR(10)&HOUR(INDEX(Shifts!$H$8:$H$5007,Y13))&":"&RIGHT("0"&MINUTE(INDEX(Shifts!$H$8:$H$5007,Y13)),2)&"–"&HOUR(INDEX(Shifts!$I$8:$I$5007,Y13))&":"&RIGHT("0"&MINUTE(INDEX(Shifts!$I$8:$I$5007,Y13)),2))) | I13: =IF(R13=0,"",IF(R13>1,INDEX(Lang!$B$90:$B$92,R13-1),INDEX(Shifts!$C$8:$C$5007,Z13)&CHAR(10)&HOUR(INDEX(Shifts!$H$8:$H$5007,Z13))&":"&RIGHT("0"&MINUTE(INDEX(Shifts!$H$8:$H$5007,Z13)),2)&"–"&HOUR(INDEX(Shifts!$I$8:$I$5007,Z13))&":"&RIGHT("0"&MINUTE(INDEX(Shifts!$I$8:$I$5007,Z13)),2))) | J13: =IF(S13=0,"",IF(S13>1,INDEX(Lang!$B$90:$B$92,S13-1),INDEX(Shifts!$C$8:$C$5007,AA13)&CHAR(10)&HOUR(INDEX(Shifts!$H$8:$H$5007,AA13))&":"&RIGHT("0"&MINUTE(INDEX(Shifts!$H$8:$H$5007,AA13)),2)&"–"&HOUR(INDEX(Shifts!$I$8:$I$5007,AA13))&":"&RIGHT("0"&MINUTE(INDEX(Shifts!$I$8:$I$5007,AA13)),2))) | K13: =IF($B13="","",SUMIFS(Shifts!$G$8:$G$5007,Shifts!$B$8:$B$5007,$B13,Shifts!$A$8:$A$5007,">="&Calc!$B$10,Shifts!$A$8:$A$5007,"<"&Calc!$B$10+7)) | M13: =IF($B13="",0,IF(AC13>0,1+MAX(1,INDEX(Leave!$G:$G,AC13)),IF(U13>0,1,0))) | N13: =IF($B13="",0,IF(AD13>0,1+MAX(1,INDEX(Leave!$G:$G,AD13)),IF(V13>0,1,0))) | O13: =IF($B13="",0,IF(AE13>0,1+MAX(1,INDEX(Leave!$G:$G,AE13)),IF(W13>0,1,0))) | P13: =IF($B13="",0,IF(AF13>0,1+MAX(1,INDEX(Leave!$G:$G,AF13)),IF(X13>0,1,0))) | Q13: =IF($B13="",0,IF(AG13>0,1+MAX(1,INDEX(Leave!$G:$G,AG13)),IF(Y13>0,1,0))) | R13: =IF($B13="",0,IF(AH13>0,1+MAX(1,INDEX(Leave!$G:$G,AH13)),IF(Z13>0,1,0))) | S13: =IF($B13="",0,IF(AI13>0,1+MAX(1,INDEX(Leave!$G:$G,AI13)),IF(AA13>0,1,0))) | U13: =IF($B13="",0,IFERROR(MATCH($B13&"|"&M$7,Shifts!$K$8:$K$5007,0),0)) | V13: =IF($B13="",0,IFERROR(MATCH($B13&"|"&N$7,Shifts!$K$8:$K$5007,0),0)) | W13: =IF($B13="",0,IFERROR(MATCH($B13&"|"&O$7,Shifts!$K$8:$K$5007,0),0)) | X13: =IF($B13="",0,IFERROR(MATCH($B13&"|"&P$7,Shifts!$K$8:$K$5007,0),0)) | Y13: =IF($B13="",0,IFERROR(MATCH($B13&"|"&Q$7,Shifts!$K$8:$K$5007,0),0)) | Z13: =IF($B13="",0,IFERROR(MATCH($B13&"|"&R$7,Shifts!$K$8:$K$5007,0),0)) | AA13: =IF($B13="",0,IFERROR(MATCH($B13&"|"&S$7,Shifts!$K$8:$K$5007,0),0)) | AC13: =IF($B13="",0,SUMPRODUCT(MAX((Leave!$A$8:$A$507=$B13)*(Leave!$C$8:$C$507<=M$7)*(Leave!$D$8:$D$507>=M$7)*ROW(Leave!$A$8:$A$507)))) | AD13: =IF($B13="",0,SUMPRODUCT(MAX((Leave!$A$8:$A$507=$B13)*(Leave!$C$8:$C$507<=N$7)*(Leave!$D$8:$D$507>=N$7)*ROW(Leave!$A$8:$A$507)))) | AE13: =IF($B13="",0,SUMPRODUCT(MAX((Leave!$A$8:$A$507=$B13)*(Leave!$C$8:$C$507<=O$7)*(Leave!$D$8:$D$507>=O$7)*ROW(Leave!$A$8:$A$507)))) | AF13: =IF($B13="",0,SUMPRODUCT(MAX((Leave!$A$8:$A$507=$B13)*(Leave!$C$8:$C$507<=P$7)*(Leave!$D$8:$D$507>=P$7)*ROW(Leave!$A$8:$A$507)))) | AG13: =IF($B13="",0,SUMPRODUCT(MAX((Leave!$A$8:$A$507=$B13)*(Leave!$C$8:$C$507<=Q$7)*(Leave!$D$8:$D$507>=Q$7)*ROW(Leave!$A$8:$A$507)))) | AH13: =IF($B13="",0,SUMPRODUCT(MAX((Leave!$A$8:$A$507=$B13)*(Leave!$C$8:$C$507<=R$7)*(Leave!$D$8:$D$507>=R$7)*ROW(Leave!$A$8:$A$507)))) | AI13: =IF($B13="",0,SUMPRODUCT(MAX((Leave!$A$8:$A$507=$B13)*(Leave!$C$8:$C$507<=S$7)*(Leave!$D$8:$D$507>=S$7)*ROW(Leave!$A$8:$A$507))))
B14: =IF(Staff!$A$9="","",Staff!$A$9) | C14: =IF(Staff!$A$9="","",Staff!$B$9&"") | D14: =IF(M14=0,"",IF(M14>1,INDEX(Lang!$B$90:$B$92,M14-1),INDEX(Shifts!$C$8:$C$5007,U14)&CHAR(10)&HOUR(INDEX(Shifts!$H$8:$H$5007,U14))&":"&RIGHT("0"&MINUTE(INDEX(Shifts!$H$8:$H$5007,U14)),2)&"–"&HOUR(INDEX(Shifts!$I$8:$I$5007,U14))&":"&RIGHT("0"&MINUTE(INDEX(Shifts!$I$8:$I$5007,U14)),2))) | E14: =IF(N14=0,"",IF(N14>1,INDEX(Lang!$B$90:$B$92,N14-1),INDEX(Shifts!$C$8:$C$5007,V14)&CHAR(10)&HOUR(INDEX(Shifts!$H$8:$H$5007,V14))&":"&RIGHT("0"&MINUTE(INDEX(Shifts!$H$8:$H$5007,V14)),2)&"–"&HOUR(INDEX(Shifts!$I$8:$I$5007,V14))&":"&RIGHT("0"&MINUTE(INDEX(Shifts!$I$8:$I$5007,V14)),2))) | F14: =IF(O14=0,"",IF(O14>1,INDEX(Lang!$B$90:$B$92,O14-1),INDEX(Shifts!$C$8:$C$5007,W14)&CHAR(10)&HOUR(INDEX(Shifts!$H$8:$H$5007,W14))&":"&RIGHT("0"&MINUTE(INDEX(Shifts!$H$8:$H$5007,W14)),2)&"–"&HOUR(INDEX(Shifts!$I$8:$I$5007,W14))&":"&RIGHT("0"&MINUTE(INDEX(Shifts!$I$8:$I$5007,W14)),2))) | G14: =IF(P14=0,"",IF(P14>1,INDEX(Lang!$B$90:$B$92,P14-1),INDEX(Shifts!$C$8:$C$5007,X14)&CHAR(10)&HOUR(INDEX(Shifts!$H$8:$H$5007,X14))&":"&RIGHT("0"&MINUTE(INDEX(Shifts!$H$8:$H$5007,X14)),2)&"–"&HOUR(INDEX(Shifts!$I$8:$I$5007,X14))&":"&RIGHT("0"&MINUTE(INDEX(Shifts!$I$8:$I$5007,X14)),2))) | H14: =IF(Q14=0,"",IF(Q14>1,INDEX(Lang!$B$90:$B$92,Q14-1),INDEX(Shifts!$C$8:$C$5007,Y14)&CHAR(10)&HOUR(INDEX(Shifts!$H$8:$H$5007,Y14))&":"&RIGHT("0"&MINUTE(INDEX(Shifts!$H$8:$H$5007,Y14)),2)&"–"&HOUR(INDEX(Shifts!$I$8:$I$5007,Y14))&":"&RIGHT("0"&MINUTE(INDEX(Shifts!$I$8:$I$5007,Y14)),2))) | I14: =IF(R14=0,"",IF(R14>1,INDEX(Lang!$B$90:$B$92,R14-1),INDEX(Shifts!$C$8:$C$5007,Z14)&CHAR(10)&HOUR(INDEX(Shifts!$H$8:$H$5007,Z14))&":"&RIGHT("0"&MINUTE(INDEX(Shifts!$H$8:$H$5007,Z14)),2)&"–"&HOUR(INDEX(Shifts!$I$8:$I$5007,Z14))&":"&RIGHT("0"&MINUTE(INDEX(Shifts!$I$8:$I$5007,Z14)),2))) | J14: =IF(S14=0,"",IF(S14>1,INDEX(Lang!$B$90:$B$92,S14-1),INDEX(Shifts!$C$8:$C$5007,AA14)&CHAR(10)&HOUR(INDEX(Shifts!$H$8:$H$5007,AA14))&":"&RIGHT("0"&MINUTE(INDEX(Shifts!$H$8:$H$5007,AA14)),2)&"–"&HOUR(INDEX(Shifts!$I$8:$I$5007,AA14))&":"&RIGHT("0"&MINUTE(INDEX(Shifts!$I$8:$I$5007,AA14)),2))) | K14: =IF($B14="","",SUMIFS(Shifts!$G$8:$G$5007,Shifts!$B$8:$B$5007,$B14,Shifts!$A$8:$A$5007,">="&Calc!$B$10,Shifts!$A$8:$A$5007,"<"&Calc!$B$10+7)) | M14: =IF($B14="",0,IF(AC14>0,1+MAX(1,INDEX(Leave!$G:$G,AC14)),IF(U14>0,1,0))) | N14: =IF($B14="",0,IF(AD14>0,1+MAX(1,INDEX(Leave!$G:$G,AD14)),IF(V14>0,1,0))) | O14: =IF($B14="",0,IF(AE14>0,1+MAX(1,INDEX(Leave!$G:$G,AE14)),IF(W14>0,1,0))) | P14: =IF($B14="",0,IF(AF14>0,1+MAX(1,INDEX(Leave!$G:$G,AF14)),IF(X14>0,1,0))) | Q14: =IF($B14="",0,IF(AG14>0,1+MAX(1,INDEX(Leave!$G:$G,AG14)),IF(Y14>0,1,0))) | R14: =IF($B14="",0,IF(AH14>0,1+MAX(1,INDEX(Leave!$G:$G,AH14)),IF(Z14>0,1,0))) | S14: =IF($B14="",0,IF(AI14>0,1+MAX(1,INDEX(Leave!$G:$G,AI14)),IF(AA14>0,1,0))) | U14: =IF($B14="",0,IFERROR(MATCH($B14&"|"&M$7,Shifts!$K$8:$K$5007,0),0)) | V14: =IF($B14="",0,IFERROR(MATCH($B14&"|"&N$7,Shifts!$K$8:$K$5007,0),0)) | W14: =IF($B14="",0,IFERROR(MATCH($B14&"|"&O$7,Shifts!$K$8:$K$5007,0),0)) | X14: =IF($B14="",0,IFERROR(MATCH($B14&"|"&P$7,Shifts!$K$8:$K$5007,0),0)) | Y14: =IF($B14="",0,IFERROR(MATCH($B14&"|"&Q$7,Shifts!$K$8:$K$5007,0),0)) | Z14: =IF($B14="",0,IFERROR(MATCH($B14&"|"&R$7,Shifts!$K$8:$K$5007,0),0)) | AA14: =IF($B14="",0,IFERROR(MATCH($B14&"|"&S$7,Shifts!$K$8:$K$5007,0),0)) | AC14: =IF($B14="",0,SUMPRODUCT(MAX((Leave!$A$8:$A$507=$B14)*(Leave!$C$8:$C$507<=M$7)*(Leave!$D$8:$D$507>=M$7)*ROW(Leave!$A$8:$A$507)))) | AD14: =IF($B14="",0,SUMPRODUCT(MAX((Leave!$A$8:$A$507=$B14)*(Leave!$C$8:$C$507<=N$7)*(Leave!$D$8:$D$507>=N$7)*ROW(Leave!$A$8:$A$507)))) | AE14: =IF($B14="",0,SUMPRODUCT(MAX((Leave!$A$8:$A$507=$B14)*(Leave!$C$8:$C$507<=O$7)*(Leave!$D$8:$D$507>=O$7)*ROW(Leave!$A$8:$A$507)))) | AF14: =IF($B14="",0,SUMPRODUCT(MAX((Leave!$A$8:$A$507=$B14)*(Leave!$C$8:$C$507<=P$7)*(Leave!$D$8:$D$507>=P$7)*ROW(Leave!$A$8:$A$507)))) | AG14: =IF($B14="",0,SUMPRODUCT(MAX((Leave!$A$8:$A$507=$B14)*(Leave!$C$8:$C$507<=Q$7)*(Leave!$D$8:$D$507>=Q$7)*ROW(Leave!$A$8:$A$507)))) | AH14: =IF($B14="",0,SUMPRODUCT(MAX((Leave!$A$8:$A$507=$B14)*(Leave!$C$8:$C$507<=R$7)*(Leave!$D$8:$D$507>=R$7)*ROW(Leave!$A$8:$A$507)))) | AI14: =IF($B14="",0,SUMPRODUCT(MAX((Leave!$A$8:$A$507=$B14)*(Leave!$C$8:$C$507<=S$7)*(Leave!$D$8:$D$507>=S$7)*ROW(Leave!$A$8:$A$507))))
B15: =IF(Staff!$A$10="","",Staff!$A$10) | C15: =IF(Staff!$A$10="","",Staff!$B$10&"") | D15: =IF(M15=0,"",IF(M15>1,INDEX(Lang!$B$90:$B$92,M15-1),INDEX(Shifts!$C$8:$C$5007,U15)&CHAR(10)&HOUR(INDEX(Shifts!$H$8:$H$5007,U15))&":"&RIGHT("0"&MINUTE(INDEX(Shifts!$H$8:$H$5007,U15)),2)&"–"&HOUR(INDEX(Shifts!$I$8:$I$5007,U15))&":"&RIGHT("0"&MINUTE(INDEX(Shifts!$I$8:$I$5007,U15)),2))) | E15: =IF(N15=0,"",IF(N15>1,INDEX(Lang!$B$90:$B$92,N15-1),INDEX(Shifts!$C$8:$C$5007,V15)&CHAR(10)&HOUR(INDEX(Shifts!$H$8:$H$5007,V15))&":"&RIGHT("0"&MINUTE(INDEX(Shifts!$H$8:$H$5007,V15)),2)&"–"&HOUR(INDEX(Shifts!$I$8:$I$5007,V15))&":"&RIGHT("0"&MINUTE(INDEX(Shifts!$I$8:$I$5007,V15)),2))) | F15: =IF(O15=0,"",IF(O15>1,INDEX(Lang!$B$90:$B$92,O15-1),INDEX(Shifts!$C$8:$C$5007,W15)&CHAR(10)&HOUR(INDEX(Shifts!$H$8:$H$5007,W15))&":"&RIGHT("0"&MINUTE(INDEX(Shifts!$H$8:$H$5007,W15)),2)&"–"&HOUR(INDEX(Shifts!$I$8:$I$5007,W15))&":"&RIGHT("0"&MINUTE(INDEX(Shifts!$I$8:$I$5007,W15)),2))) | G15: =IF(P15=0,"",IF(P15>1,INDEX(Lang!$B$90:$B$92,P15-1),INDEX(Shifts!$C$8:$C$5007,X15)&CHAR(10)&HOUR(INDEX(Shifts!$H$8:$H$5007,X15))&":"&RIGHT("0"&MINUTE(INDEX(Shifts!$H$8:$H$5007,X15)),2)&"–"&HOUR(INDEX(Shifts!$I$8:$I$5007,X15))&":"&RIGHT("0"&MINUTE(INDEX(Shifts!$I$8:$I$5007,X15)),2))) | H15: =IF(Q15=0,"",IF(Q15>1,INDEX(Lang!$B$90:$B$92,Q15-1),INDEX(Shifts!$C$8:$C$5007,Y15)&CHAR(10)&HOUR(INDEX(Shifts!$H$8:$H$5007,Y15))&":"&RIGHT("0"&MINUTE(INDEX(Shifts!$H$8:$H$5007,Y15)),2)&"–"&HOUR(INDEX(Shifts!$I$8:$I$5007,Y15))&":"&RIGHT("0"&MINUTE(INDEX(Shifts!$I$8:$I$5007,Y15)),2))) | I15: =IF(R15=0,"",IF(R15>1,INDEX(Lang!$B$90:$B$92,R15-1),INDEX(Shifts!$C$8:$C$5007,Z15)&CHAR(10)&HOUR(INDEX(Shifts!$H$8:$H$5007,Z15))&":"&RIGHT("0"&MINUTE(INDEX(Shifts!$H$8:$H$5007,Z15)),2)&"–"&HOUR(INDEX(Shifts!$I$8:$I$5007,Z15))&":"&RIGHT("0"&MINUTE(INDEX(Shifts!$I$8:$I$5007,Z15)),2))) | J15: =IF(S15=0,"",IF(S15>1,INDEX(Lang!$B$90:$B$92,S15-1),INDEX(Shifts!$C$8:$C$5007,AA15)&CHAR(10)&HOUR(INDEX(Shifts!$H$8:$H$5007,AA15))&":"&RIGHT("0"&MINUTE(INDEX(Shifts!$H$8:$H$5007,AA15)),2)&"–"&HOUR(INDEX(Shifts!$I$8:$I$5007,AA15))&":"&RIGHT("0"&MINUTE(INDEX(Shifts!$I$8:$I$5007,AA15)),2))) | K15: =IF($B15="","",SUMIFS(Shifts!$G$8:$G$5007,Shifts!$B$8:$B$5007,$B15,Shifts!$A$8:$A$5007,">="&Calc!$B$10,Shifts!$A$8:$A$5007,"<"&Calc!$B$10+7)) | M15: =IF($B15="",0,IF(AC15>0,1+MAX(1,INDEX(Leave!$G:$G,AC15)),IF(U15>0,1,0))) | N15: =IF($B15="",0,IF(AD15>0,1+MAX(1,INDEX(Leave!$G:$G,AD15)),IF(V15>0,1,0))) | O15: =IF($B15="",0,IF(AE15>0,1+MAX(1,INDEX(Leave!$G:$G,AE15)),IF(W15>0,1,0))) | P15: =IF($B15="",0,IF(AF15>0,1+MAX(1,INDEX(Leave!$G:$G,AF15)),IF(X15>0,1,0))) | Q15: =IF($B15="",0,IF(AG15>0,1+MAX(1,INDEX(Leave!$G:$G,AG15)),IF(Y15>0,1,0))) | R15: =IF($B15="",0,IF(AH15>0,1+MAX(1,INDEX(Leave!$G:$G,AH15)),IF(Z15>0,1,0))) | S15: =IF($B15="",0,IF(AI15>0,1+MAX(1,INDEX(Leave!$G:$G,AI15)),IF(AA15>0,1,0))) | U15: =IF($B15="",0,IFERROR(MATCH($B15&"|"&M$7,Shifts!$K$8:$K$5007,0),0)) | V15: =IF($B15="",0,IFERROR(MATCH($B15&"|"&N$7,Shifts!$K$8:$K$5007,0),0)) | W15: =IF($B15="",0,IFERROR(MATCH($B15&"|"&O$7,Shifts!$K$8:$K$5007,0),0)) | X15: =IF($B15="",0,IFERROR(MATCH($B15&"|"&P$7,Shifts!$K$8:$K$5007,0),0)) | Y15: =IF($B15="",0,IFERROR(MATCH($B15&"|"&Q$7,Shifts!$K$8:$K$5007,0),0)) | Z15: =IF($B15="",0,IFERROR(MATCH($B15&"|"&R$7,Shifts!$K$8:$K$5007,0),0)) | AA15: =IF($B15="",0,IFERROR(MATCH($B15&"|"&S$7,Shifts!$K$8:$K$5007,0),0)) | AC15: =IF($B15="",0,SUMPRODUCT(MAX((Leave!$A$8:$A$507=$B15)*(Leave!$C$8:$C$507<=M$7)*(Leave!$D$8:$D$507>=M$7)*ROW(Leave!$A$8:$A$507)))) | AD15: =IF($B15="",0,SUMPRODUCT(MAX((Leave!$A$8:$A$507=$B15)*(Leave!$C$8:$C$507<=N$7)*(Leave!$D$8:$D$507>=N$7)*ROW(Leave!$A$8:$A$507)))) | AE15: =IF($B15="",0,SUMPRODUCT(MAX((Leave!$A$8:$A$507=$B15)*(Leave!$C$8:$C$507<=O$7)*(Leave!$D$8:$D$507>=O$7)*ROW(Leave!$A$8:$A$507)))) | AF15: =IF($B15="",0,SUMPRODUCT(MAX((Leave!$A$8:$A$507=$B15)*(Leave!$C$8:$C$507<=P$7)*(Leave!$D$8:$D$507>=P$7)*ROW(Leave!$A$8:$A$507)))) | AG15: =IF($B15="",0,SUMPRODUCT(MAX((Leave!$A$8:$A$507=$B15)*(Leave!$C$8:$C$507<=Q$7)*(Leave!$D$8:$D$507>=Q$7)*ROW(Leave!$A$8:$A$507)))) | AH15: =IF($B15="",0,SUMPRODUCT(MAX((Leave!$A$8:$A$507=$B15)*(Leave!$C$8:$C$507<=R$7)*(Leave!$D$8:$D$507>=R$7)*ROW(Leave!$A$8:$A$507)))) | AI15: =IF($B15="",0,SUMPRODUCT(MAX((Leave!$A$8:$A$507=$B15)*(Leave!$C$8:$C$507<=S$7)*(Leave!$D$8:$D$507>=S$7)*ROW(Leave!$A$8:$A$507))))
B16: =IF(Staff!$A$11="","",Staff!$A$11) | C16: =IF(Staff!$A$11="","",Staff!$B$11&"") | D16: =IF(M16=0,"",IF(M16>1,INDEX(Lang!$B$90:$B$92,M16-1),INDEX(Shifts!$C$8:$C$5007,U16)&CHAR(10)&HOUR(INDEX(Shifts!$H$8:$H$5007,U16))&":"&RIGHT("0"&MINUTE(INDEX(Shifts!$H$8:$H$5007,U16)),2)&"–"&HOUR(INDEX(Shifts!$I$8:$I$5007,U16))&":"&RIGHT("0"&MINUTE(INDEX(Shifts!$I$8:$I$5007,U16)),2))) | E16: =IF(N16=0,"",IF(N16>1,INDEX(Lang!$B$90:$B$92,N16-1),INDEX(Shifts!$C$8:$C$5007,V16)&CHAR(10)&HOUR(INDEX(Shifts!$H$8:$H$5007,V16))&":"&RIGHT("0"&MINUTE(INDEX(Shifts!$H$8:$H$5007,V16)),2)&"–"&HOUR(INDEX(Shifts!$I$8:$I$5007,V16))&":"&RIGHT("0"&MINUTE(INDEX(Shifts!$I$8:$I$5007,V16)),2))) | F16: =IF(O16=0,"",IF(O16>1,INDEX(Lang!$B$90:$B$92,O16-1),INDEX(Shifts!$C$8:$C$5007,W16)&CHAR(10)&HOUR(INDEX(Shifts!$H$8:$H$5007,W16))&":"&RIGHT("0"&MINUTE(INDEX(Shifts!$H$8:$H$5007,W16)),2)&"–"&HOUR(INDEX(Shifts!$I$8:$I$5007,W16))&":"&RIGHT("0"&MINUTE(INDEX(Shifts!$I$8:$I$5007,W16)),2))) | G16: =IF(P16=0,"",IF(P16>1,INDEX(Lang!$B$90:$B$92,P16-1),INDEX(Shifts!$C$8:$C$5007,X16)&CHAR(10)&HOUR(INDEX(Shifts!$H$8:$H$5007,X16))&":"&RIGHT("0"&MINUTE(INDEX(Shifts!$H$8:$H$5007,X16)),2)&"–"&HOUR(INDEX(Shifts!$I$8:$I$5007,X16))&":"&RIGHT("0"&MINUTE(INDEX(Shifts!$I$8:$I$5007,X16)),2))) | H16: =IF(Q16=0,"",IF(Q16>1,INDEX(Lang!$B$90:$B$92,Q16-1),INDEX(Shifts!$C$8:$C$5007,Y16)&CHAR(10)&HOUR(INDEX(Shifts!$H$8:$H$5007,Y16))&":"&RIGHT("0"&MINUTE(INDEX(Shifts!$H$8:$H$5007,Y16)),2)&"–"&HOUR(INDEX(Shifts!$I$8:$I$5007,Y16))&":"&RIGHT("0"&MINUTE(INDEX(Shifts!$I$8:$I$5007,Y16)),2))) | I16: =IF(R16=0,"",IF(R16>1,INDEX(Lang!$B$90:$B$92,R16-1),INDEX(Shifts!$C$8:$C$5007,Z16)&CHAR(10)&HOUR(INDEX(Shifts!$H$8:$H$5007,Z16))&":"&RIGHT("0"&MINUTE(INDEX(Shifts!$H$8:$H$5007,Z16)),2)&"–"&HOUR(INDEX(Shifts!$I$8:$I$5007,Z16))&":"&RIGHT("0"&MINUTE(INDEX(Shifts!$I$8:$I$5007,Z16)),2))) | J16: =IF(S16=0,"",IF(S16>1,INDEX(Lang!$B$90:$B$92,S16-1),INDEX(Shifts!$C$8:$C$5007,AA16)&CHAR(10)&HOUR(INDEX(Shifts!$H$8:$H$5007,AA16))&":"&RIGHT("0"&MINUTE(INDEX(Shifts!$H$8:$H$5007,AA16)),2)&"–"&HOUR(INDEX(Shifts!$I$8:$I$5007,AA16))&":"&RIGHT("0"&MINUTE(INDEX(Shifts!$I$8:$I$5007,AA16)),2))) | K16: =IF($B16="","",SUMIFS(Shifts!$G$8:$G$5007,Shifts!$B$8:$B$5007,$B16,Shifts!$A$8:$A$5007,">="&Calc!$B$10,Shifts!$A$8:$A$5007,"<"&Calc!$B$10+7)) | M16: =IF($B16="",0,IF(AC16>0,1+MAX(1,INDEX(Leave!$G:$G,AC16)),IF(U16>0,1,0))) | N16: =IF($B16="",0,IF(AD16>0,1+MAX(1,INDEX(Leave!$G:$G,AD16)),IF(V16>0,1,0))) | O16: =IF($B16="",0,IF(AE16>0,1+MAX(1,INDEX(Leave!$G:$G,AE16)),IF(W16>0,1,0))) | P16: =IF($B16="",0,IF(AF16>0,1+MAX(1,INDEX(Leave!$G:$G,AF16)),IF(X16>0,1,0))) | Q16: =IF($B16="",0,IF(AG16>0,1+MAX(1,INDEX(Leave!$G:$G,AG16)),IF(Y16>0,1,0))) | R16: =IF($B16="",0,IF(AH16>0,1+MAX(1,INDEX(Leave!$G:$G,AH16)),IF(Z16>0,1,0))) | S16: =IF($B16="",0,IF(AI16>0,1+MAX(1,INDEX(Leave!$G:$G,AI16)),IF(AA16>0,1,0))) | U16: =IF($B16="",0,IFERROR(MATCH($B16&"|"&M$7,Shifts!$K$8:$K$5007,0),0)) | V16: =IF($B16="",0,IFERROR(MATCH($B16&"|"&N$7,Shifts!$K$8:$K$5007,0),0)) | W16: =IF($B16="",0,IFERROR(MATCH($B16&"|"&O$7,Shifts!$K$8:$K$5007,0),0)) | X16: =IF($B16="",0,IFERROR(MATCH($B16&"|"&P$7,Shifts!$K$8:$K$5007,0),0)) | Y16: =IF($B16="",0,IFERROR(MATCH($B16&"|"&Q$7,Shifts!$K$8:$K$5007,0),0)) | Z16: =IF($B16="",0,IFERROR(MATCH($B16&"|"&R$7,Shifts!$K$8:$K$5007,0),0)) | AA16: =IF($B16="",0,IFERROR(MATCH($B16&"|"&S$7,Shifts!$K$8:$K$5007,0),0)) | AC16: =IF($B16="",0,SUMPRODUCT(MAX((Leave!$A$8:$A$507=$B16)*(Leave!$C$8:$C$507<=M$7)*(Leave!$D$8:$D$507>=M$7)*ROW(Leave!$A$8:$A$507)))) | AD16: =IF($B16="",0,SUMPRODUCT(MAX((Leave!$A$8:$A$507=$B16)*(Leave!$C$8:$C$507<=N$7)*(Leave!$D$8:$D$507>=N$7)*ROW(Leave!$A$8:$A$507)))) | AE16: =IF($B16="",0,SUMPRODUCT(MAX((Leave!$A$8:$A$507=$B16)*(Leave!$C$8:$C$507<=O$7)*(Leave!$D$8:$D$507>=O$7)*ROW(Leave!$A$8:$A$507)))) | AF16: =IF($B16="",0,SUMPRODUCT(MAX((Leave!$A$8:$A$507=$B16)*(Leave!$C$8:$C$507<=P$7)*(Leave!$D$8:$D$507>=P$7)*ROW(Leave!$A$8:$A$507)))) | AG16: =IF($B16="",0,SUMPRODUCT(MAX((Leave!$A$8:$A$507=$B16)*(Leave!$C$8:$C$507<=Q$7)*(Leave!$D$8:$D$507>=Q$7)*ROW(Leave!$A$8:$A$507)))) | AH16: =IF($B16="",0,SUMPRODUCT(MAX((Leave!$A$8:$A$507=$B16)*(Leave!$C$8:$C$507<=R$7)*(Leave!$D$8:$D$507>=R$7)*ROW(Leave!$A$8:$A$507)))) | AI16: =IF($B16="",0,SUMPRODUCT(MAX((Leave!$A$8:$A$507=$B16)*(Leave!$C$8:$C$507<=S$7)*(Leave!$D$8:$D$507>=S$7)*ROW(Leave!$A$8:$A$507))))
B17: =IF(Staff!$A$12="","",Staff!$A$12) | C17: =IF(Staff!$A$12="","",Staff!$B$12&"") | D17: =IF(M17=0,"",IF(M17>1,INDEX(Lang!$B$90:$B$92,M17-1),INDEX(Shifts!$C$8:$C$5007,U17)&CHAR(10)&HOUR(INDEX(Shifts!$H$8:$H$5007,U17))&":"&RIGHT("0"&MINUTE(INDEX(Shifts!$H$8:$H$5007,U17)),2)&"–"&HOUR(INDEX(Shifts!$I$8:$I$5007,U17))&":"&RIGHT("0"&MINUTE(INDEX(Shifts!$I$8:$I$5007,U17)),2))) | E17: =IF(N17=0,"",IF(N17>1,INDEX(Lang!$B$90:$B$92,N17-1),INDEX(Shifts!$C$8:$C$5007,V17)&CHAR(10)&HOUR(INDEX(Shifts!$H$8:$H$5007,V17))&":"&RIGHT("0"&MINUTE(INDEX(Shifts!$H$8:$H$5007,V17)),2)&"–"&HOUR(INDEX(Shifts!$I$8:$I$5007,V17))&":"&RIGHT("0"&MINUTE(INDEX(Shifts!$I$8:$I$5007,V17)),2))) | F17: =IF(O17=0,"",IF(O17>1,INDEX(Lang!$B$90:$B$92,O17-1),INDEX(Shifts!$C$8:$C$5007,W17)&CHAR(10)&HOUR(INDEX(Shifts!$H$8:$H$5007,W17))&":"&RIGHT("0"&MINUTE(INDEX(Shifts!$H$8:$H$5007,W17)),2)&"–"&HOUR(INDEX(Shifts!$I$8:$I$5007,W17))&":"&RIGHT("0"&MINUTE(INDEX(Shifts!$I$8:$I$5007,W17)),2))) | G17: =IF(P17=0,"",IF(P17>1,INDEX(Lang!$B$90:$B$92,P17-1),INDEX(Shifts!$C$8:$C$5007,X17)&CHAR(10)&HOUR(INDEX(Shifts!$H$8:$H$5007,X17))&":"&RIGHT("0"&MINUTE(INDEX(Shifts!$H$8:$H$5007,X17)),2)&"–"&HOUR(INDEX(Shifts!$I$8:$I$5007,X17))&":"&RIGHT("0"&MINUTE(INDEX(Shifts!$I$8:$I$5007,X17)),2))) | H17: =IF(Q17=0,"",IF(Q17>1,INDEX(Lang!$B$90:$B$92,Q17-1),INDEX(Shifts!$C$8:$C$5007,Y17)&CHAR(10)&HOUR(INDEX(Shifts!$H$8:$H$5007,Y17))&":"&RIGHT("0"&MINUTE(INDEX(Shifts!$H$8:$H$5007,Y17)),2)&"–"&HOUR(INDEX(Shifts!$I$8:$I$5007,Y17))&":"&RIGHT("0"&MINUTE(INDEX(Shifts!$I$8:$I$5007,Y17)),2))) | I17: =IF(R17=0,"",IF(R17>1,INDEX(Lang!$B$90:$B$92,R17-1),INDEX(Shifts!$C$8:$C$5007,Z17)&CHAR(10)&HOUR(INDEX(Shifts!$H$8:$H$5007,Z17))&":"&RIGHT("0"&MINUTE(INDEX(Shifts!$H$8:$H$5007,Z17)),2)&"–"&HOUR(INDEX(Shifts!$I$8:$I$5007,Z17))&":"&RIGHT("0"&MINUTE(INDEX(Shifts!$I$8:$I$5007,Z17)),2))) | J17: =IF(S17=0,"",IF(S17>1,INDEX(Lang!$B$90:$B$92,S17-1),INDEX(Shifts!$C$8:$C$5007,AA17)&CHAR(10)&HOUR(INDEX(Shifts!$H$8:$H$5007,AA17))&":"&RIGHT("0"&MINUTE(INDEX(Shifts!$H$8:$H$5007,AA17)),2)&"–"&HOUR(INDEX(Shifts!$I$8:$I$5007,AA17))&":"&RIGHT("0"&MINUTE(INDEX(Shifts!$I$8:$I$5007,AA17)),2))) | K17: =IF($B17="","",SUMIFS(Shifts!$G$8:$G$5007,Shifts!$B$8:$B$5007,$B17,Shifts!$A$8:$A$5007,">="&Calc!$B$10,Shifts!$A$8:$A$5007,"<"&Calc!$B$10+7)) | M17: =IF($B17="",0,IF(AC17>0,1+MAX(1,INDEX(Leave!$G:$G,AC17)),IF(U17>0,1,0))) | N17: =IF($B17="",0,IF(AD17>0,1+MAX(1,INDEX(Leave!$G:$G,AD17)),IF(V17>0,1,0))) | O17: =IF($B17="",0,IF(AE17>0,1+MAX(1,INDEX(Leave!$G:$G,AE17)),IF(W17>0,1,0))) | P17: =IF($B17="",0,IF(AF17>0,1+MAX(1,INDEX(Leave!$G:$G,AF17)),IF(X17>0,1,0))) | Q17: =IF($B17="",0,IF(AG17>0,1+MAX(1,INDEX(Leave!$G:$G,AG17)),IF(Y17>0,1,0))) | R17: =IF($B17="",0,IF(AH17>0,1+MAX(1,INDEX(Leave!$G:$G,AH17)),IF(Z17>0,1,0))) | S17: =IF($B17="",0,IF(AI17>0,1+MAX(1,INDEX(Leave!$G:$G,AI17)),IF(AA17>0,1,0))) | U17: =IF($B17="",0,IFERROR(MATCH($B17&"|"&M$7,Shifts!$K$8:$K$5007,0),0)) | V17: =IF($B17="",0,IFERROR(MATCH($B17&"|"&N$7,Shifts!$K$8:$K$5007,0),0)) | W17: =IF($B17="",0,IFERROR(MATCH($B17&"|"&O$7,Shifts!$K$8:$K$5007,0),0)) | X17: =IF($B17="",0,IFERROR(MATCH($B17&"|"&P$7,Shifts!$K$8:$K$5007,0),0)) | Y17: =IF($B17="",0,IFERROR(MATCH($B17&"|"&Q$7,Shifts!$K$8:$K$5007,0),0)) | Z17: =IF($B17="",0,IFERROR(MATCH($B17&"|"&R$7,Shifts!$K$8:$K$5007,0),0)) | AA17: =IF($B17="",0,IFERROR(MATCH($B17&"|"&S$7,Shifts!$K$8:$K$5007,0),0)) | AC17: =IF($B17="",0,SUMPRODUCT(MAX((Leave!$A$8:$A$507=$B17)*(Leave!$C$8:$C$507<=M$7)*(Leave!$D$8:$D$507>=M$7)*ROW(Leave!$A$8:$A$507)))) | AD17: =IF($B17="",0,SUMPRODUCT(MAX((Leave!$A$8:$A$507=$B17)*(Leave!$C$8:$C$507<=N$7)*(Leave!$D$8:$D$507>=N$7)*ROW(Leave!$A$8:$A$507)))) | AE17: =IF($B17="",0,SUMPRODUCT(MAX((Leave!$A$8:$A$507=$B17)*(Leave!$C$8:$C$507<=O$7)*(Leave!$D$8:$D$507>=O$7)*ROW(Leave!$A$8:$A$507)))) | AF17: =IF($B17="",0,SUMPRODUCT(MAX((Leave!$A$8:$A$507=$B17)*(Leave!$C$8:$C$507<=P$7)*(Leave!$D$8:$D$507>=P$7)*ROW(Leave!$A$8:$A$507)))) | AG17: =IF($B17="",0,SUMPRODUCT(MAX((Leave!$A$8:$A$507=$B17)*(Leave!$C$8:$C$507<=Q$7)*(Leave!$D$8:$D$507>=Q$7)*ROW(Leave!$A$8:$A$507)))) | AH17: =IF($B17="",0,SUMPRODUCT(MAX((Leave!$A$8:$A$507=$B17)*(Leave!$C$8:$C$507<=R$7)*(Leave!$D$8:$D$507>=R$7)*ROW(Leave!$A$8:$A$507)))) | AI17: =IF($B17="",0,SUMPRODUCT(MAX((Leave!$A$8:$A$507=$B17)*(Leave!$C$8:$C$507<=S$7)*(Leave!$D$8:$D$507>=S$7)*ROW(Leave!$A$8:$A$507))))
B18: =IF(Staff!$A$13="","",Staff!$A$13) | C18: =IF(Staff!$A$13="","",Staff!$B$13&"") | D18: =IF(M18=0,"",IF(M18>1,INDEX(Lang!$B$90:$B$92,M18-1),INDEX(Shifts!$C$8:$C$5007,U18)&CHAR(10)&HOUR(INDEX(Shifts!$H$8:$H$5007,U18))&":"&RIGHT("0"&MINUTE(INDEX(Shifts!$H$8:$H$5007,U18)),2)&"–"&HOUR(INDEX(Shifts!$I$8:$I$5007,U18))&":"&RIGHT("0"&MINUTE(INDEX(Shifts!$I$8:$I$5007,U18)),2))) | E18: =IF(N18=0,"",IF(N18>1,INDEX(Lang!$B$90:$B$92,N18-1),INDEX(Shifts!$C$8:$C$5007,V18)&CHAR(10)&HOUR(INDEX(Shifts!$H$8:$H$5007,V18))&":"&RIGHT("0"&MINUTE(INDEX(Shifts!$H$8:$H$5007,V18)),2)&"–"&HOUR(INDEX(Shifts!$I$8:$I$5007,V18))&":"&RIGHT("0"&MINUTE(INDEX(Shifts!$I$8:$I$5007,V18)),2))) | F18: =IF(O18=0,"",IF(O18>1,INDEX(Lang!$B$90:$B$92,O18-1),INDEX(Shifts!$C$8:$C$5007,W18)&CHAR(10)&HOUR(INDEX(Shifts!$H$8:$H$5007,W18))&":"&RIGHT("0"&MINUTE(INDEX(Shifts!$H$8:$H$5007,W18)),2)&"–"&HOUR(INDEX(Shifts!$I$8:$I$5007,W18))&":"&RIGHT("0"&MINUTE(INDEX(Shifts!$I$8:$I$5007,W18)),2))) | G18: =IF(P18=0,"",IF(P18>1,INDEX(Lang!$B$90:$B$92,P18-1),INDEX(Shifts!$C$8:$C$5007,X18)&CHAR(10)&HOUR(INDEX(Shifts!$H$8:$H$5007,X18))&":"&RIGHT("0"&MINUTE(INDEX(Shifts!$H$8:$H$5007,X18)),2)&"–"&HOUR(INDEX(Shifts!$I$8:$I$5007,X18))&":"&RIGHT("0"&MINUTE(INDEX(Shifts!$I$8:$I$5007,X18)),2))) | H18: =IF(Q18=0,"",IF(Q18>1,INDEX(Lang!$B$90:$B$92,Q18-1),INDEX(Shifts!$C$8:$C$5007,Y18)&CHAR(10)&HOUR(INDEX(Shifts!$H$8:$H$5007,Y18))&":"&RIGHT("0"&MINUTE(INDEX(Shifts!$H$8:$H$5007,Y18)),2)&"–"&HOUR(INDEX(Shifts!$I$8:$I$5007,Y18))&":"&RIGHT("0"&MINUTE(INDEX(Shifts!$I$8:$I$5007,Y18)),2))) | I18: =IF(R18=0,"",IF(R18>1,INDEX(Lang!$B$90:$B$92,R18-1),INDEX(Shifts!$C$8:$C$5007,Z18)&CHAR(10)&HOUR(INDEX(Shifts!$H$8:$H$5007,Z18))&":"&RIGHT("0"&MINUTE(INDEX(Shifts!$H$8:$H$5007,Z18)),2)&"–"&HOUR(INDEX(Shifts!$I$8:$I$5007,Z18))&":"&RIGHT("0"&MINUTE(INDEX(Shifts!$I$8:$I$5007,Z18)),2))) | J18: =IF(S18=0,"",IF(S18>1,INDEX(Lang!$B$90:$B$92,S18-1),INDEX(Shifts!$C$8:$C$5007,AA18)&CHAR(10)&HOUR(INDEX(Shifts!$H$8:$H$5007,AA18))&":"&RIGHT("0"&MINUTE(INDEX(Shifts!$H$8:$H$5007,AA18)),2)&"–"&HOUR(INDEX(Shifts!$I$8:$I$5007,AA18))&":"&RIGHT("0"&MINUTE(INDEX(Shifts!$I$8:$I$5007,AA18)),2))) | K18: =IF($B18="","",SUMIFS(Shifts!$G$8:$G$5007,Shifts!$B$8:$B$5007,$B18,Shifts!$A$8:$A$5007,">="&Calc!$B$10,Shifts!$A$8:$A$5007,"<"&Calc!$B$10+7)) | M18: =IF($B18="",0,IF(AC18>0,1+MAX(1,INDEX(Leave!$G:$G,AC18)),IF(U18>0,1,0))) | N18: =IF($B18="",0,IF(AD18>0,1+MAX(1,INDEX(Leave!$G:$G,AD18)),IF(V18>0,1,0))) | O18: =IF($B18="",0,IF(AE18>0,1+MAX(1,INDEX(Leave!$G:$G,AE18)),IF(W18>0,1,0))) | P18: =IF($B18="",0,IF(AF18>0,1+MAX(1,INDEX(Leave!$G:$G,AF18)),IF(X18>0,1,0))) | Q18: =IF($B18="",0,IF(AG18>0,1+MAX(1,INDEX(Leave!$G:$G,AG18)),IF(Y18>0,1,0))) | R18: =IF($B18="",0,IF(AH18>0,1+MAX(1,INDEX(Leave!$G:$G,AH18)),IF(Z18>0,1,0))) | S18: =IF($B18="",0,IF(AI18>0,1+MAX(1,INDEX(Leave!$G:$G,AI18)),IF(AA18>0,1,0))) | U18: =IF($B18="",0,IFERROR(MATCH($B18&"|"&M$7,Shifts!$K$8:$K$5007,0),0)) | V18: =IF($B18="",0,IFERROR(MATCH($B18&"|"&N$7,Shifts!$K$8:$K$5007,0),0)) | W18: =IF($B18="",0,IFERROR(MATCH($B18&"|"&O$7,Shifts!$K$8:$K$5007,0),0)) | X18: =IF($B18="",0,IFERROR(MATCH($B18&"|"&P$7,Shifts!$K$8:$K$5007,0),0)) | Y18: =IF($B18="",0,IFERROR(MATCH($B18&"|"&Q$7,Shifts!$K$8:$K$5007,0),0)) | Z18: =IF($B18="",0,IFERROR(MATCH($B18&"|"&R$7,Shifts!$K$8:$K$5007,0),0)) | AA18: =IF($B18="",0,IFERROR(MATCH($B18&"|"&S$7,Shifts!$K$8:$K$5007,0),0)) | AC18: =IF($B18="",0,SUMPRODUCT(MAX((Leave!$A$8:$A$507=$B18)*(Leave!$C$8:$C$507<=M$7)*(Leave!$D$8:$D$507>=M$7)*ROW(Leave!$A$8:$A$507)))) | AD18: =IF($B18="",0,SUMPRODUCT(MAX((Leave!$A$8:$A$507=$B18)*(Leave!$C$8:$C$507<=N$7)*(Leave!$D$8:$D$507>=N$7)*ROW(Leave!$A$8:$A$507)))) | AE18: =IF($B18="",0,SUMPRODUCT(MAX((Leave!$A$8:$A$507=$B18)*(Leave!$C$8:$C$507<=O$7)*(Leave!$D$8:$D$507>=O$7)*ROW(Leave!$A$8:$A$507)))) | AF18: =IF($B18="",0,SUMPRODUCT(MAX((Leave!$A$8:$A$507=$B18)*(Leave!$C$8:$C$507<=P$7)*(Leave!$D$8:$D$507>=P$7)*ROW(Leave!$A$8:$A$507)))) | AG18: =IF($B18="",0,SUMPRODUCT(MAX((Leave!$A$8:$A$507=$B18)*(Leave!$C$8:$C$507<=Q$7)*(Leave!$D$8:$D$507>=Q$7)*ROW(Leave!$A$8:$A$507)))) | AH18: =IF($B18="",0,SUMPRODUCT(MAX((Leave!$A$8:$A$507=$B18)*(Leave!$C$8:$C$507<=R$7)*(Leave!$D$8:$D$507>=R$7)*ROW(Leave!$A$8:$A$507)))) | AI18: =IF($B18="",0,SUMPRODUCT(MAX((Leave!$A$8:$A$507=$B18)*(Leave!$C$8:$C$507<=S$7)*(Leave!$D$8:$D$507>=S$7)*ROW(Leave!$A$8:$A$507))))
B19: =IF(Staff!$A$14="","",Staff!$A$14) | C19: =IF(Staff!$A$14="","",Staff!$B$14&"") | D19: =IF(M19=0,"",IF(M19>1,INDEX(Lang!$B$90:$B$92,M19-1),INDEX(Shifts!$C$8:$C$5007,U19)&CHAR(10)&HOUR(INDEX(Shifts!$H$8:$H$5007,U19))&":"&RIGHT("0"&MINUTE(INDEX(Shifts!$H$8:$H$5007,U19)),2)&"–"&HOUR(INDEX(Shifts!$I$8:$I$5007,U19))&":"&RIGHT("0"&MINUTE(INDEX(Shifts!$I$8:$I$5007,U19)),2))) | E19: =IF(N19=0,"",IF(N19>1,INDEX(Lang!$B$90:$B$92,N19-1),INDEX(Shifts!$C$8:$C$5007,V19)&CHAR(10)&HOUR(INDEX(Shifts!$H$8:$H$5007,V19))&":"&RIGHT("0"&MINUTE(INDEX(Shifts!$H$8:$H$5007,V19)),2)&"–"&HOUR(INDEX(Shifts!$I$8:$I$5007,V19))&":"&RIGHT("0"&MINUTE(INDEX(Shifts!$I$8:$I$5007,V19)),2))) | F19: =IF(O19=0,"",IF(O19>1,INDEX(Lang!$B$90:$B$92,O19-1),INDEX(Shifts!$C$8:$C$5007,W19)&CHAR(10)&HOUR(INDEX(Shifts!$H$8:$H$5007,W19))&":"&RIGHT("0"&MINUTE(INDEX(Shifts!$H$8:$H$5007,W19)),2)&"–"&HOUR(INDEX(Shifts!$I$8:$I$5007,W19))&":"&RIGHT("0"&MINUTE(INDEX(Shifts!$I$8:$I$5007,W19)),2))) | G19: =IF(P19=0,"",IF(P19>1,INDEX(Lang!$B$90:$B$92,P19-1),INDEX(Shifts!$C$8:$C$5007,X19)&CHAR(10)&HOUR(INDEX(Shifts!$H$8:$H$5007,X19))&":"&RIGHT("0"&MINUTE(INDEX(Shifts!$H$8:$H$5007,X19)),2)&"–"&HOUR(INDEX(Shifts!$I$8:$I$5007,X19))&":"&RIGHT("0"&MINUTE(INDEX(Shifts!$I$8:$I$5007,X19)),2))) | H19: =IF(Q19=0,"",IF(Q19>1,INDEX(Lang!$B$90:$B$92,Q19-1),INDEX(Shifts!$C$8:$C$5007,Y19)&CHAR(10)&HOUR(INDEX(Shifts!$H$8:$H$5007,Y19))&":"&RIGHT("0"&MINUTE(INDEX(Shifts!$H$8:$H$5007,Y19)),2)&"–"&HOUR(INDEX(Shifts!$I$8:$I$5007,Y19))&":"&RIGHT("0"&MINUTE(INDEX(Shifts!$I$8:$I$5007,Y19)),2))) | I19: =IF(R19=0,"",IF(R19>1,INDEX(Lang!$B$90:$B$92,R19-1),INDEX(Shifts!$C$8:$C$5007,Z19)&CHAR(10)&HOUR(INDEX(Shifts!$H$8:$H$5007,Z19))&":"&RIGHT("0"&MINUTE(INDEX(Shifts!$H$8:$H$5007,Z19)),2)&"–"&HOUR(INDEX(Shifts!$I$8:$I$5007,Z19))&":"&RIGHT("0"&MINUTE(INDEX(Shifts!$I$8:$I$5007,Z19)),2))) | J19: =IF(S19=0,"",IF(S19>1,INDEX(Lang!$B$90:$B$92,S19-1),INDEX(Shifts!$C$8:$C$5007,AA19)&CHAR(10)&HOUR(INDEX(Shifts!$H$8:$H$5007,AA19))&":"&RIGHT("0"&MINUTE(INDEX(Shifts!$H$8:$H$5007,AA19)),2)&"–"&HOUR(INDEX(Shifts!$I$8:$I$5007,AA19))&":"&RIGHT("0"&MINUTE(INDEX(Shifts!$I$8:$I$5007,AA19)),2))) | K19: =IF($B19="","",SUMIFS(Shifts!$G$8:$G$5007,Shifts!$B$8:$B$5007,$B19,Shifts!$A$8:$A$5007,">="&Calc!$B$10,Shifts!$A$8:$A$5007,"<"&Calc!$B$10+7)) | M19: =IF($B19="",0,IF(AC19>0,1+MAX(1,INDEX(Leave!$G:$G,AC19)),IF(U19>0,1,0))) | N19: =IF($B19="",0,IF(AD19>0,1+MAX(1,INDEX(Leave!$G:$G,AD19)),IF(V19>0,1,0))) | O19: =IF($B19="",0,IF(AE19>0,1+MAX(1,INDEX(Leave!$G:$G,AE19)),IF(W19>0,1,0))) | P19: =IF($B19="",0,IF(AF19>0,1+MAX(1,INDEX(Leave!$G:$G,AF19)),IF(X19>0,1,0))) | Q19: =IF($B19="",0,IF(AG19>0,1+MAX(1,INDEX(Leave!$G:$G,AG19)),IF(Y19>0,1,0))) | R19: =IF($B19="",0,IF(AH19>0,1+MAX(1,INDEX(Leave!$G:$G,AH19)),IF(Z19>0,1,0))) | S19: =IF($B19="",0,IF(AI19>0,1+MAX(1,INDEX(Leave!$G:$G,AI19)),IF(AA19>0,1,0))) | U19: =IF($B19="",0,IFERROR(MATCH($B19&"|"&M$7,Shifts!$K$8:$K$5007,0),0)) | V19: =IF($B19="",0,IFERROR(MATCH($B19&"|"&N$7,Shifts!$K$8:$K$5007,0),0)) | W19: =IF($B19="",0,IFERROR(MATCH($B19&"|"&O$7,Shifts!$K$8:$K$5007,0),0)) | X19: =IF($B19="",0,IFERROR(MATCH($B19&"|"&P$7,Shifts!$K$8:$K$5007,0),0)) | Y19: =IF($B19="",0,IFERROR(MATCH($B19&"|"&Q$7,Shifts!$K$8:$K$5007,0),0)) | Z19: =IF($B19="",0,IFERROR(MATCH($B19&"|"&R$7,Shifts!$K$8:$K$5007,0),0)) | AA19: =IF($B19="",0,IFERROR(MATCH($B19&"|"&S$7,Shifts!$K$8:$K$5007,0),0)) | AC19: =IF($B19="",0,SUMPRODUCT(MAX((Leave!$A$8:$A$507=$B19)*(Leave!$C$8:$C$507<=M$7)*(Leave!$D$8:$D$507>=M$7)*ROW(Leave!$A$8:$A$507)))) | AD19: =IF($B19="",0,SUMPRODUCT(MAX((Leave!$A$8:$A$507=$B19)*(Leave!$C$8:$C$507<=N$7)*(Leave!$D$8:$D$507>=N$7)*ROW(Leave!$A$8:$A$507)))) | AE19: =IF($B19="",0,SUMPRODUCT(MAX((Leave!$A$8:$A$507=$B19)*(Leave!$C$8:$C$507<=O$7)*(Leave!$D$8:$D$507>=O$7)*ROW(Leave!$A$8:$A$507)))) | AF19: =IF($B19="",0,SUMPRODUCT(MAX((Leave!$A$8:$A$507=$B19)*(Leave!$C$8:$C$507<=P$7)*(Leave!$D$8:$D$507>=P$7)*ROW(Leave!$A$8:$A$507)))) | AG19: =IF($B19="",0,SUMPRODUCT(MAX((Leave!$A$8:$A$507=$B19)*(Leave!$C$8:$C$507<=Q$7)*(Leave!$D$8:$D$507>=Q$7)*ROW(Leave!$A$8:$A$507)))) | AH19: =IF($B19="",0,SUMPRODUCT(MAX((Leave!$A$8:$A$507=$B19)*(Leave!$C$8:$C$507<=R$7)*(Leave!$D$8:$D$507>=R$7)*ROW(Leave!$A$8:$A$507)))) | AI19: =IF($B19="",0,SUMPRODUCT(MAX((Leave!$A$8:$A$507=$B19)*(Leave!$C$8:$C$507<=S$7)*(Leave!$D$8:$D$507>=S$7)*ROW(Leave!$A$8:$A$507))))
B20: =IF(Staff!$A$15="","",Staff!$A$15) | C20: =IF(Staff!$A$15="","",Staff!$B$15&"") | D20: =IF(M20=0,"",IF(M20>1,INDEX(Lang!$B$90:$B$92,M20-1),INDEX(Shifts!$C$8:$C$5007,U20)&CHAR(10)&HOUR(INDEX(Shifts!$H$8:$H$5007,U20))&":"&RIGHT("0"&MINUTE(INDEX(Shifts!$H$8:$H$5007,U20)),2)&"–"&HOUR(INDEX(Shifts!$I$8:$I$5007,U20))&":"&RIGHT("0"&MINUTE(INDEX(Shifts!$I$8:$I$5007,U20)),2))) | E20: =IF(N20=0,"",IF(N20>1,INDEX(Lang!$B$90:$B$92,N20-1),INDEX(Shifts!$C$8:$C$5007,V20)&CHAR(10)&HOUR(INDEX(Shifts!$H$8:$H$5007,V20))&":"&RIGHT("0"&MINUTE(INDEX(Shifts!$H$8:$H$5007,V20)),2)&"–"&HOUR(INDEX(Shifts!$I$8:$I$5007,V20))&":"&RIGHT("0"&MINUTE(INDEX(Shifts!$I$8:$I$5007,V20)),2))) | F20: =IF(O20=0,"",IF(O20>1,INDEX(Lang!$B$90:$B$92,O20-1),INDEX(Shifts!$C$8:$C$5007,W20)&CHAR(10)&HOUR(INDEX(Shifts!$H$8:$H$5007,W20))&":"&RIGHT("0"&MINUTE(INDEX(Shifts!$H$8:$H$5007,W20)),2)&"–"&HOUR(INDEX(Shifts!$I$8:$I$5007,W20))&":"&RIGHT("0"&MINUTE(INDEX(Shifts!$I$8:$I$5007,W20)),2))) | G20: =IF(P20=0,"",IF(P20>1,INDEX(Lang!$B$90:$B$92,P20-1),INDEX(Shifts!$C$8:$C$5007,X20)&CHAR(10)&HOUR(INDEX(Shifts!$H$8:$H$5007,X20))&":"&RIGHT("0"&MINUTE(INDEX(Shifts!$H$8:$H$5007,X20)),2)&"–"&HOUR(INDEX(Shifts!$I$8:$I$5007,X20))&":"&RIGHT("0"&MINUTE(INDEX(Shifts!$I$8:$I$5007,X20)),2))) | H20: =IF(Q20=0,"",IF(Q20>1,INDEX(Lang!$B$90:$B$92,Q20-1),INDEX(Shifts!$C$8:$C$5007,Y20)&CHAR(10)&HOUR(INDEX(Shifts!$H$8:$H$5007,Y20))&":"&RIGHT("0"&MINUTE(INDEX(Shifts!$H$8:$H$5007,Y20)),2)&"–"&HOUR(INDEX(Shifts!$I$8:$I$5007,Y20))&":"&RIGHT("0"&MINUTE(INDEX(Shifts!$I$8:$I$5007,Y20)),2))) | I20: =IF(R20=0,"",IF(R20>1,INDEX(Lang!$B$90:$B$92,R20-1),INDEX(Shifts!$C$8:$C$5007,Z20)&CHAR(10)&HOUR(INDEX(Shifts!$H$8:$H$5007,Z20))&":"&RIGHT("0"&MINUTE(INDEX(Shifts!$H$8:$H$5007,Z20)),2)&"–"&HOUR(INDEX(Shifts!$I$8:$I$5007,Z20))&":"&RIGHT("0"&MINUTE(INDEX(Shifts!$I$8:$I$5007,Z20)),2))) | J20: =IF(S20=0,"",IF(S20>1,INDEX(Lang!$B$90:$B$92,S20-1),INDEX(Shifts!$C$8:$C$5007,AA20)&CHAR(10)&HOUR(INDEX(Shifts!$H$8:$H$5007,AA20))&":"&RIGHT("0"&MINUTE(INDEX(Shifts!$H$8:$H$5007,AA20)),2)&"–"&HOUR(INDEX(Shifts!$I$8:$I$5007,AA20))&":"&RIGHT("0"&MINUTE(INDEX(Shifts!$I$8:$I$5007,AA20)),2))) | K20: =IF($B20="","",SUMIFS(Shifts!$G$8:$G$5007,Shifts!$B$8:$B$5007,$B20,Shifts!$A$8:$A$5007,">="&Calc!$B$10,Shifts!$A$8:$A$5007,"<"&Calc!$B$10+7)) | M20: =IF($B20="",0,IF(AC20>0,1+MAX(1,INDEX(Leave!$G:$G,AC20)),IF(U20>0,1,0))) | N20: =IF($B20="",0,IF(AD20>0,1+MAX(1,INDEX(Leave!$G:$G,AD20)),IF(V20>0,1,0))) | O20: =IF($B20="",0,IF(AE20>0,1+MAX(1,INDEX(Leave!$G:$G,AE20)),IF(W20>0,1,0))) | P20: =IF($B20="",0,IF(AF20>0,1+MAX(1,INDEX(Leave!$G:$G,AF20)),IF(X20>0,1,0))) | Q20: =IF($B20="",0,IF(AG20>0,1+MAX(1,INDEX(Leave!$G:$G,AG20)),IF(Y20>0,1,0))) | R20: =IF($B20="",0,IF(AH20>0,1+MAX(1,INDEX(Leave!$G:$G,AH20)),IF(Z20>0,1,0))) | S20: =IF($B20="",0,IF(AI20>0,1+MAX(1,INDEX(Leave!$G:$G,AI20)),IF(AA20>0,1,0))) | U20: =IF($B20="",0,IFERROR(MATCH($B20&"|"&M$7,Shifts!$K$8:$K$5007,0),0)) | V20: =IF($B20="",0,IFERROR(MATCH($B20&"|"&N$7,Shifts!$K$8:$K$5007,0),0)) | W20: =IF($B20="",0,IFERROR(MATCH($B20&"|"&O$7,Shifts!$K$8:$K$5007,0),0)) | X20: =IF($B20="",0,IFERROR(MATCH($B20&"|"&P$7,Shifts!$K$8:$K$5007,0),0)) | Y20: =IF($B20="",0,IFERROR(MATCH($B20&"|"&Q$7,Shifts!$K$8:$K$5007,0),0)) | Z20: =IF($B20="",0,IFERROR(MATCH($B20&"|"&R$7,Shifts!$K$8:$K$5007,0),0)) | AA20: =IF($B20="",0,IFERROR(MATCH($B20&"|"&S$7,Shifts!$K$8:$K$5007,0),0)) | AC20: =IF($B20="",0,SUMPRODUCT(MAX((Leave!$A$8:$A$507=$B20)*(Leave!$C$8:$C$507<=M$7)*(Leave!$D$8:$D$507>=M$7)*ROW(Leave!$A$8:$A$507)))) | AD20: =IF($B20="",0,SUMPRODUCT(MAX((Leave!$A$8:$A$507=$B20)*(Leave!$C$8:$C$507<=N$7)*(Leave!$D$8:$D$507>=N$7)*ROW(Leave!$A$8:$A$507)))) | AE20: =IF($B20="",0,SUMPRODUCT(MAX((Leave!$A$8:$A$507=$B20)*(Leave!$C$8:$C$507<=O$7)*(Leave!$D$8:$D$507>=O$7)*ROW(Leave!$A$8:$A$507)))) | AF20: =IF($B20="",0,SUMPRODUCT(MAX((Leave!$A$8:$A$507=$B20)*(Leave!$C$8:$C$507<=P$7)*(Leave!$D$8:$D$507>=P$7)*ROW(Leave!$A$8:$A$507)))) | AG20: =IF($B20="",0,SUMPRODUCT(MAX((Leave!$A$8:$A$507=$B20)*(Leave!$C$8:$C$507<=Q$7)*(Leave!$D$8:$D$507>=Q$7)*ROW(Leave!$A$8:$A$507)))) | AH20: =IF($B20="",0,SUMPRODUCT(MAX((Leave!$A$8:$A$507=$B20)*(Leave!$C$8:$C$507<=R$7)*(Leave!$D$8:$D$507>=R$7)*ROW(Leave!$A$8:$A$507)))) | AI20: =IF($B20="",0,SUMPRODUCT(MAX((Leave!$A$8:$A$507=$B20)*(Leave!$C$8:$C$507<=S$7)*(Leave!$D$8:$D$507>=S$7)*ROW(Leave!$A$8:$A$507))))
B21: =IF(Staff!$A$16="","",Staff!$A$16) | C21: =IF(Staff!$A$16="","",Staff!$B$16&"") | D21: =IF(M21=0,"",IF(M21>1,INDEX(Lang!$B$90:$B$92,M21-1),INDEX(Shifts!$C$8:$C$5007,U21)&CHAR(10)&HOUR(INDEX(Shifts!$H$8:$H$5007,U21))&":"&RIGHT("0"&MINUTE(INDEX(Shifts!$H$8:$H$5007,U21)),2)&"–"&HOUR(INDEX(Shifts!$I$8:$I$5007,U21))&":"&RIGHT("0"&MINUTE(INDEX(Shifts!$I$8:$I$5007,U21)),2))) | E21: =IF(N21=0,"",IF(N21>1,INDEX(Lang!$B$90:$B$92,N21-1),INDEX(Shifts!$C$8:$C$5007,V21)&CHAR(10)&HOUR(INDEX(Shifts!$H$8:$H$5007,V21))&":"&RIGHT("0"&MINUTE(INDEX(Shifts!$H$8:$H$5007,V21)),2)&"–"&HOUR(INDEX(Shifts!$I$8:$I$5007,V21))&":"&RIGHT("0"&MINUTE(INDEX(Shifts!$I$8:$I$5007,V21)),2))) | F21: =IF(O21=0,"",IF(O21>1,INDEX(Lang!$B$90:$B$92,O21-1),INDEX(Shifts!$C$8:$C$5007,W21)&CHAR(10)&HOUR(INDEX(Shifts!$H$8:$H$5007,W21))&":"&RIGHT("0"&MINUTE(INDEX(Shifts!$H$8:$H$5007,W21)),2)&"–"&HOUR(INDEX(Shifts!$I$8:$I$5007,W21))&":"&RIGHT("0"&MINUTE(INDEX(Shifts!$I$8:$I$5007,W21)),2))) | G21: =IF(P21=0,"",IF(P21>1,INDEX(Lang!$B$90:$B$92,P21-1),INDEX(Shifts!$C$8:$C$5007,X21)&CHAR(10)&HOUR(INDEX(Shifts!$H$8:$H$5007,X21))&":"&RIGHT("0"&MINUTE(INDEX(Shifts!$H$8:$H$5007,X21)),2)&"–"&HOUR(INDEX(Shifts!$I$8:$I$5007,X21))&":"&RIGHT("0"&MINUTE(INDEX(Shifts!$I$8:$I$5007,X21)),2))) | H21: =IF(Q21=0,"",IF(Q21>1,INDEX(Lang!$B$90:$B$92,Q21-1),INDEX(Shifts!$C$8:$C$5007,Y21)&CHAR(10)&HOUR(INDEX(Shifts!$H$8:$H$5007,Y21))&":"&RIGHT("0"&MINUTE(INDEX(Shifts!$H$8:$H$5007,Y21)),2)&"–"&HOUR(INDEX(Shifts!$I$8:$I$5007,Y21))&":"&RIGHT("0"&MINUTE(INDEX(Shifts!$I$8:$I$5007,Y21)),2))) | I21: =IF(R21=0,"",IF(R21>1,INDEX(Lang!$B$90:$B$92,R21-1),INDEX(Shifts!$C$8:$C$5007,Z21)&CHAR(10)&HOUR(INDEX(Shifts!$H$8:$H$5007,Z21))&":"&RIGHT("0"&MINUTE(INDEX(Shifts!$H$8:$H$5007,Z21)),2)&"–"&HOUR(INDEX(Shifts!$I$8:$I$5007,Z21))&":"&RIGHT("0"&MINUTE(INDEX(Shifts!$I$8:$I$5007,Z21)),2))) | J21: =IF(S21=0,"",IF(S21>1,INDEX(Lang!$B$90:$B$92,S21-1),INDEX(Shifts!$C$8:$C$5007,AA21)&CHAR(10)&HOUR(INDEX(Shifts!$H$8:$H$5007,AA21))&":"&RIGHT("0"&MINUTE(INDEX(Shifts!$H$8:$H$5007,AA21)),2)&"–"&HOUR(INDEX(Shifts!$I$8:$I$5007,AA21))&":"&RIGHT("0"&MINUTE(INDEX(Shifts!$I$8:$I$5007,AA21)),2))) | K21: =IF($B21="","",SUMIFS(Shifts!$G$8:$G$5007,Shifts!$B$8:$B$5007,$B21,Shifts!$A$8:$A$5007,">="&Calc!$B$10,Shifts!$A$8:$A$5007,"<"&Calc!$B$10+7)) | M21: =IF($B21="",0,IF(AC21>0,1+MAX(1,INDEX(Leave!$G:$G,AC21)),IF(U21>0,1,0))) | N21: =IF($B21="",0,IF(AD21>0,1+MAX(1,INDEX(Leave!$G:$G,AD21)),IF(V21>0,1,0))) | O21: =IF($B21="",0,IF(AE21>0,1+MAX(1,INDEX(Leave!$G:$G,AE21)),IF(W21>0,1,0))) | P21: =IF($B21="",0,IF(AF21>0,1+MAX(1,INDEX(Leave!$G:$G,AF21)),IF(X21>0,1,0))) | Q21: =IF($B21="",0,IF(AG21>0,1+MAX(1,INDEX(Leave!$G:$G,AG21)),IF(Y21>0,1,0))) | R21: =IF($B21="",0,IF(AH21>0,1+MAX(1,INDEX(Leave!$G:$G,AH21)),IF(Z21>0,1,0))) | S21: =IF($B21="",0,IF(AI21>0,1+MAX(1,INDEX(Leave!$G:$G,AI21)),IF(AA21>0,1,0))) | U21: =IF($B21="",0,IFERROR(MATCH($B21&"|"&M$7,Shifts!$K$8:$K$5007,0),0)) | V21: =IF($B21="",0,IFERROR(MATCH($B21&"|"&N$7,Shifts!$K$8:$K$5007,0),0)) | W21: =IF($B21="",0,IFERROR(MATCH($B21&"|"&O$7,Shifts!$K$8:$K$5007,0),0)) | X21: =IF($B21="",0,IFERROR(MATCH($B21&"|"&P$7,Shifts!$K$8:$K$5007,0),0)) | Y21: =IF($B21="",0,IFERROR(MATCH($B21&"|"&Q$7,Shifts!$K$8:$K$5007,0),0)) | Z21: =IF($B21="",0,IFERROR(MATCH($B21&"|"&R$7,Shifts!$K$8:$K$5007,0),0)) | AA21: =IF($B21="",0,IFERROR(MATCH($B21&"|"&S$7,Shifts!$K$8:$K$5007,0),0)) | AC21: =IF($B21="",0,SUMPRODUCT(MAX((Leave!$A$8:$A$507=$B21)*(Leave!$C$8:$C$507<=M$7)*(Leave!$D$8:$D$507>=M$7)*ROW(Leave!$A$8:$A$507)))) | AD21: =IF($B21="",0,SUMPRODUCT(MAX((Leave!$A$8:$A$507=$B21)*(Leave!$C$8:$C$507<=N$7)*(Leave!$D$8:$D$507>=N$7)*ROW(Leave!$A$8:$A$507)))) | AE21: =IF($B21="",0,SUMPRODUCT(MAX((Leave!$A$8:$A$507=$B21)*(Leave!$C$8:$C$507<=O$7)*(Leave!$D$8:$D$507>=O$7)*ROW(Leave!$A$8:$A$507)))) | AF21: =IF($B21="",0,SUMPRODUCT(MAX((Leave!$A$8:$A$507=$B21)*(Leave!$C$8:$C$507<=P$7)*(Leave!$D$8:$D$507>=P$7)*ROW(Leave!$A$8:$A$507)))) | AG21: =IF($B21="",0,SUMPRODUCT(MAX((Leave!$A$8:$A$507=$B21)*(Leave!$C$8:$C$507<=Q$7)*(Leave!$D$8:$D$507>=Q$7)*ROW(Leave!$A$8:$A$507)))) | AH21: =IF($B21="",0,SUMPRODUCT(MAX((Leave!$A$8:$A$507=$B21)*(Leave!$C$8:$C$507<=R$7)*(Leave!$D$8:$D$507>=R$7)*ROW(Leave!$A$8:$A$507)))) | AI21: =IF($B21="",0,SUMPRODUCT(MAX((Leave!$A$8:$A$507=$B21)*(Leave!$C$8:$C$507<=S$7)*(Leave!$D$8:$D$507>=S$7)*ROW(Leave!$A$8:$A$507))))
B22: =IF(Staff!$A$17="","",Staff!$A$17) | C22: =IF(Staff!$A$17="","",Staff!$B$17&"") | D22: =IF(M22=0,"",IF(M22>1,INDEX(Lang!$B$90:$B$92,M22-1),INDEX(Shifts!$C$8:$C$5007,U22)&CHAR(10)&HOUR(INDEX(Shifts!$H$8:$H$5007,U22))&":"&RIGHT("0"&MINUTE(INDEX(Shifts!$H$8:$H$5007,U22)),2)&"–"&HOUR(INDEX(Shifts!$I$8:$I$5007,U22))&":"&RIGHT("0"&MINUTE(INDEX(Shifts!$I$8:$I$5007,U22)),2))) | E22: =IF(N22=0,"",IF(N22>1,INDEX(Lang!$B$90:$B$92,N22-1),INDEX(Shifts!$C$8:$C$5007,V22)&CHAR(10)&HOUR(INDEX(Shifts!$H$8:$H$5007,V22))&":"&RIGHT("0"&MINUTE(INDEX(Shifts!$H$8:$H$5007,V22)),2)&"–"&HOUR(INDEX(Shifts!$I$8:$I$5007,V22))&":"&RIGHT("0"&MINUTE(INDEX(Shifts!$I$8:$I$5007,V22)),2))) | F22: =IF(O22=0,"",IF(O22>1,INDEX(Lang!$B$90:$B$92,O22-1),INDEX(Shifts!$C$8:$C$5007,W22)&CHAR(10)&HOUR(INDEX(Shifts!$H$8:$H$5007,W22))&":"&RIGHT("0"&MINUTE(INDEX(Shifts!$H$8:$H$5007,W22)),2)&"–"&HOUR(INDEX(Shifts!$I$8:$I$5007,W22))&":"&RIGHT("0"&MINUTE(INDEX(Shifts!$I$8:$I$5007,W22)),2))) | G22: =IF(P22=0,"",IF(P22>1,INDEX(Lang!$B$90:$B$92,P22-1),INDEX(Shifts!$C$8:$C$5007,X22)&CHAR(10)&HOUR(INDEX(Shifts!$H$8:$H$5007,X22))&":"&RIGHT("0"&MINUTE(INDEX(Shifts!$H$8:$H$5007,X22)),2)&"–"&HOUR(INDEX(Shifts!$I$8:$I$5007,X22))&":"&RIGHT("0"&MINUTE(INDEX(Shifts!$I$8:$I$5007,X22)),2))) | H22: =IF(Q22=0,"",IF(Q22>1,INDEX(Lang!$B$90:$B$92,Q22-1),INDEX(Shifts!$C$8:$C$5007,Y22)&CHAR(10)&HOUR(INDEX(Shifts!$H$8:$H$5007,Y22))&":"&RIGHT("0"&MINUTE(INDEX(Shifts!$H$8:$H$5007,Y22)),2)&"–"&HOUR(INDEX(Shifts!$I$8:$I$5007,Y22))&":"&RIGHT("0"&MINUTE(INDEX(Shifts!$I$8:$I$5007,Y22)),2))) | I22: =IF(R22=0,"",IF(R22>1,INDEX(Lang!$B$90:$B$92,R22-1),INDEX(Shifts!$C$8:$C$5007,Z22)&CHAR(10)&HOUR(INDEX(Shifts!$H$8:$H$5007,Z22))&":"&RIGHT("0"&MINUTE(INDEX(Shifts!$H$8:$H$5007,Z22)),2)&"–"&HOUR(INDEX(Shifts!$I$8:$I$5007,Z22))&":"&RIGHT("0"&MINUTE(INDEX(Shifts!$I$8:$I$5007,Z22)),2))) | J22: =IF(S22=0,"",IF(S22>1,INDEX(Lang!$B$90:$B$92,S22-1),INDEX(Shifts!$C$8:$C$5007,AA22)&CHAR(10)&HOUR(INDEX(Shifts!$H$8:$H$5007,AA22))&":"&RIGHT("0"&MINUTE(INDEX(Shifts!$H$8:$H$5007,AA22)),2)&"–"&HOUR(INDEX(Shifts!$I$8:$I$5007,AA22))&":"&RIGHT("0"&MINUTE(INDEX(Shifts!$I$8:$I$5007,AA22)),2))) | K22: =IF($B22="","",SUMIFS(Shifts!$G$8:$G$5007,Shifts!$B$8:$B$5007,$B22,Shifts!$A$8:$A$5007,">="&Calc!$B$10,Shifts!$A$8:$A$5007,"<"&Calc!$B$10+7)) | M22: =IF($B22="",0,IF(AC22>0,1+MAX(1,INDEX(Leave!$G:$G,AC22)),IF(U22>0,1,0))) | N22: =IF($B22="",0,IF(AD22>0,1+MAX(1,INDEX(Leave!$G:$G,AD22)),IF(V22>0,1,0))) | O22: =IF($B22="",0,IF(AE22>0,1+MAX(1,INDEX(Leave!$G:$G,AE22)),IF(W22>0,1,0))) | P22: =IF($B22="",0,IF(AF22>0,1+MAX(1,INDEX(Leave!$G:$G,AF22)),IF(X22>0,1,0))) | Q22: =IF($B22="",0,IF(AG22>0,1+MAX(1,INDEX(Leave!$G:$G,AG22)),IF(Y22>0,1,0))) | R22: =IF($B22="",0,IF(AH22>0,1+MAX(1,INDEX(Leave!$G:$G,AH22)),IF(Z22>0,1,0))) | S22: =IF($B22="",0,IF(AI22>0,1+MAX(1,INDEX(Leave!$G:$G,AI22)),IF(AA22>0,1,0))) | U22: =IF($B22="",0,IFERROR(MATCH($B22&"|"&M$7,Shifts!$K$8:$K$5007,0),0)) | V22: =IF($B22="",0,IFERROR(MATCH($B22&"|"&N$7,Shifts!$K$8:$K$5007,0),0)) | W22: =IF($B22="",0,IFERROR(MATCH($B22&"|"&O$7,Shifts!$K$8:$K$5007,0),0)) | X22: =IF($B22="",0,IFERROR(MATCH($B22&"|"&P$7,Shifts!$K$8:$K$5007,0),0)) | Y22: =IF($B22="",0,IFERROR(MATCH($B22&"|"&Q$7,Shifts!$K$8:$K$5007,0),0)) | Z22: =IF($B22="",0,IFERROR(MATCH($B22&"|"&R$7,Shifts!$K$8:$K$5007,0),0)) | AA22: =IF($B22="",0,IFERROR(MATCH($B22&"|"&S$7,Shifts!$K$8:$K$5007,0),0)) | AC22: =IF($B22="",0,SUMPRODUCT(MAX((Leave!$A$8:$A$507=$B22)*(Leave!$C$8:$C$507<=M$7)*(Leave!$D$8:$D$507>=M$7)*ROW(Leave!$A$8:$A$507)))) | AD22: =IF($B22="",0,SUMPRODUCT(MAX((Leave!$A$8:$A$507=$B22)*(Leave!$C$8:$C$507<=N$7)*(Leave!$D$8:$D$507>=N$7)*ROW(Leave!$A$8:$A$507)))) | AE22: =IF($B22="",0,SUMPRODUCT(MAX((Leave!$A$8:$A$507=$B22)*(Leave!$C$8:$C$507<=O$7)*(Leave!$D$8:$D$507>=O$7)*ROW(Leave!$A$8:$A$507)))) | AF22: =IF($B22="",0,SUMPRODUCT(MAX((Leave!$A$8:$A$507=$B22)*(Leave!$C$8:$C$507<=P$7)*(Leave!$D$8:$D$507>=P$7)*ROW(Leave!$A$8:$A$507)))) | AG22: =IF($B22="",0,SUMPRODUCT(MAX((Leave!$A$8:$A$507=$B22)*(Leave!$C$8:$C$507<=Q$7)*(Leave!$D$8:$D$507>=Q$7)*ROW(Leave!$A$8:$A$507)))) | AH22: =IF($B22="",0,SUMPRODUCT(MAX((Leave!$A$8:$A$507=$B22)*(Leave!$C$8:$C$507<=R$7)*(Leave!$D$8:$D$507>=R$7)*ROW(Leave!$A$8:$A$507)))) | AI22: =IF($B22="",0,SUMPRODUCT(MAX((Leave!$A$8:$A$507=$B22)*(Leave!$C$8:$C$507<=S$7)*(Leave!$D$8:$D$507>=S$7)*ROW(Leave!$A$8:$A$507))))
B23: =IF(Staff!$A$18="","",Staff!$A$18) | C23: =IF(Staff!$A$18="","",Staff!$B$18&"") | D23: =IF(M23=0,"",IF(M23>1,INDEX(Lang!$B$90:$B$92,M23-1),INDEX(Shifts!$C$8:$C$5007,U23)&CHAR(10)&HOUR(INDEX(Shifts!$H$8:$H$5007,U23))&":"&RIGHT("0"&MINUTE(INDEX(Shifts!$H$8:$H$5007,U23)),2)&"–"&HOUR(INDEX(Shifts!$I$8:$I$5007,U23))&":"&RIGHT("0"&MINUTE(INDEX(Shifts!$I$8:$I$5007,U23)),2))) | E23: =IF(N23=0,"",IF(N23>1,INDEX(Lang!$B$90:$B$92,N23-1),INDEX(Shifts!$C$8:$C$5007,V23)&CHAR(10)&HOUR(INDEX(Shifts!$H$8:$H$5007,V23))&":"&RIGHT("0"&MINUTE(INDEX(Shifts!$H$8:$H$5007,V23)),2)&"–"&HOUR(INDEX(Shifts!$I$8:$I$5007,V23))&":"&RIGHT("0"&MINUTE(INDEX(Shifts!$I$8:$I$5007,V23)),2))) | F23: =IF(O23=0,"",IF(O23>1,INDEX(Lang!$B$90:$B$92,O23-1),INDEX(Shifts!$C$8:$C$5007,W23)&CHAR(10)&HOUR(INDEX(Shifts!$H$8:$H$5007,W23))&":"&RIGHT("0"&MINUTE(INDEX(Shifts!$H$8:$H$5007,W23)),2)&"–"&HOUR(INDEX(Shifts!$I$8:$I$5007,W23))&":"&RIGHT("0"&MINUTE(INDEX(Shifts!$I$8:$I$5007,W23)),2))) | G23: =IF(P23=0,"",IF(P23>1,INDEX(Lang!$B$90:$B$92,P23-1),INDEX(Shifts!$C$8:$C$5007,X23)&CHAR(10)&HOUR(INDEX(Shifts!$H$8:$H$5007,X23))&":"&RIGHT("0"&MINUTE(INDEX(Shifts!$H$8:$H$5007,X23)),2)&"–"&HOUR(INDEX(Shifts!$I$8:$I$5007,X23))&":"&RIGHT("0"&MINUTE(INDEX(Shifts!$I$8:$I$5007,X23)),2))) | H23: =IF(Q23=0,"",IF(Q23>1,INDEX(Lang!$B$90:$B$92,Q23-1),INDEX(Shifts!$C$8:$C$5007,Y23)&CHAR(10)&HOUR(INDEX(Shifts!$H$8:$H$5007,Y23))&":"&RIGHT("0"&MINUTE(INDEX(Shifts!$H$8:$H$5007,Y23)),2)&"–"&HOUR(INDEX(Shifts!$I$8:$I$5007,Y23))&":"&RIGHT("0"&MINUTE(INDEX(Shifts!$I$8:$I$5007,Y23)),2))) | I23: =IF(R23=0,"",IF(R23>1,INDEX(Lang!$B$90:$B$92,R23-1),INDEX(Shifts!$C$8:$C$5007,Z23)&CHAR(10)&HOUR(INDEX(Shifts!$H$8:$H$5007,Z23))&":"&RIGHT("0"&MINUTE(INDEX(Shifts!$H$8:$H$5007,Z23)),2)&"–"&HOUR(INDEX(Shifts!$I$8:$I$5007,Z23))&":"&RIGHT("0"&MINUTE(INDEX(Shifts!$I$8:$I$5007,Z23)),2))) | J23: =IF(S23=0,"",IF(S23>1,INDEX(Lang!$B$90:$B$92,S23-1),INDEX(Shifts!$C$8:$C$5007,AA23)&CHAR(10)&HOUR(INDEX(Shifts!$H$8:$H$5007,AA23))&":"&RIGHT("0"&MINUTE(INDEX(Shifts!$H$8:$H$5007,AA23)),2)&"–"&HOUR(INDEX(Shifts!$I$8:$I$5007,AA23))&":"&RIGHT("0"&MINUTE(INDEX(Shifts!$I$8:$I$5007,AA23)),2))) | K23: =IF($B23="","",SUMIFS(Shifts!$G$8:$G$5007,Shifts!$B$8:$B$5007,$B23,Shifts!$A$8:$A$5007,">="&Calc!$B$10,Shifts!$A$8:$A$5007,"<"&Calc!$B$10+7)) | M23: =IF($B23="",0,IF(AC23>0,1+MAX(1,INDEX(Leave!$G:$G,AC23)),IF(U23>0,1,0))) | N23: =IF($B23="",0,IF(AD23>0,1+MAX(1,INDEX(Leave!$G:$G,AD23)),IF(V23>0,1,0))) | O23: =IF($B23="",0,IF(AE23>0,1+MAX(1,INDEX(Leave!$G:$G,AE23)),IF(W23>0,1,0))) | P23: =IF($B23="",0,IF(AF23>0,1+MAX(1,INDEX(Leave!$G:$G,AF23)),IF(X23>0,1,0))) | Q23: =IF($B23="",0,IF(AG23>0,1+MAX(1,INDEX(Leave!$G:$G,AG23)),IF(Y23>0,1,0))) | R23: =IF($B23="",0,IF(AH23>0,1+MAX(1,INDEX(Leave!$G:$G,AH23)),IF(Z23>0,1,0))) | S23: =IF($B23="",0,IF(AI23>0,1+MAX(1,INDEX(Leave!$G:$G,AI23)),IF(AA23>0,1,0))) | U23: =IF($B23="",0,IFERROR(MATCH($B23&"|"&M$7,Shifts!$K$8:$K$5007,0),0)) | V23: =IF($B23="",0,IFERROR(MATCH($B23&"|"&N$7,Shifts!$K$8:$K$5007,0),0)) | W23: =IF($B23="",0,IFERROR(MATCH($B23&"|"&O$7,Shifts!$K$8:$K$5007,0),0)) | X23: =IF($B23="",0,IFERROR(MATCH($B23&"|"&P$7,Shifts!$K$8:$K$5007,0),0)) | Y23: =IF($B23="",0,IFERROR(MATCH($B23&"|"&Q$7,Shifts!$K$8:$K$5007,0),0)) | Z23: =IF($B23="",0,IFERROR(MATCH($B23&"|"&R$7,Shifts!$K$8:$K$5007,0),0)) | AA23: =IF($B23="",0,IFERROR(MATCH($B23&"|"&S$7,Shifts!$K$8:$K$5007,0),0)) | AC23: =IF($B23="",0,SUMPRODUCT(MAX((Leave!$A$8:$A$507=$B23)*(Leave!$C$8:$C$507<=M$7)*(Leave!$D$8:$D$507>=M$7)*ROW(Leave!$A$8:$A$507)))) | AD23: =IF($B23="",0,SUMPRODUCT(MAX((Leave!$A$8:$A$507=$B23)*(Leave!$C$8:$C$507<=N$7)*(Leave!$D$8:$D$507>=N$7)*ROW(Leave!$A$8:$A$507)))) | AE23: =IF($B23="",0,SUMPRODUCT(MAX((Leave!$A$8:$A$507=$B23)*(Leave!$C$8:$C$507<=O$7)*(Leave!$D$8:$D$507>=O$7)*ROW(Leave!$A$8:$A$507)))) | AF23: =IF($B23="",0,SUMPRODUCT(MAX((Leave!$A$8:$A$507=$B23)*(Leave!$C$8:$C$507<=P$7)*(Leave!$D$8:$D$507>=P$7)*ROW(Leave!$A$8:$A$507)))) | AG23: =IF($B23="",0,SUMPRODUCT(MAX((Leave!$A$8:$A$507=$B23)*(Leave!$C$8:$C$507<=Q$7)*(Leave!$D$8:$D$507>=Q$7)*ROW(Leave!$A$8:$A$507)))) | AH23: =IF($B23="",0,SUMPRODUCT(MAX((Leave!$A$8:$A$507=$B23)*(Leave!$C$8:$C$507<=R$7)*(Leave!$D$8:$D$507>=R$7)*ROW(Leave!$A$8:$A$507)))) | AI23: =IF($B23="",0,SUMPRODUCT(MAX((Leave!$A$8:$A$507=$B23)*(Leave!$C$8:$C$507<=S$7)*(Leave!$D$8:$D$507>=S$7)*ROW(Leave!$A$8:$A$507))))
B24: =IF(Staff!$A$19="","",Staff!$A$19) | C24: =IF(Staff!$A$19="","",Staff!$B$19&"") | D24: =IF(M24=0,"",IF(M24>1,INDEX(Lang!$B$90:$B$92,M24-1),INDEX(Shifts!$C$8:$C$5007,U24)&CHAR(10)&HOUR(INDEX(Shifts!$H$8:$H$5007,U24))&":"&RIGHT("0"&MINUTE(INDEX(Shifts!$H$8:$H$5007,U24)),2)&"–"&HOUR(INDEX(Shifts!$I$8:$I$5007,U24))&":"&RIGHT("0"&MINUTE(INDEX(Shifts!$I$8:$I$5007,U24)),2))) | E24: =IF(N24=0,"",IF(N24>1,INDEX(Lang!$B$90:$B$92,N24-1),INDEX(Shifts!$C$8:$C$5007,V24)&CHAR(10)&HOUR(INDEX(Shifts!$H$8:$H$5007,V24))&":"&RIGHT("0"&MINUTE(INDEX(Shifts!$H$8:$H$5007,V24)),2)&"–"&HOUR(INDEX(Shifts!$I$8:$I$5007,V24))&":"&RIGHT("0"&MINUTE(INDEX(Shifts!$I$8:$I$5007,V24)),2))) | F24: =IF(O24=0,"",IF(O24>1,INDEX(Lang!$B$90:$B$92,O24-1),INDEX(Shifts!$C$8:$C$5007,W24)&CHAR(10)&HOUR(INDEX(Shifts!$H$8:$H$5007,W24))&":"&RIGHT("0"&MINUTE(INDEX(Shifts!$H$8:$H$5007,W24)),2)&"–"&HOUR(INDEX(Shifts!$I$8:$I$5007,W24))&":"&RIGHT("0"&MINUTE(INDEX(Shifts!$I$8:$I$5007,W24)),2))) | G24: =IF(P24=0,"",IF(P24>1,INDEX(Lang!$B$90:$B$92,P24-1),INDEX(Shifts!$C$8:$C$5007,X24)&CHAR(10)&HOUR(INDEX(Shifts!$H$8:$H$5007,X24))&":"&RIGHT("0"&MINUTE(INDEX(Shifts!$H$8:$H$5007,X24)),2)&"–"&HOUR(INDEX(Shifts!$I$8:$I$5007,X24))&":"&RIGHT("0"&MINUTE(INDEX(Shifts!$I$8:$I$5007,X24)),2))) | H24: =IF(Q24=0,"",IF(Q24>1,INDEX(Lang!$B$90:$B$92,Q24-1),INDEX(Shifts!$C$8:$C$5007,Y24)&CHAR(10)&HOUR(INDEX(Shifts!$H$8:$H$5007,Y24))&":"&RIGHT("0"&MINUTE(INDEX(Shifts!$H$8:$H$5007,Y24)),2)&"–"&HOUR(INDEX(Shifts!$I$8:$I$5007,Y24))&":"&RIGHT("0"&MINUTE(INDEX(Shifts!$I$8:$I$5007,Y24)),2))) | I24: =IF(R24=0,"",IF(R24>1,INDEX(Lang!$B$90:$B$92,R24-1),INDEX(Shifts!$C$8:$C$5007,Z24)&CHAR(10)&HOUR(INDEX(Shifts!$H$8:$H$5007,Z24))&":"&RIGHT("0"&MINUTE(INDEX(Shifts!$H$8:$H$5007,Z24)),2)&"–"&HOUR(INDEX(Shifts!$I$8:$I$5007,Z24))&":"&RIGHT("0"&MINUTE(INDEX(Shifts!$I$8:$I$5007,Z24)),2))) | J24: =IF(S24=0,"",IF(S24>1,INDEX(Lang!$B$90:$B$92,S24-1),INDEX(Shifts!$C$8:$C$5007,AA24)&CHAR(10)&HOUR(INDEX(Shifts!$H$8:$H$5007,AA24))&":"&RIGHT("0"&MINUTE(INDEX(Shifts!$H$8:$H$5007,AA24)),2)&"–"&HOUR(INDEX(Shifts!$I$8:$I$5007,AA24))&":"&RIGHT("0"&MINUTE(INDEX(Shifts!$I$8:$I$5007,AA24)),2))) | K24: =IF($B24="","",SUMIFS(Shifts!$G$8:$G$5007,Shifts!$B$8:$B$5007,$B24,Shifts!$A$8:$A$5007,">="&Calc!$B$10,Shifts!$A$8:$A$5007,"<"&Calc!$B$10+7)) | M24: =IF($B24="",0,IF(AC24>0,1+MAX(1,INDEX(Leave!$G:$G,AC24)),IF(U24>0,1,0))) | N24: =IF($B24="",0,IF(AD24>0,1+MAX(1,INDEX(Leave!$G:$G,AD24)),IF(V24>0,1,0))) | O24: =IF($B24="",0,IF(AE24>0,1+MAX(1,INDEX(Leave!$G:$G,AE24)),IF(W24>0,1,0))) | P24: =IF($B24="",0,IF(AF24>0,1+MAX(1,INDEX(Leave!$G:$G,AF24)),IF(X24>0,1,0))) | Q24: =IF($B24="",0,IF(AG24>0,1+MAX(1,INDEX(Leave!$G:$G,AG24)),IF(Y24>0,1,0))) | R24: =IF($B24="",0,IF(AH24>0,1+MAX(1,INDEX(Leave!$G:$G,AH24)),IF(Z24>0,1,0))) | S24: =IF($B24="",0,IF(AI24>0,1+MAX(1,INDEX(Leave!$G:$G,AI24)),IF(AA24>0,1,0))) | U24: =IF($B24="",0,IFERROR(MATCH($B24&"|"&M$7,Shifts!$K$8:$K$5007,0),0)) | V24: =IF($B24="",0,IFERROR(MATCH($B24&"|"&N$7,Shifts!$K$8:$K$5007,0),0)) | W24: =IF($B24="",0,IFERROR(MATCH($B24&"|"&O$7,Shifts!$K$8:$K$5007,0),0)) | X24: =IF($B24="",0,IFERROR(MATCH($B24&"|"&P$7,Shifts!$K$8:$K$5007,0),0)) | Y24: =IF($B24="",0,IFERROR(MATCH($B24&"|"&Q$7,Shifts!$K$8:$K$5007,0),0)) | Z24: =IF($B24="",0,IFERROR(MATCH($B24&"|"&R$7,Shifts!$K$8:$K$5007,0),0)) | AA24: =IF($B24="",0,IFERROR(MATCH($B24&"|"&S$7,Shifts!$K$8:$K$5007,0),0)) | AC24: =IF($B24="",0,SUMPRODUCT(MAX((Leave!$A$8:$A$507=$B24)*(Leave!$C$8:$C$507<=M$7)*(Leave!$D$8:$D$507>=M$7)*ROW(Leave!$A$8:$A$507)))) | AD24: =IF($B24="",0,SUMPRODUCT(MAX((Leave!$A$8:$A$507=$B24)*(Leave!$C$8:$C$507<=N$7)*(Leave!$D$8:$D$507>=N$7)*ROW(Leave!$A$8:$A$507)))) | AE24: =IF($B24="",0,SUMPRODUCT(MAX((Leave!$A$8:$A$507=$B24)*(Leave!$C$8:$C$507<=O$7)*(Leave!$D$8:$D$507>=O$7)*ROW(Leave!$A$8:$A$507)))) | AF24: =IF($B24="",0,SUMPRODUCT(MAX((Leave!$A$8:$A$507=$B24)*(Leave!$C$8:$C$507<=P$7)*(Leave!$D$8:$D$507>=P$7)*ROW(Leave!$A$8:$A$507)))) | AG24: =IF($B24="",0,SUMPRODUCT(MAX((Leave!$A$8:$A$507=$B24)*(Leave!$C$8:$C$507<=Q$7)*(Leave!$D$8:$D$507>=Q$7)*ROW(Leave!$A$8:$A$507)))) | AH24: =IF($B24="",0,SUMPRODUCT(MAX((Leave!$A$8:$A$507=$B24)*(Leave!$C$8:$C$507<=R$7)*(Leave!$D$8:$D$507>=R$7)*ROW(Leave!$A$8:$A$507)))) | AI24: =IF($B24="",0,SUMPRODUCT(MAX((Leave!$A$8:$A$507=$B24)*(Leave!$C$8:$C$507<=S$7)*(Leave!$D$8:$D$507>=S$7)*ROW(Leave!$A$8:$A$507))))
